BEGIN:VCALENDAR
VERSION:2.0
PRODID:-//Englewood Review - ECPv6.15.15//NONSGML v1.0//EN
CALSCALE:GREGORIAN
METHOD:PUBLISH
X-WR-CALNAME:Englewood Review
X-ORIGINAL-URL:https://englewoodreview.com
X-WR-CALDESC:Events for Englewood Review
REFRESH-INTERVAL;VALUE=DURATION:PT1H
X-Robots-Tag:noindex
X-PUBLISHED-TTL:PT1H
BEGIN:VTIMEZONE
TZID:America/Halifax
BEGIN:DAYLIGHT
TZOFFSETFROM:-0400
TZOFFSETTO:-0300
TZNAME:ADT
DTSTART:20250309T060000
END:DAYLIGHT
BEGIN:STANDARD
TZOFFSETFROM:-0300
TZOFFSETTO:-0400
TZNAME:AST
DTSTART:20251102T050000
END:STANDARD
BEGIN:DAYLIGHT
TZOFFSETFROM:-0400
TZOFFSETTO:-0300
TZNAME:ADT
DTSTART:20260308T060000
END:DAYLIGHT
BEGIN:STANDARD
TZOFFSETFROM:-0300
TZOFFSETTO:-0400
TZNAME:AST
DTSTART:20261101T050000
END:STANDARD
BEGIN:DAYLIGHT
TZOFFSETFROM:-0400
TZOFFSETTO:-0300
TZNAME:ADT
DTSTART:20270314T060000
END:DAYLIGHT
BEGIN:STANDARD
TZOFFSETFROM:-0300
TZOFFSETTO:-0400
TZNAME:AST
DTSTART:20271107T050000
END:STANDARD
END:VTIMEZONE
BEGIN:VTIMEZONE
TZID:UTC
BEGIN:STANDARD
TZOFFSETFROM:+0000
TZOFFSETTO:+0000
TZNAME:UTC
DTSTART:20250101T000000
END:STANDARD
END:VTIMEZONE
BEGIN:VEVENT
DTSTART;TZID=America/Halifax:20260424T080000
DTEND;TZID=America/Halifax:20260424T110000
DTSTAMP:20260424T014056
CREATED:20260403T041132Z
LAST-MODIFIED:20260403T041132Z
UID:10030572-1777017600-1777028400@englewoodreview.com
SUMMARY:Lemon Bay Conservancy Hosts "Florida Arbor Day: Plant a Tree" event
DESCRIPTION:With funding support from the Florida Forest Service and Sandhill Native Growers of Acadia\, Lemon Bay Conservancy is hosting a free tree giveaway on Friday\, April 24\, beginning at 8:00 am for homeowners in Englewood and surrounding areas. \nA total of 100 trees and shrubs in 3-gallon containers will be available\, with a limit of one per household. First Come\, First Served! \nEvent Location: Lemon Creek Wildflower Preserve\, 3120 Gasparilla Pines Blvd\, Englewood
URL:https://englewoodreview.com/event/lemon-bay-conservancy-hosts-florida-arbor-day-plant-a-tree-event/
LOCATION:Lemon Creek Wildflower Preserve\, 3120 Gasparilla Pines Blvd\, Englewood\, 34224
ATTACH;FMTTYPE=image/png:https://englewoodreview.com/wp-content/uploads/2026/04/Lemon-Creek-Wildflower-Preserve-Arbor-Day-F-1.png
ORGANIZER;CN="Lemon Bay Conservancy":MAILTO:lbconservancy@comcast.net
END:VEVENT
BEGIN:VEVENT
DTSTART;TZID=America/Halifax:20260424T080000
DTEND;TZID=America/Halifax:20260424T140000
DTSTAMP:20260424T014056
CREATED:20260330T162645Z
LAST-MODIFIED:20260330T162645Z
UID:10030275-1777017600-1777039200@englewoodreview.com
SUMMARY:Barn Sale & Crafts Sale at GCUMC
DESCRIPTION:Find your treasures at the Men’s Club Barn Sale. And for a bonus\, although the Crafty Ladies are ending their ministry\, they have a few hand-made crafts\, fabrics\, and supplies still available in Oaks Cove. These sales are at Gulf Cove United Methodist Church on Friday and Saturday\, April 24 and 25\, from 8:00 a.m. to 2:00 p.m. each day. Gulf Cove UMC is located just ¾ mile south of the Myakka River on State Road 776. For more information\, contact the church at (941) 697-1747.
URL:https://englewoodreview.com/event/barn-sale-crafts-sale-at-gcumc-2/2026-04-24/
LOCATION:Gulf Cove United Methodist Church\, 1100 S. McCall Road\, Port Charlotte\, FL\, 33981
ATTACH;FMTTYPE=image/jpeg:https://englewoodreview.com/wp-content/uploads/2026/03/GCUMCBldg-2.jpg
ORGANIZER;CN="Office":MAILTO:gulfcoveumc@gmail.com
END:VEVENT
BEGIN:VEVENT
DTSTART;TZID=America/Halifax:20260424T083000
DTEND;TZID=America/Halifax:20260424T093000
DTSTAMP:20260424T014056
CREATED:20251029T160424Z
LAST-MODIFIED:20260119T144057Z
UID:10019322-1777019400-1777023000@englewoodreview.com
SUMMARY:Englewood Beach Yoga
DESCRIPTION:Englewood Beach Yoga with Lata & Robert\, classes held Monday – Saturday 8:30a – 9:30a. Located at 2100 N Beach Road\, the south end of Manasota Key. Bring a blanket/sheet or a chair and enjoy a peaceful gentle yoga flow with the beauty of nature. We are a Vendor at the beach\, Classes are supported by donations\, suggested $5 and up please.\nJoin us for scheduled Sunset Yoga & Crystal Bowls\, too!\nwww.lovinglightyoga.com 941-979-1917
URL:https://englewoodreview.com/event/englewood-beach-yoga/2026-04-24/
LOCATION:Englewood Beach\, 2100 N. Beach Road\, Englewood\, FL\, 34223\, United States
ORGANIZER;CN="Loving Light Yoga":MAILTO:lata528@gmail.com
END:VEVENT
BEGIN:VEVENT
DTSTART;TZID=UTC:20260424T083000
DTEND;TZID=UTC:20260424T211500
DTSTAMP:20260424T014056
CREATED:20251002T005929Z
LAST-MODIFIED:20251002T005929Z
UID:10014491-1777019400-1777065300@englewoodreview.com
SUMMARY:Manasota Beach Yoga
DESCRIPTION:Yoga at Manasota Beach \nJoin us Monday through Friday at 8:30 AM for an open-level beach yoga class at the north end of Manasota Beach. Classes are suitable for all ages and abilities\, and no prior experience is required. Please bring a blanket or towel for the sand. Suggested donation $5 – 10. \nOn Mondays and Tuesdays\, we offer an optional 15-minute extended practice with more advanced poses for those who wish to stay. \nFor clarification: we are not the “Yoga on Englewood Beach.” Our classes meet at the north end of Manasota Key\, 8570 Manasota Key Road.
URL:https://englewoodreview.com/event/manasota-beach-yoga/2026-04-24/
LOCATION:Manasota Beach\, 8570 Manasota Key Rd\, Englewood\, FL\, 34223\, United States
ORGANIZER;CN="katja":MAILTO:katja@ezfit4u.com
END:VEVENT
BEGIN:VEVENT
DTSTART;TZID=America/Halifax:20260424T091500
DTEND;TZID=America/Halifax:20260424T113000
DTSTAMP:20260424T014056
CREATED:20251028T172449Z
LAST-MODIFIED:20251028T172449Z
UID:10018449-1777022100-1777030200@englewoodreview.com
SUMMARY:St. Francis Food Pantry
DESCRIPTION:St. Francis of Assisi food pantry is open on Mondays\, Wednesdays\, and Fridays from 9:15 to 11:30am. St. Francis is located at 5265 Placida Road. For more information call 941-697-4899.
URL:https://englewoodreview.com/event/st-francis-food-pantry/2026-04-24/
LOCATION:St. Francis of Assisi Catholic Church\, 5265 Placida Road\, Grove City\, FL\, 34224\, United States
END:VEVENT
BEGIN:VEVENT
DTSTART;TZID=America/Halifax:20260424T110000
DTEND;TZID=America/Halifax:20260424T150000
DTSTAMP:20260424T014056
CREATED:20251018T183323Z
LAST-MODIFIED:20251018T183323Z
UID:10017589-1777028400-1777042800@englewoodreview.com
SUMMARY:History Tour Climb at the Port Boca Grande Lighthouse
DESCRIPTION:Beginning November 7\, lighthouse climbs will be offered every Friday from 11:00 AM to 3:00 PM. The first climb starts at 11:00 AM\, and the last climb begins at 3:00 PM. \nLocation: Port Boca Grande Lighthouse & Museum (Public parking is available at the FL State Park Parking Lot located at 880 Belcher Road) \nAdmission: \nAdults: $10\nChildren (under 12): $5\nAll proceeds directly support BIPS’ historic lighthouse preservation efforts. \nImportant Details: \nParticipants must be at least 48 inches tall to climb. \nCheck in and RSVP on the day of your climb at the Lighthouse Gift Shop. \nClimbs are offered during tour hours as space allows and often sell out quickly! \nFor everyone’s safety: \nNo heels or flip-flops (wear sensible shoes).\nNo large bags\, backpacks\, or purses.\nNo commercial photography\, drones\, or wet clothing.\nParticipants must be physically able to climb.\nClimbs may be cancelled due to inclement weather or high winds.\nNo advance reservations are available.\nCome step back in time\, learn the lighthouse’s storied past\, and take in sweeping views of the Gulf from one of Boca Grande’s most iconic landmarks.
URL:https://englewoodreview.com/event/history-tour-climb-at-the-port-boca-grande-lighthouse/2026-04-24/
LOCATION:Port Boca Grande Lighthouse & Museum\, 880 Belcher Rd\, Boca Grande\, 33921
ORGANIZER;CN="Barrier Island Parks Society":MAILTO:info@bips.org
END:VEVENT
BEGIN:VEVENT
DTSTART;TZID=America/Halifax:20260424T120000
DTEND;TZID=America/Halifax:20260424T150000
DTSTAMP:20260424T014056
CREATED:20251007T155223Z
LAST-MODIFIED:20251007T155223Z
UID:10015679-1777032000-1777042800@englewoodreview.com
SUMMARY:Lemon Bay Woodcarvers
DESCRIPTION:Lemon Bay Woodcarvers meet every Friday from noon to 3pm at Community Presbyterian Church\, 405 S. McCall Road. Share work and get advice. All skill levels welcome. For questions\, email Bill at mazz102@yahoo.com.
URL:https://englewoodreview.com/event/lemon-bay-woodcarvers/2026-04-24/
LOCATION:Community Presbyterian Church\, 405 S. McCall Road\, Englewood\, FL\, 34223\, United States
END:VEVENT
BEGIN:VEVENT
DTSTART;TZID=America/Halifax:20260424T130000
DTEND;TZID=America/Halifax:20260424T190000
DTSTAMP:20260424T014056
CREATED:20251123T161821Z
LAST-MODIFIED:20251123T161821Z
UID:10022183-1777035600-1777057200@englewoodreview.com
SUMMARY:The Market on Dearborn - EVERY THURSDAY 9-1
DESCRIPTION:🛍️ The Market on Dearborn 🛍️ \nNEW THIS SEASON:\nStarting December 5th\, join us Fridays (DEC. 5th until MAY) | 1 PM – 7 PM for evening markets filled with holiday cheer\, unique gifts\, and your favorite vendors. \nEvery Thursday (NOW UNTIL MAY) | 9 AM – 1 PM\nFresh local produce\, handmade goods\, artisanal treats\, and more! \n📍 Location: 232 W. Dearborn St. Englewood\, FL 34223\nSupport local. Shop fresh. Experience community. \n#MarketOnDearborn #ShopLocal #FreshProduce #HandmadeGoods
URL:https://englewoodreview.com/event/the-market-on-dearborn-every-thursday-9-1/2026-04-24/
ATTACH;FMTTYPE=image/jpeg:https://englewoodreview.com/wp-content/uploads/2025/11/The-market-on.jpg
END:VEVENT
BEGIN:VEVENT
DTSTART;TZID=UTC:20260424T133000
DTEND;TZID=UTC:20260424T143000
DTSTAMP:20260424T014056
CREATED:20250717T200146Z
LAST-MODIFIED:20250717T200146Z
UID:10004618-1777037400-1777041000@englewoodreview.com
SUMMARY:Stroke Support Group
DESCRIPTION:The Stroke Support Group meets on the last Friday of the month at HCS Fawcett Hospital Community Room\, 3280 N. Tamiami Trail\, Port Charlotte\, from 1:30 to 2:30pm. This group is for stroke survivors and caregivers. RSVP at 888-685-1598.
URL:https://englewoodreview.com/event/stroke-support-group/2026-04-24/
END:VEVENT
BEGIN:VEVENT
DTSTART;TZID=UTC:20260424T163000
DTEND;TZID=UTC:20260424T190000
DTSTAMP:20260424T014056
CREATED:20250930T070854Z
LAST-MODIFIED:20250930T070854Z
UID:10013417-1777048200-1777057200@englewoodreview.com
SUMMARY:Rotonda Elks dinner
DESCRIPTION:Nightly dinners (except Tuesdays)\, Entertainment on Fridays
URL:https://englewoodreview.com/event/rotonda-elks-dinner/2026-04-24/
LOCATION:Rotonda Elks\, 303 Rotonta Boulevard East\, Rotonda West\, 33947
END:VEVENT
BEGIN:VEVENT
DTSTART;TZID=America/Halifax:20260424T193000
DTEND;TZID=America/Halifax:20260424T213000
DTSTAMP:20260424T014056
CREATED:20260316T132024Z
LAST-MODIFIED:20260316T132024Z
UID:10030242-1777059000-1777066200@englewoodreview.com
SUMMARY:Winnie-the-Pooh
DESCRIPTION:In this charming adaptation\, Winnie-the-Pooh and his friends—Piglet\, Eeyore\, and Rabbit—navigate misadventures fueled by honey\, friendship\, and laughs. A heartwarming tale filled with A.A. Milne’s wit\, perfect for all ages. \nTicket prices: $30-$18 \nSunday Matinees begin @ 2PM \nPLEASE NOTE: THE APRIL 19TH PERFORMANCE IS SOLD OUT
URL:https://englewoodreview.com/event/winnie-the-pooh/2026-04-24/
LOCATION:Venice Theatre – Pinkerton Theatre\, 140 Tampa Ave. W\, Venice\, 32485
ATTACH;FMTTYPE=image/jpeg:https://englewoodreview.com/wp-content/uploads/2026/03/041726WinnieThePooh800x600-scaled.jpg
ORGANIZER;CN="Venice Theatre":MAILTO:info@venicetheatre.net
END:VEVENT
END:VCALENDAR