BEGIN:VCALENDAR
VERSION:2.0
PRODID:-//Englewood Review - ECPv6.15.15//NONSGML v1.0//EN
CALSCALE:GREGORIAN
METHOD:PUBLISH
X-WR-CALNAME:Englewood Review
X-ORIGINAL-URL:https://englewoodreview.com
X-WR-CALDESC:Events for Englewood Review
REFRESH-INTERVAL;VALUE=DURATION:PT1H
X-Robots-Tag:noindex
X-PUBLISHED-TTL:PT1H
BEGIN:VTIMEZONE
TZID:UTC
BEGIN:STANDARD
TZOFFSETFROM:+0000
TZOFFSETTO:+0000
TZNAME:UTC
DTSTART:20240101T000000
END:STANDARD
END:VTIMEZONE
BEGIN:VEVENT
DTSTART;TZID=UTC:20250926T180000
DTEND;TZID=UTC:20250926T200000
DTSTAMP:20260424T142356
CREATED:20250908T183912Z
LAST-MODIFIED:20250908T183912Z
UID:10012677-1758909600-1758916800@englewoodreview.com
SUMMARY:Movie Night!
DESCRIPTION:Grace Community Church of Englewood is holding its regular monthly movie night on Friday\, September 26th at 6pm. The movie this month is\, “The Case for Christ.” \nSynopsis:\nIn 1980\, Lee Strobel’s award-winning\, investigative reporting earns him a promotion to legal editor at the Chicago Tribune. Things at home aren’t going nearly as well. His wife Leslie’s newfound faith in Christ compels Lee to utilize his journalistic and legal training to try and disprove the claims of Christianity\, pitting his resolute atheism against her growing faith. \nEverybody is welcome! We will provide hot dogs and drinks so come a bit early and get some food before the movie begins. There will also be a children’s movie at the same time so feel free to bring the kids. We will eat together then the children will go for their movie.
URL:https://englewoodreview.com/event/movie-night/
LOCATION:Grace Community Church of Englewood\, 278 S Mango Street\, Englewood\, FL\, 34223\, United States
ATTACH;FMTTYPE=image/jpeg:https://englewoodreview.com/wp-content/uploads/2025/09/The-Case-for-Christ.jpg
END:VEVENT
END:VCALENDAR