BEGIN:VCALENDAR
VERSION:2.0
PRODID:-//Englewood Review - ECPv6.15.15//NONSGML v1.0//EN
CALSCALE:GREGORIAN
METHOD:PUBLISH
X-WR-CALNAME:Englewood Review
X-ORIGINAL-URL:https://englewoodreview.com
X-WR-CALDESC:Events for Englewood Review
REFRESH-INTERVAL;VALUE=DURATION:PT1H
X-Robots-Tag:noindex
X-PUBLISHED-TTL:PT1H
BEGIN:VTIMEZONE
TZID:UTC
BEGIN:STANDARD
TZOFFSETFROM:+0000
TZOFFSETTO:+0000
TZNAME:UTC
DTSTART:20270101T000000
END:STANDARD
END:VTIMEZONE
BEGIN:VEVENT
DTSTART;TZID=UTC:20280206T093000
DTEND;TZID=UTC:20280206T093000
DTSTAMP:20260421T134417
CREATED:20250721T192701Z
LAST-MODIFIED:20250721T194101Z
UID:10008257-1833442200-1833442200@englewoodreview.com
SUMMARY:Christ Lutheran Church
DESCRIPTION:701 N. Indiana Ave.\n9:30am. 941-474-1989\nchristlutheranfleng.com.
URL:https://englewoodreview.com/event/christ-lutheran-church/2028-02-06/
END:VEVENT
BEGIN:VEVENT
DTSTART;TZID=UTC:20280213T093000
DTEND;TZID=UTC:20280213T093000
DTSTAMP:20260421T134417
CREATED:20250721T192701Z
LAST-MODIFIED:20250721T194101Z
UID:10008258-1834047000-1834047000@englewoodreview.com
SUMMARY:Christ Lutheran Church
DESCRIPTION:701 N. Indiana Ave.\n9:30am. 941-474-1989\nchristlutheranfleng.com.
URL:https://englewoodreview.com/event/christ-lutheran-church/2028-02-13/
END:VEVENT
BEGIN:VEVENT
DTSTART;TZID=UTC:20280220T093000
DTEND;TZID=UTC:20280220T093000
DTSTAMP:20260421T134417
CREATED:20250721T192701Z
LAST-MODIFIED:20250721T194101Z
UID:10008259-1834651800-1834651800@englewoodreview.com
SUMMARY:Christ Lutheran Church
DESCRIPTION:701 N. Indiana Ave.\n9:30am. 941-474-1989\nchristlutheranfleng.com.
URL:https://englewoodreview.com/event/christ-lutheran-church/2028-02-20/
END:VEVENT
BEGIN:VEVENT
DTSTART;TZID=UTC:20280227T093000
DTEND;TZID=UTC:20280227T093000
DTSTAMP:20260421T134417
CREATED:20250721T192701Z
LAST-MODIFIED:20250721T194101Z
UID:10008260-1835256600-1835256600@englewoodreview.com
SUMMARY:Christ Lutheran Church
DESCRIPTION:701 N. Indiana Ave.\n9:30am. 941-474-1989\nchristlutheranfleng.com.
URL:https://englewoodreview.com/event/christ-lutheran-church/2028-02-27/
END:VEVENT
END:VCALENDAR