BEGIN:VCALENDAR
VERSION:2.0
PRODID:-//Englewood Review - ECPv6.15.15//NONSGML v1.0//EN
CALSCALE:GREGORIAN
METHOD:PUBLISH
X-ORIGINAL-URL:https://englewoodreview.com
X-WR-CALDESC:Events for Englewood Review
REFRESH-INTERVAL;VALUE=DURATION:PT1H
X-Robots-Tag:noindex
X-PUBLISHED-TTL:PT1H
BEGIN:VTIMEZONE
TZID:UTC
BEGIN:STANDARD
TZOFFSETFROM:+0000
TZOFFSETTO:+0000
TZNAME:UTC
DTSTART:20270101T000000
END:STANDARD
END:VTIMEZONE
BEGIN:VEVENT
DTSTART;TZID=UTC:20280402T093000
DTEND;TZID=UTC:20280402T093000
DTSTAMP:20260421T171149
CREATED:20250721T192701Z
LAST-MODIFIED:20250721T194101Z
UID:10008265-1838280600-1838280600@englewoodreview.com
SUMMARY:Christ Lutheran Church
DESCRIPTION:701 N. Indiana Ave.\n9:30am. 941-474-1989\nchristlutheranfleng.com.
URL:https://englewoodreview.com/event/christ-lutheran-church/2028-04-02/
END:VEVENT
BEGIN:VEVENT
DTSTART;TZID=UTC:20280409T093000
DTEND;TZID=UTC:20280409T093000
DTSTAMP:20260421T171149
CREATED:20250721T192701Z
LAST-MODIFIED:20250721T194101Z
UID:10008266-1838885400-1838885400@englewoodreview.com
SUMMARY:Christ Lutheran Church
DESCRIPTION:701 N. Indiana Ave.\n9:30am. 941-474-1989\nchristlutheranfleng.com.
URL:https://englewoodreview.com/event/christ-lutheran-church/2028-04-09/
END:VEVENT
BEGIN:VEVENT
DTSTART;TZID=UTC:20280416T093000
DTEND;TZID=UTC:20280416T093000
DTSTAMP:20260421T171149
CREATED:20250721T192701Z
LAST-MODIFIED:20250721T194101Z
UID:10008267-1839490200-1839490200@englewoodreview.com
SUMMARY:Christ Lutheran Church
DESCRIPTION:701 N. Indiana Ave.\n9:30am. 941-474-1989\nchristlutheranfleng.com.
URL:https://englewoodreview.com/event/christ-lutheran-church/2028-04-16/
END:VEVENT
BEGIN:VEVENT
DTSTART;TZID=UTC:20280423T093000
DTEND;TZID=UTC:20280423T093000
DTSTAMP:20260421T171149
CREATED:20250721T192701Z
LAST-MODIFIED:20250721T194101Z
UID:10008268-1840095000-1840095000@englewoodreview.com
SUMMARY:Christ Lutheran Church
DESCRIPTION:701 N. Indiana Ave.\n9:30am. 941-474-1989\nchristlutheranfleng.com.
URL:https://englewoodreview.com/event/christ-lutheran-church/2028-04-23/
END:VEVENT
BEGIN:VEVENT
DTSTART;TZID=UTC:20280430T093000
DTEND;TZID=UTC:20280430T093000
DTSTAMP:20260421T171149
CREATED:20250721T192701Z
LAST-MODIFIED:20250721T194101Z
UID:10008269-1840699800-1840699800@englewoodreview.com
SUMMARY:Christ Lutheran Church
DESCRIPTION:701 N. Indiana Ave.\n9:30am. 941-474-1989\nchristlutheranfleng.com.
URL:https://englewoodreview.com/event/christ-lutheran-church/2028-04-30/
END:VEVENT
END:VCALENDAR