BEGIN:VCALENDAR
VERSION:2.0
PRODID:-//Englewood Review - ECPv6.15.15//NONSGML v1.0//EN
CALSCALE:GREGORIAN
METHOD:PUBLISH
X-ORIGINAL-URL:https://englewoodreview.com
X-WR-CALDESC:Events for Englewood Review
REFRESH-INTERVAL;VALUE=DURATION:PT1H
X-Robots-Tag:noindex
X-PUBLISHED-TTL:PT1H
BEGIN:VTIMEZONE
TZID:UTC
BEGIN:STANDARD
TZOFFSETFROM:+0000
TZOFFSETTO:+0000
TZNAME:UTC
DTSTART:20270101T000000
END:STANDARD
END:VTIMEZONE
BEGIN:VEVENT
DTSTART;TZID=UTC:20280604T093000
DTEND;TZID=UTC:20280604T093000
DTSTAMP:20260421T203612
CREATED:20250721T192701Z
LAST-MODIFIED:20250721T194101Z
UID:10008274-1843723800-1843723800@englewoodreview.com
SUMMARY:Christ Lutheran Church
DESCRIPTION:701 N. Indiana Ave.\n9:30am. 941-474-1989\nchristlutheranfleng.com.
URL:https://englewoodreview.com/event/christ-lutheran-church/2028-06-04/
END:VEVENT
BEGIN:VEVENT
DTSTART;TZID=UTC:20280611T093000
DTEND;TZID=UTC:20280611T093000
DTSTAMP:20260421T203612
CREATED:20250721T192701Z
LAST-MODIFIED:20250721T194101Z
UID:10008275-1844328600-1844328600@englewoodreview.com
SUMMARY:Christ Lutheran Church
DESCRIPTION:701 N. Indiana Ave.\n9:30am. 941-474-1989\nchristlutheranfleng.com.
URL:https://englewoodreview.com/event/christ-lutheran-church/2028-06-11/
END:VEVENT
BEGIN:VEVENT
DTSTART;TZID=UTC:20280618T093000
DTEND;TZID=UTC:20280618T093000
DTSTAMP:20260421T203612
CREATED:20250721T192701Z
LAST-MODIFIED:20250721T194101Z
UID:10008276-1844933400-1844933400@englewoodreview.com
SUMMARY:Christ Lutheran Church
DESCRIPTION:701 N. Indiana Ave.\n9:30am. 941-474-1989\nchristlutheranfleng.com.
URL:https://englewoodreview.com/event/christ-lutheran-church/2028-06-18/
END:VEVENT
BEGIN:VEVENT
DTSTART;TZID=UTC:20280625T093000
DTEND;TZID=UTC:20280625T093000
DTSTAMP:20260421T203612
CREATED:20250721T192701Z
LAST-MODIFIED:20250721T194101Z
UID:10008277-1845538200-1845538200@englewoodreview.com
SUMMARY:Christ Lutheran Church
DESCRIPTION:701 N. Indiana Ave.\n9:30am. 941-474-1989\nchristlutheranfleng.com.
URL:https://englewoodreview.com/event/christ-lutheran-church/2028-06-25/
END:VEVENT
END:VCALENDAR