BEGIN:VCALENDAR
VERSION:2.0
PRODID:-//Englewood Review - ECPv6.15.15//NONSGML v1.0//EN
CALSCALE:GREGORIAN
METHOD:PUBLISH
X-WR-CALNAME:Englewood Review
X-ORIGINAL-URL:https://englewoodreview.com
X-WR-CALDESC:Events for Englewood Review
REFRESH-INTERVAL;VALUE=DURATION:PT1H
X-Robots-Tag:noindex
X-PUBLISHED-TTL:PT1H
BEGIN:VTIMEZONE
TZID:UTC
BEGIN:STANDARD
TZOFFSETFROM:+0000
TZOFFSETTO:+0000
TZNAME:UTC
DTSTART:20270101T000000
END:STANDARD
END:VTIMEZONE
BEGIN:VEVENT
DTSTART;TZID=UTC:20280806T093000
DTEND;TZID=UTC:20280806T093000
DTSTAMP:20260422T001912
CREATED:20250721T192701Z
LAST-MODIFIED:20250721T194101Z
UID:10008283-1849167000-1849167000@englewoodreview.com
SUMMARY:Christ Lutheran Church
DESCRIPTION:701 N. Indiana Ave.\n9:30am. 941-474-1989\nchristlutheranfleng.com.
URL:https://englewoodreview.com/event/christ-lutheran-church/2028-08-06/
END:VEVENT
BEGIN:VEVENT
DTSTART;TZID=UTC:20280813T093000
DTEND;TZID=UTC:20280813T093000
DTSTAMP:20260422T001912
CREATED:20250721T192701Z
LAST-MODIFIED:20250721T194101Z
UID:10008284-1849771800-1849771800@englewoodreview.com
SUMMARY:Christ Lutheran Church
DESCRIPTION:701 N. Indiana Ave.\n9:30am. 941-474-1989\nchristlutheranfleng.com.
URL:https://englewoodreview.com/event/christ-lutheran-church/2028-08-13/
END:VEVENT
BEGIN:VEVENT
DTSTART;TZID=UTC:20280820T093000
DTEND;TZID=UTC:20280820T093000
DTSTAMP:20260422T001912
CREATED:20250721T192701Z
LAST-MODIFIED:20250721T194101Z
UID:10008285-1850376600-1850376600@englewoodreview.com
SUMMARY:Christ Lutheran Church
DESCRIPTION:701 N. Indiana Ave.\n9:30am. 941-474-1989\nchristlutheranfleng.com.
URL:https://englewoodreview.com/event/christ-lutheran-church/2028-08-20/
END:VEVENT
BEGIN:VEVENT
DTSTART;TZID=UTC:20280827T093000
DTEND;TZID=UTC:20280827T093000
DTSTAMP:20260422T001912
CREATED:20250721T192701Z
LAST-MODIFIED:20250721T194101Z
UID:10008286-1850981400-1850981400@englewoodreview.com
SUMMARY:Christ Lutheran Church
DESCRIPTION:701 N. Indiana Ave.\n9:30am. 941-474-1989\nchristlutheranfleng.com.
URL:https://englewoodreview.com/event/christ-lutheran-church/2028-08-27/
END:VEVENT
END:VCALENDAR