BEGIN:VCALENDAR
VERSION:2.0
PRODID:-//Englewood Review - ECPv6.15.15//NONSGML v1.0//EN
CALSCALE:GREGORIAN
METHOD:PUBLISH
X-ORIGINAL-URL:https://englewoodreview.com
X-WR-CALDESC:Events for Englewood Review
REFRESH-INTERVAL;VALUE=DURATION:PT1H
X-Robots-Tag:noindex
X-PUBLISHED-TTL:PT1H
BEGIN:VTIMEZONE
TZID:America/Halifax
BEGIN:DAYLIGHT
TZOFFSETFROM:-0400
TZOFFSETTO:-0300
TZNAME:ADT
DTSTART:20280312T060000
END:DAYLIGHT
BEGIN:STANDARD
TZOFFSETFROM:-0300
TZOFFSETTO:-0400
TZNAME:AST
DTSTART:20281105T050000
END:STANDARD
BEGIN:DAYLIGHT
TZOFFSETFROM:-0400
TZOFFSETTO:-0300
TZNAME:ADT
DTSTART:20290311T060000
END:DAYLIGHT
BEGIN:STANDARD
TZOFFSETFROM:-0300
TZOFFSETTO:-0400
TZNAME:AST
DTSTART:20291104T050000
END:STANDARD
BEGIN:DAYLIGHT
TZOFFSETFROM:-0400
TZOFFSETTO:-0300
TZNAME:ADT
DTSTART:20300310T060000
END:DAYLIGHT
BEGIN:STANDARD
TZOFFSETFROM:-0300
TZOFFSETTO:-0400
TZNAME:AST
DTSTART:20301103T050000
END:STANDARD
END:VTIMEZONE
BEGIN:VEVENT
DTSTART;TZID=America/Halifax:20291204T160000
DTEND;TZID=America/Halifax:20291204T200000
DTSTAMP:20260421T203512
CREATED:20251031T133711Z
LAST-MODIFIED:20251031T133711Z
UID:10020979-1891094400-1891108800@englewoodreview.com
SUMMARY:The Open Studio Open Mic Garden Party
DESCRIPTION:Weekly on Tuesday \, Free Community Party\nCoolers and Pets welcome. Musicians invited Sign up sheet avail at 3:30pm\nFriendly Faces\, Good Local and visiting musicians.\nFood Avail. Both Meat and Vegan Generally $10 a plate.\nVery fun event \, a popular Tuesday event. We have some chairs but if you can bring your own .\nThis is an outdoor party so dress accordingly. We have plenty of room to stretch out.\nTuesdays 4-8 pm For more information Troy 941 473 8977
URL:https://englewoodreview.com/event/the-open-studio-open-mic-garden-party/2029-12-04/
LOCATION:The Open Studio Garden\, 830 Old Englewood Rd\, Englewood\, 34223
ATTACH;FMTTYPE=image/jpeg:https://englewoodreview.com/wp-content/uploads/2025/10/O-4R9QEU.jpg
END:VEVENT
BEGIN:VEVENT
DTSTART;TZID=America/Halifax:20291211T160000
DTEND;TZID=America/Halifax:20291211T200000
DTSTAMP:20260421T203512
CREATED:20251031T133711Z
LAST-MODIFIED:20251031T133711Z
UID:10020980-1891699200-1891713600@englewoodreview.com
SUMMARY:The Open Studio Open Mic Garden Party
DESCRIPTION:Weekly on Tuesday \, Free Community Party\nCoolers and Pets welcome. Musicians invited Sign up sheet avail at 3:30pm\nFriendly Faces\, Good Local and visiting musicians.\nFood Avail. Both Meat and Vegan Generally $10 a plate.\nVery fun event \, a popular Tuesday event. We have some chairs but if you can bring your own .\nThis is an outdoor party so dress accordingly. We have plenty of room to stretch out.\nTuesdays 4-8 pm For more information Troy 941 473 8977
URL:https://englewoodreview.com/event/the-open-studio-open-mic-garden-party/2029-12-11/
LOCATION:The Open Studio Garden\, 830 Old Englewood Rd\, Englewood\, 34223
ATTACH;FMTTYPE=image/jpeg:https://englewoodreview.com/wp-content/uploads/2025/10/O-4R9QEU.jpg
END:VEVENT
BEGIN:VEVENT
DTSTART;TZID=America/Halifax:20291218T160000
DTEND;TZID=America/Halifax:20291218T200000
DTSTAMP:20260421T203512
CREATED:20251031T133711Z
LAST-MODIFIED:20251031T133711Z
UID:10020981-1892304000-1892318400@englewoodreview.com
SUMMARY:The Open Studio Open Mic Garden Party
DESCRIPTION:Weekly on Tuesday \, Free Community Party\nCoolers and Pets welcome. Musicians invited Sign up sheet avail at 3:30pm\nFriendly Faces\, Good Local and visiting musicians.\nFood Avail. Both Meat and Vegan Generally $10 a plate.\nVery fun event \, a popular Tuesday event. We have some chairs but if you can bring your own .\nThis is an outdoor party so dress accordingly. We have plenty of room to stretch out.\nTuesdays 4-8 pm For more information Troy 941 473 8977
URL:https://englewoodreview.com/event/the-open-studio-open-mic-garden-party/2029-12-18/
LOCATION:The Open Studio Garden\, 830 Old Englewood Rd\, Englewood\, 34223
ATTACH;FMTTYPE=image/jpeg:https://englewoodreview.com/wp-content/uploads/2025/10/O-4R9QEU.jpg
END:VEVENT
BEGIN:VEVENT
DTSTART;TZID=America/Halifax:20291225T160000
DTEND;TZID=America/Halifax:20291225T200000
DTSTAMP:20260421T203512
CREATED:20251031T133711Z
LAST-MODIFIED:20251031T133711Z
UID:10020982-1892908800-1892923200@englewoodreview.com
SUMMARY:The Open Studio Open Mic Garden Party
DESCRIPTION:Weekly on Tuesday \, Free Community Party\nCoolers and Pets welcome. Musicians invited Sign up sheet avail at 3:30pm\nFriendly Faces\, Good Local and visiting musicians.\nFood Avail. Both Meat and Vegan Generally $10 a plate.\nVery fun event \, a popular Tuesday event. We have some chairs but if you can bring your own .\nThis is an outdoor party so dress accordingly. We have plenty of room to stretch out.\nTuesdays 4-8 pm For more information Troy 941 473 8977
URL:https://englewoodreview.com/event/the-open-studio-open-mic-garden-party/2029-12-25/
LOCATION:The Open Studio Garden\, 830 Old Englewood Rd\, Englewood\, 34223
ATTACH;FMTTYPE=image/jpeg:https://englewoodreview.com/wp-content/uploads/2025/10/O-4R9QEU.jpg
END:VEVENT
END:VCALENDAR