BEGIN:VCALENDAR
VERSION:2.0
PRODID:-//Englewood Review - ECPv6.15.15//NONSGML v1.0//EN
CALSCALE:GREGORIAN
METHOD:PUBLISH
X-WR-CALNAME:Englewood Review
X-ORIGINAL-URL:https://englewoodreview.com
X-WR-CALDESC:Events for Englewood Review
REFRESH-INTERVAL;VALUE=DURATION:PT1H
X-Robots-Tag:noindex
X-PUBLISHED-TTL:PT1H
BEGIN:VTIMEZONE
TZID:America/Halifax
BEGIN:DAYLIGHT
TZOFFSETFROM:-0400
TZOFFSETTO:-0300
TZNAME:ADT
DTSTART:20290311T060000
END:DAYLIGHT
BEGIN:STANDARD
TZOFFSETFROM:-0300
TZOFFSETTO:-0400
TZNAME:AST
DTSTART:20291104T050000
END:STANDARD
BEGIN:DAYLIGHT
TZOFFSETFROM:-0400
TZOFFSETTO:-0300
TZNAME:ADT
DTSTART:20300310T060000
END:DAYLIGHT
BEGIN:STANDARD
TZOFFSETFROM:-0300
TZOFFSETTO:-0400
TZNAME:AST
DTSTART:20301103T050000
END:STANDARD
BEGIN:DAYLIGHT
TZOFFSETFROM:-0400
TZOFFSETTO:-0300
TZNAME:ADT
DTSTART:20310309T060000
END:DAYLIGHT
BEGIN:STANDARD
TZOFFSETFROM:-0300
TZOFFSETTO:-0400
TZNAME:AST
DTSTART:20311102T050000
END:STANDARD
END:VTIMEZONE
BEGIN:VTIMEZONE
TZID:UTC
BEGIN:STANDARD
TZOFFSETFROM:+0000
TZOFFSETTO:+0000
TZNAME:UTC
DTSTART:20290101T000000
END:STANDARD
END:VTIMEZONE
BEGIN:VEVENT
DTSTART;TZID=America/Halifax:20300202T080000
DTEND;TZID=America/Halifax:20300202T120000
DTSTAMP:20260422T235458
CREATED:20251023T185408Z
LAST-MODIFIED:20251023T185408Z
UID:10017913-1896249600-1896264000@englewoodreview.com
SUMMARY:Shop Local North Port Market
DESCRIPTION:Fresh produce\, coffee\, all natural pet treats\, lemonade\, guacamole\, sourdough bread\, German baker\, gourmet cookies\, local raw honey\, local/native plants\, organic tamales\, e-bikes/trikes\, handcrafted wood and leather products\, pottery\, handcrafted walking sticks\, freeze dried candy/fruit/veggies/spices….come by to visit and you’ll find even more vendors!! 25-40+ Vendors\, Food Trucks\, Music!!
URL:https://englewoodreview.com/event/shop-local-north-port-market/2030-02-02/
LOCATION:North Port High School\, 6400 W Price Blvd\, North Port\, 34291
ATTACH;FMTTYPE=image/png:https://englewoodreview.com/wp-content/uploads/2025/10/Shop-Local-Flyer.png
ORGANIZER;CN="Shop Local North Port Market":MAILTO:shoplocalnorthportmarket@gmail.com
END:VEVENT
BEGIN:VEVENT
DTSTART;TZID=UTC:20300203T090000
DTEND;TZID=UTC:20300203T130000
DTSTAMP:20260422T235458
CREATED:20250721T193307Z
LAST-MODIFIED:20250721T210412Z
UID:10007578-1896339600-1896354000@englewoodreview.com
SUMMARY:Fresh Harvest Farmers Market
DESCRIPTION:Wellen Park\, 19745 Wellen Park Blvd.\, Venice. 9AM–1PM.\nwellenpark.com.
URL:https://englewoodreview.com/event/fresh-harvest-farmers-market/2030-02-03/
END:VEVENT
BEGIN:VEVENT
DTSTART;TZID=UTC:20300203T090000
DTEND;TZID=UTC:20300203T140000
DTSTAMP:20260422T235458
CREATED:20250721T193135Z
LAST-MODIFIED:20250721T193135Z
UID:10007317-1896339600-1896357600@englewoodreview.com
SUMMARY:South Gulf Cove Farmer’s Market
DESCRIPTION:14859 Ingraham Blvd\, PC HOA Clubhouse\, 9AM – 2PM. Fresh vegtables\, breads\, local honey\, candy\, tamales\, bbq… Something new each weekend. 248-240-0012\, cakeejo@yahoo.com
URL:https://englewoodreview.com/event/south-gulf-cove-farmers-market/2030-02-03/
END:VEVENT
BEGIN:VEVENT
DTSTART;TZID=America/Halifax:20300209T080000
DTEND;TZID=America/Halifax:20300209T120000
DTSTAMP:20260422T235458
CREATED:20251023T185408Z
LAST-MODIFIED:20251023T185408Z
UID:10017914-1896854400-1896868800@englewoodreview.com
SUMMARY:Shop Local North Port Market
DESCRIPTION:Fresh produce\, coffee\, all natural pet treats\, lemonade\, guacamole\, sourdough bread\, German baker\, gourmet cookies\, local raw honey\, local/native plants\, organic tamales\, e-bikes/trikes\, handcrafted wood and leather products\, pottery\, handcrafted walking sticks\, freeze dried candy/fruit/veggies/spices….come by to visit and you’ll find even more vendors!! 25-40+ Vendors\, Food Trucks\, Music!!
URL:https://englewoodreview.com/event/shop-local-north-port-market/2030-02-09/
LOCATION:North Port High School\, 6400 W Price Blvd\, North Port\, 34291
ATTACH;FMTTYPE=image/png:https://englewoodreview.com/wp-content/uploads/2025/10/Shop-Local-Flyer.png
ORGANIZER;CN="Shop Local North Port Market":MAILTO:shoplocalnorthportmarket@gmail.com
END:VEVENT
BEGIN:VEVENT
DTSTART;TZID=UTC:20300210T090000
DTEND;TZID=UTC:20300210T130000
DTSTAMP:20260422T235458
CREATED:20250721T193307Z
LAST-MODIFIED:20250721T210412Z
UID:10007579-1896944400-1896958800@englewoodreview.com
SUMMARY:Fresh Harvest Farmers Market
DESCRIPTION:Wellen Park\, 19745 Wellen Park Blvd.\, Venice. 9AM–1PM.\nwellenpark.com.
URL:https://englewoodreview.com/event/fresh-harvest-farmers-market/2030-02-10/
END:VEVENT
BEGIN:VEVENT
DTSTART;TZID=UTC:20300210T090000
DTEND;TZID=UTC:20300210T140000
DTSTAMP:20260422T235458
CREATED:20250721T193135Z
LAST-MODIFIED:20250721T193135Z
UID:10007318-1896944400-1896962400@englewoodreview.com
SUMMARY:South Gulf Cove Farmer’s Market
DESCRIPTION:14859 Ingraham Blvd\, PC HOA Clubhouse\, 9AM – 2PM. Fresh vegtables\, breads\, local honey\, candy\, tamales\, bbq… Something new each weekend. 248-240-0012\, cakeejo@yahoo.com
URL:https://englewoodreview.com/event/south-gulf-cove-farmers-market/2030-02-10/
END:VEVENT
BEGIN:VEVENT
DTSTART;TZID=America/Halifax:20300216T080000
DTEND;TZID=America/Halifax:20300216T120000
DTSTAMP:20260422T235458
CREATED:20251023T185408Z
LAST-MODIFIED:20251023T185408Z
UID:10017915-1897459200-1897473600@englewoodreview.com
SUMMARY:Shop Local North Port Market
DESCRIPTION:Fresh produce\, coffee\, all natural pet treats\, lemonade\, guacamole\, sourdough bread\, German baker\, gourmet cookies\, local raw honey\, local/native plants\, organic tamales\, e-bikes/trikes\, handcrafted wood and leather products\, pottery\, handcrafted walking sticks\, freeze dried candy/fruit/veggies/spices….come by to visit and you’ll find even more vendors!! 25-40+ Vendors\, Food Trucks\, Music!!
URL:https://englewoodreview.com/event/shop-local-north-port-market/2030-02-16/
LOCATION:North Port High School\, 6400 W Price Blvd\, North Port\, 34291
ATTACH;FMTTYPE=image/png:https://englewoodreview.com/wp-content/uploads/2025/10/Shop-Local-Flyer.png
ORGANIZER;CN="Shop Local North Port Market":MAILTO:shoplocalnorthportmarket@gmail.com
END:VEVENT
BEGIN:VEVENT
DTSTART;TZID=UTC:20300217T090000
DTEND;TZID=UTC:20300217T130000
DTSTAMP:20260422T235458
CREATED:20250721T193307Z
LAST-MODIFIED:20250721T210412Z
UID:10007580-1897549200-1897563600@englewoodreview.com
SUMMARY:Fresh Harvest Farmers Market
DESCRIPTION:Wellen Park\, 19745 Wellen Park Blvd.\, Venice. 9AM–1PM.\nwellenpark.com.
URL:https://englewoodreview.com/event/fresh-harvest-farmers-market/2030-02-17/
END:VEVENT
BEGIN:VEVENT
DTSTART;TZID=UTC:20300217T090000
DTEND;TZID=UTC:20300217T140000
DTSTAMP:20260422T235458
CREATED:20250721T193135Z
LAST-MODIFIED:20250721T193135Z
UID:10007319-1897549200-1897567200@englewoodreview.com
SUMMARY:South Gulf Cove Farmer’s Market
DESCRIPTION:14859 Ingraham Blvd\, PC HOA Clubhouse\, 9AM – 2PM. Fresh vegtables\, breads\, local honey\, candy\, tamales\, bbq… Something new each weekend. 248-240-0012\, cakeejo@yahoo.com
URL:https://englewoodreview.com/event/south-gulf-cove-farmers-market/2030-02-17/
END:VEVENT
BEGIN:VEVENT
DTSTART;TZID=America/Halifax:20300223T080000
DTEND;TZID=America/Halifax:20300223T120000
DTSTAMP:20260422T235458
CREATED:20251023T185408Z
LAST-MODIFIED:20251023T185408Z
UID:10017916-1898064000-1898078400@englewoodreview.com
SUMMARY:Shop Local North Port Market
DESCRIPTION:Fresh produce\, coffee\, all natural pet treats\, lemonade\, guacamole\, sourdough bread\, German baker\, gourmet cookies\, local raw honey\, local/native plants\, organic tamales\, e-bikes/trikes\, handcrafted wood and leather products\, pottery\, handcrafted walking sticks\, freeze dried candy/fruit/veggies/spices….come by to visit and you’ll find even more vendors!! 25-40+ Vendors\, Food Trucks\, Music!!
URL:https://englewoodreview.com/event/shop-local-north-port-market/2030-02-23/
LOCATION:North Port High School\, 6400 W Price Blvd\, North Port\, 34291
ATTACH;FMTTYPE=image/png:https://englewoodreview.com/wp-content/uploads/2025/10/Shop-Local-Flyer.png
ORGANIZER;CN="Shop Local North Port Market":MAILTO:shoplocalnorthportmarket@gmail.com
END:VEVENT
BEGIN:VEVENT
DTSTART;TZID=UTC:20300224T090000
DTEND;TZID=UTC:20300224T130000
DTSTAMP:20260422T235458
CREATED:20250721T193307Z
LAST-MODIFIED:20250721T210412Z
UID:10007581-1898154000-1898168400@englewoodreview.com
SUMMARY:Fresh Harvest Farmers Market
DESCRIPTION:Wellen Park\, 19745 Wellen Park Blvd.\, Venice. 9AM–1PM.\nwellenpark.com.
URL:https://englewoodreview.com/event/fresh-harvest-farmers-market/2030-02-24/
END:VEVENT
BEGIN:VEVENT
DTSTART;TZID=UTC:20300224T090000
DTEND;TZID=UTC:20300224T140000
DTSTAMP:20260422T235458
CREATED:20250721T193135Z
LAST-MODIFIED:20250721T193135Z
UID:10007320-1898154000-1898172000@englewoodreview.com
SUMMARY:South Gulf Cove Farmer’s Market
DESCRIPTION:14859 Ingraham Blvd\, PC HOA Clubhouse\, 9AM – 2PM. Fresh vegtables\, breads\, local honey\, candy\, tamales\, bbq… Something new each weekend. 248-240-0012\, cakeejo@yahoo.com
URL:https://englewoodreview.com/event/south-gulf-cove-farmers-market/2030-02-24/
END:VEVENT
END:VCALENDAR