BEGIN:VCALENDAR
VERSION:2.0
PRODID:-//Englewood Review - ECPv6.15.15//NONSGML v1.0//EN
CALSCALE:GREGORIAN
METHOD:PUBLISH
X-WR-CALNAME:Englewood Review
X-ORIGINAL-URL:https://englewoodreview.com
X-WR-CALDESC:Events for Englewood Review
REFRESH-INTERVAL;VALUE=DURATION:PT1H
X-Robots-Tag:noindex
X-PUBLISHED-TTL:PT1H
BEGIN:VTIMEZONE
TZID:America/Halifax
BEGIN:DAYLIGHT
TZOFFSETFROM:-0400
TZOFFSETTO:-0300
TZNAME:ADT
DTSTART:20290311T060000
END:DAYLIGHT
BEGIN:STANDARD
TZOFFSETFROM:-0300
TZOFFSETTO:-0400
TZNAME:AST
DTSTART:20291104T050000
END:STANDARD
BEGIN:DAYLIGHT
TZOFFSETFROM:-0400
TZOFFSETTO:-0300
TZNAME:ADT
DTSTART:20300310T060000
END:DAYLIGHT
BEGIN:STANDARD
TZOFFSETFROM:-0300
TZOFFSETTO:-0400
TZNAME:AST
DTSTART:20301103T050000
END:STANDARD
BEGIN:DAYLIGHT
TZOFFSETFROM:-0400
TZOFFSETTO:-0300
TZNAME:ADT
DTSTART:20310309T060000
END:DAYLIGHT
BEGIN:STANDARD
TZOFFSETFROM:-0300
TZOFFSETTO:-0400
TZNAME:AST
DTSTART:20311102T050000
END:STANDARD
END:VTIMEZONE
BEGIN:VTIMEZONE
TZID:UTC
BEGIN:STANDARD
TZOFFSETFROM:+0000
TZOFFSETTO:+0000
TZNAME:UTC
DTSTART:20290101T000000
END:STANDARD
END:VTIMEZONE
BEGIN:VEVENT
DTSTART;TZID=America/Halifax:20300406T080000
DTEND;TZID=America/Halifax:20300406T120000
DTSTAMP:20260423T025556
CREATED:20251023T185408Z
LAST-MODIFIED:20251023T185408Z
UID:10017922-1901692800-1901707200@englewoodreview.com
SUMMARY:Shop Local North Port Market
DESCRIPTION:Fresh produce\, coffee\, all natural pet treats\, lemonade\, guacamole\, sourdough bread\, German baker\, gourmet cookies\, local raw honey\, local/native plants\, organic tamales\, e-bikes/trikes\, handcrafted wood and leather products\, pottery\, handcrafted walking sticks\, freeze dried candy/fruit/veggies/spices….come by to visit and you’ll find even more vendors!! 25-40+ Vendors\, Food Trucks\, Music!!
URL:https://englewoodreview.com/event/shop-local-north-port-market/2030-04-06/
LOCATION:North Port High School\, 6400 W Price Blvd\, North Port\, 34291
ATTACH;FMTTYPE=image/png:https://englewoodreview.com/wp-content/uploads/2025/10/Shop-Local-Flyer.png
ORGANIZER;CN="Shop Local North Port Market":MAILTO:shoplocalnorthportmarket@gmail.com
END:VEVENT
BEGIN:VEVENT
DTSTART;TZID=UTC:20300407T090000
DTEND;TZID=UTC:20300407T130000
DTSTAMP:20260423T025556
CREATED:20250721T193307Z
LAST-MODIFIED:20250721T210412Z
UID:10007587-1901782800-1901797200@englewoodreview.com
SUMMARY:Fresh Harvest Farmers Market
DESCRIPTION:Wellen Park\, 19745 Wellen Park Blvd.\, Venice. 9AM–1PM.\nwellenpark.com.
URL:https://englewoodreview.com/event/fresh-harvest-farmers-market/2030-04-07/
END:VEVENT
BEGIN:VEVENT
DTSTART;TZID=UTC:20300407T090000
DTEND;TZID=UTC:20300407T140000
DTSTAMP:20260423T025556
CREATED:20250721T193135Z
LAST-MODIFIED:20250721T193135Z
UID:10007326-1901782800-1901800800@englewoodreview.com
SUMMARY:South Gulf Cove Farmer’s Market
DESCRIPTION:14859 Ingraham Blvd\, PC HOA Clubhouse\, 9AM – 2PM. Fresh vegtables\, breads\, local honey\, candy\, tamales\, bbq… Something new each weekend. 248-240-0012\, cakeejo@yahoo.com
URL:https://englewoodreview.com/event/south-gulf-cove-farmers-market/2030-04-07/
END:VEVENT
BEGIN:VEVENT
DTSTART;TZID=America/Halifax:20300413T080000
DTEND;TZID=America/Halifax:20300413T120000
DTSTAMP:20260423T025556
CREATED:20251023T185408Z
LAST-MODIFIED:20251023T185408Z
UID:10017923-1902297600-1902312000@englewoodreview.com
SUMMARY:Shop Local North Port Market
DESCRIPTION:Fresh produce\, coffee\, all natural pet treats\, lemonade\, guacamole\, sourdough bread\, German baker\, gourmet cookies\, local raw honey\, local/native plants\, organic tamales\, e-bikes/trikes\, handcrafted wood and leather products\, pottery\, handcrafted walking sticks\, freeze dried candy/fruit/veggies/spices….come by to visit and you’ll find even more vendors!! 25-40+ Vendors\, Food Trucks\, Music!!
URL:https://englewoodreview.com/event/shop-local-north-port-market/2030-04-13/
LOCATION:North Port High School\, 6400 W Price Blvd\, North Port\, 34291
ATTACH;FMTTYPE=image/png:https://englewoodreview.com/wp-content/uploads/2025/10/Shop-Local-Flyer.png
ORGANIZER;CN="Shop Local North Port Market":MAILTO:shoplocalnorthportmarket@gmail.com
END:VEVENT
BEGIN:VEVENT
DTSTART;TZID=UTC:20300414T090000
DTEND;TZID=UTC:20300414T130000
DTSTAMP:20260423T025556
CREATED:20250721T193307Z
LAST-MODIFIED:20250721T210412Z
UID:10007588-1902387600-1902402000@englewoodreview.com
SUMMARY:Fresh Harvest Farmers Market
DESCRIPTION:Wellen Park\, 19745 Wellen Park Blvd.\, Venice. 9AM–1PM.\nwellenpark.com.
URL:https://englewoodreview.com/event/fresh-harvest-farmers-market/2030-04-14/
END:VEVENT
BEGIN:VEVENT
DTSTART;TZID=UTC:20300414T090000
DTEND;TZID=UTC:20300414T140000
DTSTAMP:20260423T025556
CREATED:20250721T193135Z
LAST-MODIFIED:20250721T193135Z
UID:10007327-1902387600-1902405600@englewoodreview.com
SUMMARY:South Gulf Cove Farmer’s Market
DESCRIPTION:14859 Ingraham Blvd\, PC HOA Clubhouse\, 9AM – 2PM. Fresh vegtables\, breads\, local honey\, candy\, tamales\, bbq… Something new each weekend. 248-240-0012\, cakeejo@yahoo.com
URL:https://englewoodreview.com/event/south-gulf-cove-farmers-market/2030-04-14/
END:VEVENT
BEGIN:VEVENT
DTSTART;TZID=America/Halifax:20300420T080000
DTEND;TZID=America/Halifax:20300420T120000
DTSTAMP:20260423T025556
CREATED:20251023T185408Z
LAST-MODIFIED:20251023T185408Z
UID:10017924-1902902400-1902916800@englewoodreview.com
SUMMARY:Shop Local North Port Market
DESCRIPTION:Fresh produce\, coffee\, all natural pet treats\, lemonade\, guacamole\, sourdough bread\, German baker\, gourmet cookies\, local raw honey\, local/native plants\, organic tamales\, e-bikes/trikes\, handcrafted wood and leather products\, pottery\, handcrafted walking sticks\, freeze dried candy/fruit/veggies/spices….come by to visit and you’ll find even more vendors!! 25-40+ Vendors\, Food Trucks\, Music!!
URL:https://englewoodreview.com/event/shop-local-north-port-market/2030-04-20/
LOCATION:North Port High School\, 6400 W Price Blvd\, North Port\, 34291
ATTACH;FMTTYPE=image/png:https://englewoodreview.com/wp-content/uploads/2025/10/Shop-Local-Flyer.png
ORGANIZER;CN="Shop Local North Port Market":MAILTO:shoplocalnorthportmarket@gmail.com
END:VEVENT
BEGIN:VEVENT
DTSTART;TZID=UTC:20300421T090000
DTEND;TZID=UTC:20300421T130000
DTSTAMP:20260423T025556
CREATED:20250721T193307Z
LAST-MODIFIED:20250721T210412Z
UID:10007589-1902992400-1903006800@englewoodreview.com
SUMMARY:Fresh Harvest Farmers Market
DESCRIPTION:Wellen Park\, 19745 Wellen Park Blvd.\, Venice. 9AM–1PM.\nwellenpark.com.
URL:https://englewoodreview.com/event/fresh-harvest-farmers-market/2030-04-21/
END:VEVENT
BEGIN:VEVENT
DTSTART;TZID=UTC:20300421T090000
DTEND;TZID=UTC:20300421T140000
DTSTAMP:20260423T025556
CREATED:20250721T193135Z
LAST-MODIFIED:20250721T193135Z
UID:10007328-1902992400-1903010400@englewoodreview.com
SUMMARY:South Gulf Cove Farmer’s Market
DESCRIPTION:14859 Ingraham Blvd\, PC HOA Clubhouse\, 9AM – 2PM. Fresh vegtables\, breads\, local honey\, candy\, tamales\, bbq… Something new each weekend. 248-240-0012\, cakeejo@yahoo.com
URL:https://englewoodreview.com/event/south-gulf-cove-farmers-market/2030-04-21/
END:VEVENT
BEGIN:VEVENT
DTSTART;TZID=America/Halifax:20300427T080000
DTEND;TZID=America/Halifax:20300427T120000
DTSTAMP:20260423T025556
CREATED:20251023T185408Z
LAST-MODIFIED:20251023T185408Z
UID:10017925-1903507200-1903521600@englewoodreview.com
SUMMARY:Shop Local North Port Market
DESCRIPTION:Fresh produce\, coffee\, all natural pet treats\, lemonade\, guacamole\, sourdough bread\, German baker\, gourmet cookies\, local raw honey\, local/native plants\, organic tamales\, e-bikes/trikes\, handcrafted wood and leather products\, pottery\, handcrafted walking sticks\, freeze dried candy/fruit/veggies/spices….come by to visit and you’ll find even more vendors!! 25-40+ Vendors\, Food Trucks\, Music!!
URL:https://englewoodreview.com/event/shop-local-north-port-market/2030-04-27/
LOCATION:North Port High School\, 6400 W Price Blvd\, North Port\, 34291
ATTACH;FMTTYPE=image/png:https://englewoodreview.com/wp-content/uploads/2025/10/Shop-Local-Flyer.png
ORGANIZER;CN="Shop Local North Port Market":MAILTO:shoplocalnorthportmarket@gmail.com
END:VEVENT
BEGIN:VEVENT
DTSTART;TZID=UTC:20300428T090000
DTEND;TZID=UTC:20300428T130000
DTSTAMP:20260423T025556
CREATED:20250721T193307Z
LAST-MODIFIED:20250721T210412Z
UID:10007590-1903597200-1903611600@englewoodreview.com
SUMMARY:Fresh Harvest Farmers Market
DESCRIPTION:Wellen Park\, 19745 Wellen Park Blvd.\, Venice. 9AM–1PM.\nwellenpark.com.
URL:https://englewoodreview.com/event/fresh-harvest-farmers-market/2030-04-28/
END:VEVENT
BEGIN:VEVENT
DTSTART;TZID=UTC:20300428T090000
DTEND;TZID=UTC:20300428T140000
DTSTAMP:20260423T025556
CREATED:20250721T193135Z
LAST-MODIFIED:20250721T193135Z
UID:10007329-1903597200-1903615200@englewoodreview.com
SUMMARY:South Gulf Cove Farmer’s Market
DESCRIPTION:14859 Ingraham Blvd\, PC HOA Clubhouse\, 9AM – 2PM. Fresh vegtables\, breads\, local honey\, candy\, tamales\, bbq… Something new each weekend. 248-240-0012\, cakeejo@yahoo.com
URL:https://englewoodreview.com/event/south-gulf-cove-farmers-market/2030-04-28/
END:VEVENT
END:VCALENDAR