BEGIN:VCALENDAR
VERSION:2.0
PRODID:-//Englewood Review - ECPv6.15.15//NONSGML v1.0//EN
CALSCALE:GREGORIAN
METHOD:PUBLISH
X-WR-CALNAME:Englewood Review
X-ORIGINAL-URL:https://englewoodreview.com
X-WR-CALDESC:Events for Englewood Review
REFRESH-INTERVAL;VALUE=DURATION:PT1H
X-Robots-Tag:noindex
X-PUBLISHED-TTL:PT1H
BEGIN:VTIMEZONE
TZID:America/Halifax
BEGIN:DAYLIGHT
TZOFFSETFROM:-0400
TZOFFSETTO:-0300
TZNAME:ADT
DTSTART:20290311T060000
END:DAYLIGHT
BEGIN:STANDARD
TZOFFSETFROM:-0300
TZOFFSETTO:-0400
TZNAME:AST
DTSTART:20291104T050000
END:STANDARD
BEGIN:DAYLIGHT
TZOFFSETFROM:-0400
TZOFFSETTO:-0300
TZNAME:ADT
DTSTART:20300310T060000
END:DAYLIGHT
BEGIN:STANDARD
TZOFFSETFROM:-0300
TZOFFSETTO:-0400
TZNAME:AST
DTSTART:20301103T050000
END:STANDARD
BEGIN:DAYLIGHT
TZOFFSETFROM:-0400
TZOFFSETTO:-0300
TZNAME:ADT
DTSTART:20310309T060000
END:DAYLIGHT
BEGIN:STANDARD
TZOFFSETFROM:-0300
TZOFFSETTO:-0400
TZNAME:AST
DTSTART:20311102T050000
END:STANDARD
END:VTIMEZONE
BEGIN:VTIMEZONE
TZID:UTC
BEGIN:STANDARD
TZOFFSETFROM:+0000
TZOFFSETTO:+0000
TZNAME:UTC
DTSTART:20290101T000000
END:STANDARD
END:VTIMEZONE
BEGIN:VEVENT
DTSTART;TZID=America/Halifax:20300601T080000
DTEND;TZID=America/Halifax:20300601T120000
DTSTAMP:20260423T060728
CREATED:20251023T185408Z
LAST-MODIFIED:20251023T185408Z
UID:10017930-1906531200-1906545600@englewoodreview.com
SUMMARY:Shop Local North Port Market
DESCRIPTION:Fresh produce\, coffee\, all natural pet treats\, lemonade\, guacamole\, sourdough bread\, German baker\, gourmet cookies\, local raw honey\, local/native plants\, organic tamales\, e-bikes/trikes\, handcrafted wood and leather products\, pottery\, handcrafted walking sticks\, freeze dried candy/fruit/veggies/spices….come by to visit and you’ll find even more vendors!! 25-40+ Vendors\, Food Trucks\, Music!!
URL:https://englewoodreview.com/event/shop-local-north-port-market/2030-06-01/
LOCATION:North Port High School\, 6400 W Price Blvd\, North Port\, 34291
ATTACH;FMTTYPE=image/png:https://englewoodreview.com/wp-content/uploads/2025/10/Shop-Local-Flyer.png
ORGANIZER;CN="Shop Local North Port Market":MAILTO:shoplocalnorthportmarket@gmail.com
END:VEVENT
BEGIN:VEVENT
DTSTART;TZID=UTC:20300602T090000
DTEND;TZID=UTC:20300602T130000
DTSTAMP:20260423T060728
CREATED:20250721T193307Z
LAST-MODIFIED:20250721T210412Z
UID:10007595-1906621200-1906635600@englewoodreview.com
SUMMARY:Fresh Harvest Farmers Market
DESCRIPTION:Wellen Park\, 19745 Wellen Park Blvd.\, Venice. 9AM–1PM.\nwellenpark.com.
URL:https://englewoodreview.com/event/fresh-harvest-farmers-market/2030-06-02/
END:VEVENT
BEGIN:VEVENT
DTSTART;TZID=UTC:20300602T090000
DTEND;TZID=UTC:20300602T140000
DTSTAMP:20260423T060728
CREATED:20250721T193135Z
LAST-MODIFIED:20250721T193135Z
UID:10007334-1906621200-1906639200@englewoodreview.com
SUMMARY:South Gulf Cove Farmer’s Market
DESCRIPTION:14859 Ingraham Blvd\, PC HOA Clubhouse\, 9AM – 2PM. Fresh vegtables\, breads\, local honey\, candy\, tamales\, bbq… Something new each weekend. 248-240-0012\, cakeejo@yahoo.com
URL:https://englewoodreview.com/event/south-gulf-cove-farmers-market/2030-06-02/
END:VEVENT
BEGIN:VEVENT
DTSTART;TZID=America/Halifax:20300608T080000
DTEND;TZID=America/Halifax:20300608T120000
DTSTAMP:20260423T060728
CREATED:20251023T185408Z
LAST-MODIFIED:20251023T185408Z
UID:10017931-1907136000-1907150400@englewoodreview.com
SUMMARY:Shop Local North Port Market
DESCRIPTION:Fresh produce\, coffee\, all natural pet treats\, lemonade\, guacamole\, sourdough bread\, German baker\, gourmet cookies\, local raw honey\, local/native plants\, organic tamales\, e-bikes/trikes\, handcrafted wood and leather products\, pottery\, handcrafted walking sticks\, freeze dried candy/fruit/veggies/spices….come by to visit and you’ll find even more vendors!! 25-40+ Vendors\, Food Trucks\, Music!!
URL:https://englewoodreview.com/event/shop-local-north-port-market/2030-06-08/
LOCATION:North Port High School\, 6400 W Price Blvd\, North Port\, 34291
ATTACH;FMTTYPE=image/png:https://englewoodreview.com/wp-content/uploads/2025/10/Shop-Local-Flyer.png
ORGANIZER;CN="Shop Local North Port Market":MAILTO:shoplocalnorthportmarket@gmail.com
END:VEVENT
BEGIN:VEVENT
DTSTART;TZID=UTC:20300609T090000
DTEND;TZID=UTC:20300609T130000
DTSTAMP:20260423T060728
CREATED:20250721T193307Z
LAST-MODIFIED:20250721T210412Z
UID:10007596-1907226000-1907240400@englewoodreview.com
SUMMARY:Fresh Harvest Farmers Market
DESCRIPTION:Wellen Park\, 19745 Wellen Park Blvd.\, Venice. 9AM–1PM.\nwellenpark.com.
URL:https://englewoodreview.com/event/fresh-harvest-farmers-market/2030-06-09/
END:VEVENT
BEGIN:VEVENT
DTSTART;TZID=UTC:20300609T090000
DTEND;TZID=UTC:20300609T140000
DTSTAMP:20260423T060728
CREATED:20250721T193135Z
LAST-MODIFIED:20250721T193135Z
UID:10007335-1907226000-1907244000@englewoodreview.com
SUMMARY:South Gulf Cove Farmer’s Market
DESCRIPTION:14859 Ingraham Blvd\, PC HOA Clubhouse\, 9AM – 2PM. Fresh vegtables\, breads\, local honey\, candy\, tamales\, bbq… Something new each weekend. 248-240-0012\, cakeejo@yahoo.com
URL:https://englewoodreview.com/event/south-gulf-cove-farmers-market/2030-06-09/
END:VEVENT
BEGIN:VEVENT
DTSTART;TZID=America/Halifax:20300615T080000
DTEND;TZID=America/Halifax:20300615T120000
DTSTAMP:20260423T060728
CREATED:20251023T185408Z
LAST-MODIFIED:20251023T185408Z
UID:10017932-1907740800-1907755200@englewoodreview.com
SUMMARY:Shop Local North Port Market
DESCRIPTION:Fresh produce\, coffee\, all natural pet treats\, lemonade\, guacamole\, sourdough bread\, German baker\, gourmet cookies\, local raw honey\, local/native plants\, organic tamales\, e-bikes/trikes\, handcrafted wood and leather products\, pottery\, handcrafted walking sticks\, freeze dried candy/fruit/veggies/spices….come by to visit and you’ll find even more vendors!! 25-40+ Vendors\, Food Trucks\, Music!!
URL:https://englewoodreview.com/event/shop-local-north-port-market/2030-06-15/
LOCATION:North Port High School\, 6400 W Price Blvd\, North Port\, 34291
ATTACH;FMTTYPE=image/png:https://englewoodreview.com/wp-content/uploads/2025/10/Shop-Local-Flyer.png
ORGANIZER;CN="Shop Local North Port Market":MAILTO:shoplocalnorthportmarket@gmail.com
END:VEVENT
BEGIN:VEVENT
DTSTART;TZID=UTC:20300616T090000
DTEND;TZID=UTC:20300616T130000
DTSTAMP:20260423T060728
CREATED:20250721T193307Z
LAST-MODIFIED:20250721T210412Z
UID:10007597-1907830800-1907845200@englewoodreview.com
SUMMARY:Fresh Harvest Farmers Market
DESCRIPTION:Wellen Park\, 19745 Wellen Park Blvd.\, Venice. 9AM–1PM.\nwellenpark.com.
URL:https://englewoodreview.com/event/fresh-harvest-farmers-market/2030-06-16/
END:VEVENT
BEGIN:VEVENT
DTSTART;TZID=UTC:20300616T090000
DTEND;TZID=UTC:20300616T140000
DTSTAMP:20260423T060728
CREATED:20250721T193135Z
LAST-MODIFIED:20250721T193135Z
UID:10007336-1907830800-1907848800@englewoodreview.com
SUMMARY:South Gulf Cove Farmer’s Market
DESCRIPTION:14859 Ingraham Blvd\, PC HOA Clubhouse\, 9AM – 2PM. Fresh vegtables\, breads\, local honey\, candy\, tamales\, bbq… Something new each weekend. 248-240-0012\, cakeejo@yahoo.com
URL:https://englewoodreview.com/event/south-gulf-cove-farmers-market/2030-06-16/
END:VEVENT
BEGIN:VEVENT
DTSTART;TZID=America/Halifax:20300622T080000
DTEND;TZID=America/Halifax:20300622T120000
DTSTAMP:20260423T060728
CREATED:20251023T185408Z
LAST-MODIFIED:20251023T185408Z
UID:10017933-1908345600-1908360000@englewoodreview.com
SUMMARY:Shop Local North Port Market
DESCRIPTION:Fresh produce\, coffee\, all natural pet treats\, lemonade\, guacamole\, sourdough bread\, German baker\, gourmet cookies\, local raw honey\, local/native plants\, organic tamales\, e-bikes/trikes\, handcrafted wood and leather products\, pottery\, handcrafted walking sticks\, freeze dried candy/fruit/veggies/spices….come by to visit and you’ll find even more vendors!! 25-40+ Vendors\, Food Trucks\, Music!!
URL:https://englewoodreview.com/event/shop-local-north-port-market/2030-06-22/
LOCATION:North Port High School\, 6400 W Price Blvd\, North Port\, 34291
ATTACH;FMTTYPE=image/png:https://englewoodreview.com/wp-content/uploads/2025/10/Shop-Local-Flyer.png
ORGANIZER;CN="Shop Local North Port Market":MAILTO:shoplocalnorthportmarket@gmail.com
END:VEVENT
BEGIN:VEVENT
DTSTART;TZID=UTC:20300623T090000
DTEND;TZID=UTC:20300623T130000
DTSTAMP:20260423T060728
CREATED:20250721T193307Z
LAST-MODIFIED:20250721T210412Z
UID:10007598-1908435600-1908450000@englewoodreview.com
SUMMARY:Fresh Harvest Farmers Market
DESCRIPTION:Wellen Park\, 19745 Wellen Park Blvd.\, Venice. 9AM–1PM.\nwellenpark.com.
URL:https://englewoodreview.com/event/fresh-harvest-farmers-market/2030-06-23/
END:VEVENT
BEGIN:VEVENT
DTSTART;TZID=UTC:20300623T090000
DTEND;TZID=UTC:20300623T140000
DTSTAMP:20260423T060728
CREATED:20250721T193135Z
LAST-MODIFIED:20250721T193135Z
UID:10007337-1908435600-1908453600@englewoodreview.com
SUMMARY:South Gulf Cove Farmer’s Market
DESCRIPTION:14859 Ingraham Blvd\, PC HOA Clubhouse\, 9AM – 2PM. Fresh vegtables\, breads\, local honey\, candy\, tamales\, bbq… Something new each weekend. 248-240-0012\, cakeejo@yahoo.com
URL:https://englewoodreview.com/event/south-gulf-cove-farmers-market/2030-06-23/
END:VEVENT
BEGIN:VEVENT
DTSTART;TZID=America/Halifax:20300629T080000
DTEND;TZID=America/Halifax:20300629T120000
DTSTAMP:20260423T060728
CREATED:20251023T185408Z
LAST-MODIFIED:20251023T185408Z
UID:10017934-1908950400-1908964800@englewoodreview.com
SUMMARY:Shop Local North Port Market
DESCRIPTION:Fresh produce\, coffee\, all natural pet treats\, lemonade\, guacamole\, sourdough bread\, German baker\, gourmet cookies\, local raw honey\, local/native plants\, organic tamales\, e-bikes/trikes\, handcrafted wood and leather products\, pottery\, handcrafted walking sticks\, freeze dried candy/fruit/veggies/spices….come by to visit and you’ll find even more vendors!! 25-40+ Vendors\, Food Trucks\, Music!!
URL:https://englewoodreview.com/event/shop-local-north-port-market/2030-06-29/
LOCATION:North Port High School\, 6400 W Price Blvd\, North Port\, 34291
ATTACH;FMTTYPE=image/png:https://englewoodreview.com/wp-content/uploads/2025/10/Shop-Local-Flyer.png
ORGANIZER;CN="Shop Local North Port Market":MAILTO:shoplocalnorthportmarket@gmail.com
END:VEVENT
BEGIN:VEVENT
DTSTART;TZID=UTC:20300630T090000
DTEND;TZID=UTC:20300630T130000
DTSTAMP:20260423T060728
CREATED:20250721T193307Z
LAST-MODIFIED:20250721T210412Z
UID:10007599-1909040400-1909054800@englewoodreview.com
SUMMARY:Fresh Harvest Farmers Market
DESCRIPTION:Wellen Park\, 19745 Wellen Park Blvd.\, Venice. 9AM–1PM.\nwellenpark.com.
URL:https://englewoodreview.com/event/fresh-harvest-farmers-market/2030-06-30/
END:VEVENT
BEGIN:VEVENT
DTSTART;TZID=UTC:20300630T090000
DTEND;TZID=UTC:20300630T140000
DTSTAMP:20260423T060728
CREATED:20250721T193135Z
LAST-MODIFIED:20250721T193135Z
UID:10007338-1909040400-1909058400@englewoodreview.com
SUMMARY:South Gulf Cove Farmer’s Market
DESCRIPTION:14859 Ingraham Blvd\, PC HOA Clubhouse\, 9AM – 2PM. Fresh vegtables\, breads\, local honey\, candy\, tamales\, bbq… Something new each weekend. 248-240-0012\, cakeejo@yahoo.com
URL:https://englewoodreview.com/event/south-gulf-cove-farmers-market/2030-06-30/
END:VEVENT
END:VCALENDAR