BEGIN:VCALENDAR
VERSION:2.0
PRODID:-//Englewood Review - ECPv6.15.15//NONSGML v1.0//EN
CALSCALE:GREGORIAN
METHOD:PUBLISH
X-WR-CALNAME:Englewood Review
X-ORIGINAL-URL:https://englewoodreview.com
X-WR-CALDESC:Events for Englewood Review
REFRESH-INTERVAL;VALUE=DURATION:PT1H
X-Robots-Tag:noindex
X-PUBLISHED-TTL:PT1H
BEGIN:VTIMEZONE
TZID:America/Halifax
BEGIN:DAYLIGHT
TZOFFSETFROM:-0400
TZOFFSETTO:-0300
TZNAME:ADT
DTSTART:20290311T060000
END:DAYLIGHT
BEGIN:STANDARD
TZOFFSETFROM:-0300
TZOFFSETTO:-0400
TZNAME:AST
DTSTART:20291104T050000
END:STANDARD
BEGIN:DAYLIGHT
TZOFFSETFROM:-0400
TZOFFSETTO:-0300
TZNAME:ADT
DTSTART:20300310T060000
END:DAYLIGHT
BEGIN:STANDARD
TZOFFSETFROM:-0300
TZOFFSETTO:-0400
TZNAME:AST
DTSTART:20301103T050000
END:STANDARD
BEGIN:DAYLIGHT
TZOFFSETFROM:-0400
TZOFFSETTO:-0300
TZNAME:ADT
DTSTART:20310309T060000
END:DAYLIGHT
BEGIN:STANDARD
TZOFFSETFROM:-0300
TZOFFSETTO:-0400
TZNAME:AST
DTSTART:20311102T050000
END:STANDARD
END:VTIMEZONE
BEGIN:VEVENT
DTSTART;TZID=America/Halifax:20300803T080000
DTEND;TZID=America/Halifax:20300803T120000
DTSTAMP:20260423T090616
CREATED:20251023T185408Z
LAST-MODIFIED:20251023T185408Z
UID:10017939-1911974400-1911988800@englewoodreview.com
SUMMARY:Shop Local North Port Market
DESCRIPTION:Fresh produce\, coffee\, all natural pet treats\, lemonade\, guacamole\, sourdough bread\, German baker\, gourmet cookies\, local raw honey\, local/native plants\, organic tamales\, e-bikes/trikes\, handcrafted wood and leather products\, pottery\, handcrafted walking sticks\, freeze dried candy/fruit/veggies/spices….come by to visit and you’ll find even more vendors!! 25-40+ Vendors\, Food Trucks\, Music!!
URL:https://englewoodreview.com/event/shop-local-north-port-market/2030-08-03/
LOCATION:North Port High School\, 6400 W Price Blvd\, North Port\, 34291
ATTACH;FMTTYPE=image/png:https://englewoodreview.com/wp-content/uploads/2025/10/Shop-Local-Flyer.png
ORGANIZER;CN="Shop Local North Port Market":MAILTO:shoplocalnorthportmarket@gmail.com
END:VEVENT
BEGIN:VEVENT
DTSTART;TZID=America/Halifax:20300810T080000
DTEND;TZID=America/Halifax:20300810T120000
DTSTAMP:20260423T090616
CREATED:20251023T185408Z
LAST-MODIFIED:20251023T185408Z
UID:10017940-1912579200-1912593600@englewoodreview.com
SUMMARY:Shop Local North Port Market
DESCRIPTION:Fresh produce\, coffee\, all natural pet treats\, lemonade\, guacamole\, sourdough bread\, German baker\, gourmet cookies\, local raw honey\, local/native plants\, organic tamales\, e-bikes/trikes\, handcrafted wood and leather products\, pottery\, handcrafted walking sticks\, freeze dried candy/fruit/veggies/spices….come by to visit and you’ll find even more vendors!! 25-40+ Vendors\, Food Trucks\, Music!!
URL:https://englewoodreview.com/event/shop-local-north-port-market/2030-08-10/
LOCATION:North Port High School\, 6400 W Price Blvd\, North Port\, 34291
ATTACH;FMTTYPE=image/png:https://englewoodreview.com/wp-content/uploads/2025/10/Shop-Local-Flyer.png
ORGANIZER;CN="Shop Local North Port Market":MAILTO:shoplocalnorthportmarket@gmail.com
END:VEVENT
BEGIN:VEVENT
DTSTART;TZID=America/Halifax:20300817T080000
DTEND;TZID=America/Halifax:20300817T120000
DTSTAMP:20260423T090616
CREATED:20251023T185408Z
LAST-MODIFIED:20251023T185408Z
UID:10017941-1913184000-1913198400@englewoodreview.com
SUMMARY:Shop Local North Port Market
DESCRIPTION:Fresh produce\, coffee\, all natural pet treats\, lemonade\, guacamole\, sourdough bread\, German baker\, gourmet cookies\, local raw honey\, local/native plants\, organic tamales\, e-bikes/trikes\, handcrafted wood and leather products\, pottery\, handcrafted walking sticks\, freeze dried candy/fruit/veggies/spices….come by to visit and you’ll find even more vendors!! 25-40+ Vendors\, Food Trucks\, Music!!
URL:https://englewoodreview.com/event/shop-local-north-port-market/2030-08-17/
LOCATION:North Port High School\, 6400 W Price Blvd\, North Port\, 34291
ATTACH;FMTTYPE=image/png:https://englewoodreview.com/wp-content/uploads/2025/10/Shop-Local-Flyer.png
ORGANIZER;CN="Shop Local North Port Market":MAILTO:shoplocalnorthportmarket@gmail.com
END:VEVENT
BEGIN:VEVENT
DTSTART;TZID=America/Halifax:20300824T080000
DTEND;TZID=America/Halifax:20300824T120000
DTSTAMP:20260423T090616
CREATED:20251023T185408Z
LAST-MODIFIED:20251023T185408Z
UID:10017942-1913788800-1913803200@englewoodreview.com
SUMMARY:Shop Local North Port Market
DESCRIPTION:Fresh produce\, coffee\, all natural pet treats\, lemonade\, guacamole\, sourdough bread\, German baker\, gourmet cookies\, local raw honey\, local/native plants\, organic tamales\, e-bikes/trikes\, handcrafted wood and leather products\, pottery\, handcrafted walking sticks\, freeze dried candy/fruit/veggies/spices….come by to visit and you’ll find even more vendors!! 25-40+ Vendors\, Food Trucks\, Music!!
URL:https://englewoodreview.com/event/shop-local-north-port-market/2030-08-24/
LOCATION:North Port High School\, 6400 W Price Blvd\, North Port\, 34291
ATTACH;FMTTYPE=image/png:https://englewoodreview.com/wp-content/uploads/2025/10/Shop-Local-Flyer.png
ORGANIZER;CN="Shop Local North Port Market":MAILTO:shoplocalnorthportmarket@gmail.com
END:VEVENT
BEGIN:VEVENT
DTSTART;TZID=America/Halifax:20300831T080000
DTEND;TZID=America/Halifax:20300831T120000
DTSTAMP:20260423T090616
CREATED:20251023T185408Z
LAST-MODIFIED:20251023T185408Z
UID:10017943-1914393600-1914408000@englewoodreview.com
SUMMARY:Shop Local North Port Market
DESCRIPTION:Fresh produce\, coffee\, all natural pet treats\, lemonade\, guacamole\, sourdough bread\, German baker\, gourmet cookies\, local raw honey\, local/native plants\, organic tamales\, e-bikes/trikes\, handcrafted wood and leather products\, pottery\, handcrafted walking sticks\, freeze dried candy/fruit/veggies/spices….come by to visit and you’ll find even more vendors!! 25-40+ Vendors\, Food Trucks\, Music!!
URL:https://englewoodreview.com/event/shop-local-north-port-market/2030-08-31/
LOCATION:North Port High School\, 6400 W Price Blvd\, North Port\, 34291
ATTACH;FMTTYPE=image/png:https://englewoodreview.com/wp-content/uploads/2025/10/Shop-Local-Flyer.png
ORGANIZER;CN="Shop Local North Port Market":MAILTO:shoplocalnorthportmarket@gmail.com
END:VEVENT
END:VCALENDAR