BEGIN:VCALENDAR
VERSION:2.0
PRODID:-//Englewood Review - ECPv6.15.15//NONSGML v1.0//EN
CALSCALE:GREGORIAN
METHOD:PUBLISH
X-WR-CALNAME:Englewood Review
X-ORIGINAL-URL:https://englewoodreview.com
X-WR-CALDESC:Events for Englewood Review
REFRESH-INTERVAL;VALUE=DURATION:PT1H
X-Robots-Tag:noindex
X-PUBLISHED-TTL:PT1H
BEGIN:VTIMEZONE
TZID:America/Halifax
BEGIN:DAYLIGHT
TZOFFSETFROM:-0400
TZOFFSETTO:-0300
TZNAME:ADT
DTSTART:20250309T060000
END:DAYLIGHT
BEGIN:STANDARD
TZOFFSETFROM:-0300
TZOFFSETTO:-0400
TZNAME:AST
DTSTART:20251102T050000
END:STANDARD
BEGIN:DAYLIGHT
TZOFFSETFROM:-0400
TZOFFSETTO:-0300
TZNAME:ADT
DTSTART:20260308T060000
END:DAYLIGHT
BEGIN:STANDARD
TZOFFSETFROM:-0300
TZOFFSETTO:-0400
TZNAME:AST
DTSTART:20261101T050000
END:STANDARD
BEGIN:DAYLIGHT
TZOFFSETFROM:-0400
TZOFFSETTO:-0300
TZNAME:ADT
DTSTART:20270314T060000
END:DAYLIGHT
BEGIN:STANDARD
TZOFFSETFROM:-0300
TZOFFSETTO:-0400
TZNAME:AST
DTSTART:20271107T050000
END:STANDARD
END:VTIMEZONE
BEGIN:VEVENT
DTSTART;TZID=America/Halifax:20260315T193000
DTEND;TZID=America/Halifax:20260315T213000
DTSTAMP:20260422T001813
CREATED:20260218T195859Z
LAST-MODIFIED:20260218T195859Z
UID:10027442-1773603000-1773610200@englewoodreview.com
SUMMARY:The Wanderers
DESCRIPTION:The Bronx Wanderers deliver a high-energy show filled with a vast repertoire of songs through multiple decades and genres. As they take you on their family journey through life and music\, you’ll hear songs by Dion and The Belmonts\, Frankie Valli and the Four Seasons\, Billy Joel\, The Animals\, Queen\, and artists from today’s generation. \nTickets $56
URL:https://englewoodreview.com/event/the-wanderers/
LOCATION:Venice Performing Arts Center\, 1 Indian Ave.\, Venice\, FL\, 34285\, United States
ATTACH;FMTTYPE=image/jpeg:https://englewoodreview.com/wp-content/uploads/2026/02/Bronx-Wanderers-scaled.jpg
ORGANIZER;CN="Venice Theatre":MAILTO:info@venicetheatre.net
END:VEVENT
BEGIN:VEVENT
DTSTART;TZID=America/Halifax:20260317T193000
DTEND;TZID=America/Halifax:20260317T213000
DTSTAMP:20260422T001813
CREATED:20260211T162456Z
LAST-MODIFIED:20260211T162456Z
UID:10025882-1773775800-1773783000@englewoodreview.com
SUMMARY:The Silver Foxes Together We Rise\, A VT Fable
DESCRIPTION:The “youngest” cast in town will once again regale you with song\, dance\, and ribald humor in their new variety show. Being “mature” never looked and sounded so good.
URL:https://englewoodreview.com/event/the-silver-foxes-together-we-rise-a-vt-fable/2026-03-17/
LOCATION:Venice Theatre Raymond Center\, 140 Tampa Ave. W\, Venice\, 32485
ATTACH;FMTTYPE=image/jpeg:https://englewoodreview.com/wp-content/uploads/2026/02/031726SilverFoxes800x600-scaled.jpg
ORGANIZER;CN="Venice Theatre":MAILTO:info@venicetheatre.net
END:VEVENT
BEGIN:VEVENT
DTSTART;TZID=America/Halifax:20260318T193000
DTEND;TZID=America/Halifax:20260318T213000
DTSTAMP:20260422T001813
CREATED:20260211T162456Z
LAST-MODIFIED:20260211T162456Z
UID:10025883-1773862200-1773869400@englewoodreview.com
SUMMARY:The Silver Foxes Together We Rise\, A VT Fable
DESCRIPTION:The “youngest” cast in town will once again regale you with song\, dance\, and ribald humor in their new variety show. Being “mature” never looked and sounded so good.
URL:https://englewoodreview.com/event/the-silver-foxes-together-we-rise-a-vt-fable/2026-03-18/
LOCATION:Venice Theatre Raymond Center\, 140 Tampa Ave. W\, Venice\, 32485
ATTACH;FMTTYPE=image/jpeg:https://englewoodreview.com/wp-content/uploads/2026/02/031726SilverFoxes800x600-scaled.jpg
ORGANIZER;CN="Venice Theatre":MAILTO:info@venicetheatre.net
END:VEVENT
BEGIN:VEVENT
DTSTART;TZID=America/Halifax:20260319T193000
DTEND;TZID=America/Halifax:20260319T213000
DTSTAMP:20260422T001813
CREATED:20260211T162456Z
LAST-MODIFIED:20260211T162456Z
UID:10025884-1773948600-1773955800@englewoodreview.com
SUMMARY:The Silver Foxes Together We Rise\, A VT Fable
DESCRIPTION:The “youngest” cast in town will once again regale you with song\, dance\, and ribald humor in their new variety show. Being “mature” never looked and sounded so good.
URL:https://englewoodreview.com/event/the-silver-foxes-together-we-rise-a-vt-fable/2026-03-19/
LOCATION:Venice Theatre Raymond Center\, 140 Tampa Ave. W\, Venice\, 32485
ATTACH;FMTTYPE=image/jpeg:https://englewoodreview.com/wp-content/uploads/2026/02/031726SilverFoxes800x600-scaled.jpg
ORGANIZER;CN="Venice Theatre":MAILTO:info@venicetheatre.net
END:VEVENT
BEGIN:VEVENT
DTSTART;TZID=America/Halifax:20260320T193000
DTEND;TZID=America/Halifax:20260320T213000
DTSTAMP:20260422T001813
CREATED:20260211T162456Z
LAST-MODIFIED:20260211T162456Z
UID:10025885-1774035000-1774042200@englewoodreview.com
SUMMARY:The Silver Foxes Together We Rise\, A VT Fable
DESCRIPTION:The “youngest” cast in town will once again regale you with song\, dance\, and ribald humor in their new variety show. Being “mature” never looked and sounded so good.
URL:https://englewoodreview.com/event/the-silver-foxes-together-we-rise-a-vt-fable/2026-03-20/
LOCATION:Venice Theatre Raymond Center\, 140 Tampa Ave. W\, Venice\, 32485
ATTACH;FMTTYPE=image/jpeg:https://englewoodreview.com/wp-content/uploads/2026/02/031726SilverFoxes800x600-scaled.jpg
ORGANIZER;CN="Venice Theatre":MAILTO:info@venicetheatre.net
END:VEVENT
BEGIN:VEVENT
DTSTART;TZID=America/Halifax:20260321T193000
DTEND;TZID=America/Halifax:20260321T213000
DTSTAMP:20260422T001813
CREATED:20260211T162456Z
LAST-MODIFIED:20260211T162456Z
UID:10025886-1774121400-1774128600@englewoodreview.com
SUMMARY:The Silver Foxes Together We Rise\, A VT Fable
DESCRIPTION:The “youngest” cast in town will once again regale you with song\, dance\, and ribald humor in their new variety show. Being “mature” never looked and sounded so good.
URL:https://englewoodreview.com/event/the-silver-foxes-together-we-rise-a-vt-fable/2026-03-21/
LOCATION:Venice Theatre Raymond Center\, 140 Tampa Ave. W\, Venice\, 32485
ATTACH;FMTTYPE=image/jpeg:https://englewoodreview.com/wp-content/uploads/2026/02/031726SilverFoxes800x600-scaled.jpg
ORGANIZER;CN="Venice Theatre":MAILTO:info@venicetheatre.net
END:VEVENT
BEGIN:VEVENT
DTSTART;TZID=America/Halifax:20260322T140000
DTEND;TZID=America/Halifax:20260322T160000
DTSTAMP:20260422T001813
CREATED:20260211T162456Z
LAST-MODIFIED:20260211T162456Z
UID:10026627-1774188000-1774195200@englewoodreview.com
SUMMARY:The Silver Foxes Together We Rise\, A VT Fable
DESCRIPTION:The “youngest” cast in town will once again regale you with song\, dance\, and ribald humor in their new variety show. Being “mature” never looked and sounded so good.
URL:https://englewoodreview.com/event/the-silver-foxes-together-we-rise-a-vt-fable/2026-03-22/
LOCATION:Venice Theatre Raymond Center\, 140 Tampa Ave. W\, Venice\, 32485
ATTACH;FMTTYPE=image/jpeg:https://englewoodreview.com/wp-content/uploads/2026/02/031726SilverFoxes800x600-scaled.jpg
ORGANIZER;CN="Venice Theatre":MAILTO:info@venicetheatre.net
END:VEVENT
BEGIN:VEVENT
DTSTART;TZID=America/Halifax:20260322T193000
DTEND;TZID=America/Halifax:20260322T213000
DTSTAMP:20260422T001813
CREATED:20260225T180619Z
LAST-MODIFIED:20260225T180619Z
UID:10027461-1774207800-1774215000@englewoodreview.com
SUMMARY:Sounds of Soul
DESCRIPTION:Get ready to relive the hits of Motown and beyond as this exciting\, high-energy act unleashes superior vocals and slick dance moves powered by pure soul! \nTickets $50
URL:https://englewoodreview.com/event/sounds-of-soul/
LOCATION:Venice Performing Arts Center\, 1 Indian Ave.\, Venice\, FL\, 34285\, United States
ATTACH;FMTTYPE=image/jpeg:https://englewoodreview.com/wp-content/uploads/2026/02/Sounds-of-Soul-2022-scaled.jpg
ORGANIZER;CN="Venice Theatre":MAILTO:info@venicetheatre.net
END:VEVENT
END:VCALENDAR