BEGIN:VCALENDAR
VERSION:2.0
PRODID:-//Englewood Review - ECPv6.15.15//NONSGML v1.0//EN
CALSCALE:GREGORIAN
METHOD:PUBLISH
X-ORIGINAL-URL:https://englewoodreview.com
X-WR-CALDESC:Events for Englewood Review
REFRESH-INTERVAL;VALUE=DURATION:PT1H
X-Robots-Tag:noindex
X-PUBLISHED-TTL:PT1H
BEGIN:VTIMEZONE
TZID:UTC
BEGIN:STANDARD
TZOFFSETFROM:+0000
TZOFFSETTO:+0000
TZNAME:UTC
DTSTART:20240101T000000
END:STANDARD
END:VTIMEZONE
BEGIN:VEVENT
DTSTART;TZID=UTC:20250727T080000
DTEND;TZID=UTC:20250727T110000
DTSTAMP:20260421T165806
CREATED:20250721T193642Z
LAST-MODIFIED:20250721T193642Z
UID:10007864-1753603200-1753614000@englewoodreview.com
SUMMARY:Elks Sunday Breakfast
DESCRIPTION:Englewood Elks\, 401 N. Indiana Ave. 8–11AM. All you can eat breakfast for $14 \, includes beverage. 941-474-1404.
URL:https://englewoodreview.com/event/elks-sunday-breakfast-2/2025-07-27/
LOCATION:Englewood Elks Lodge\, 401 N. Indiana Avenue\, Englewood\, FL\, 34223\, United States
END:VEVENT
BEGIN:VEVENT
DTSTART;TZID=UTC:20250727T083000
DTEND;TZID=UTC:20250727T110000
DTSTAMP:20260421T165806
CREATED:20250721T193515Z
LAST-MODIFIED:20250721T194149Z
UID:10007603-1753605000-1753614000@englewoodreview.com
SUMMARY:Eagles Sunday Breakfast
DESCRIPTION:Fraternal Order of the Eagles #3885\, 250 Old Englewood Road. 8:30–11AM. Enjoy breakfast with coffee and tea bar for only $12. Open to the public. 941-474-9802.
URL:https://englewoodreview.com/event/eagles-sunday-breakfast/2025-07-27/
LOCATION:FL
END:VEVENT
END:VCALENDAR