BEGIN:VCALENDAR
VERSION:2.0
PRODID:-//Englewood Review - ECPv6.15.15//NONSGML v1.0//EN
CALSCALE:GREGORIAN
METHOD:PUBLISH
X-WR-CALNAME:Englewood Review
X-ORIGINAL-URL:https://englewoodreview.com
X-WR-CALDESC:Events for Englewood Review
REFRESH-INTERVAL;VALUE=DURATION:PT1H
X-Robots-Tag:noindex
X-PUBLISHED-TTL:PT1H
BEGIN:VTIMEZONE
TZID:UTC
BEGIN:STANDARD
TZOFFSETFROM:+0000
TZOFFSETTO:+0000
TZNAME:UTC
DTSTART:20240101T000000
END:STANDARD
END:VTIMEZONE
BEGIN:VEVENT
DTSTART;TZID=UTC:20250907T080000
DTEND;TZID=UTC:20250907T110000
DTSTAMP:20260421T132326
CREATED:20250721T193642Z
LAST-MODIFIED:20250721T193642Z
UID:10007870-1757232000-1757242800@englewoodreview.com
SUMMARY:Elks Sunday Breakfast
DESCRIPTION:Englewood Elks\, 401 N. Indiana Ave. 8–11AM. All you can eat breakfast for $14 \, includes beverage. 941-474-1404.
URL:https://englewoodreview.com/event/elks-sunday-breakfast-2/2025-09-07/
LOCATION:Englewood Elks Lodge\, 401 N. Indiana Avenue\, Englewood\, FL\, 34223\, United States
END:VEVENT
BEGIN:VEVENT
DTSTART;TZID=UTC:20250907T083000
DTEND;TZID=UTC:20250907T110000
DTSTAMP:20260421T132326
CREATED:20250721T193515Z
LAST-MODIFIED:20250721T194149Z
UID:10007609-1757233800-1757242800@englewoodreview.com
SUMMARY:Eagles Sunday Breakfast
DESCRIPTION:Fraternal Order of the Eagles #3885\, 250 Old Englewood Road. 8:30–11AM. Enjoy breakfast with coffee and tea bar for only $12. Open to the public. 941-474-9802.
URL:https://englewoodreview.com/event/eagles-sunday-breakfast/2025-09-07/
LOCATION:FL
END:VEVENT
BEGIN:VEVENT
DTSTART;TZID=UTC:20250914T080000
DTEND;TZID=UTC:20250914T110000
DTSTAMP:20260421T132326
CREATED:20250721T193642Z
LAST-MODIFIED:20250721T193642Z
UID:10007871-1757836800-1757847600@englewoodreview.com
SUMMARY:Elks Sunday Breakfast
DESCRIPTION:Englewood Elks\, 401 N. Indiana Ave. 8–11AM. All you can eat breakfast for $14 \, includes beverage. 941-474-1404.
URL:https://englewoodreview.com/event/elks-sunday-breakfast-2/2025-09-14/
LOCATION:Englewood Elks Lodge\, 401 N. Indiana Avenue\, Englewood\, FL\, 34223\, United States
END:VEVENT
BEGIN:VEVENT
DTSTART;TZID=UTC:20250914T083000
DTEND;TZID=UTC:20250914T110000
DTSTAMP:20260421T132326
CREATED:20250721T193515Z
LAST-MODIFIED:20250721T194149Z
UID:10007610-1757838600-1757847600@englewoodreview.com
SUMMARY:Eagles Sunday Breakfast
DESCRIPTION:Fraternal Order of the Eagles #3885\, 250 Old Englewood Road. 8:30–11AM. Enjoy breakfast with coffee and tea bar for only $12. Open to the public. 941-474-9802.
URL:https://englewoodreview.com/event/eagles-sunday-breakfast/2025-09-14/
LOCATION:FL
END:VEVENT
BEGIN:VEVENT
DTSTART;TZID=UTC:20250921T080000
DTEND;TZID=UTC:20250921T110000
DTSTAMP:20260421T132326
CREATED:20250721T193642Z
LAST-MODIFIED:20250721T193642Z
UID:10007872-1758441600-1758452400@englewoodreview.com
SUMMARY:Elks Sunday Breakfast
DESCRIPTION:Englewood Elks\, 401 N. Indiana Ave. 8–11AM. All you can eat breakfast for $14 \, includes beverage. 941-474-1404.
URL:https://englewoodreview.com/event/elks-sunday-breakfast-2/2025-09-21/
LOCATION:Englewood Elks Lodge\, 401 N. Indiana Avenue\, Englewood\, FL\, 34223\, United States
END:VEVENT
BEGIN:VEVENT
DTSTART;TZID=UTC:20250921T083000
DTEND;TZID=UTC:20250921T110000
DTSTAMP:20260421T132326
CREATED:20250721T193515Z
LAST-MODIFIED:20250721T194149Z
UID:10007611-1758443400-1758452400@englewoodreview.com
SUMMARY:Eagles Sunday Breakfast
DESCRIPTION:Fraternal Order of the Eagles #3885\, 250 Old Englewood Road. 8:30–11AM. Enjoy breakfast with coffee and tea bar for only $12. Open to the public. 941-474-9802.
URL:https://englewoodreview.com/event/eagles-sunday-breakfast/2025-09-21/
LOCATION:FL
END:VEVENT
BEGIN:VEVENT
DTSTART;TZID=UTC:20250928T080000
DTEND;TZID=UTC:20250928T110000
DTSTAMP:20260421T132326
CREATED:20250721T193642Z
LAST-MODIFIED:20250721T193642Z
UID:10007873-1759046400-1759057200@englewoodreview.com
SUMMARY:Elks Sunday Breakfast
DESCRIPTION:Englewood Elks\, 401 N. Indiana Ave. 8–11AM. All you can eat breakfast for $14 \, includes beverage. 941-474-1404.
URL:https://englewoodreview.com/event/elks-sunday-breakfast-2/2025-09-28/
LOCATION:Englewood Elks Lodge\, 401 N. Indiana Avenue\, Englewood\, FL\, 34223\, United States
END:VEVENT
BEGIN:VEVENT
DTSTART;TZID=UTC:20250928T083000
DTEND;TZID=UTC:20250928T110000
DTSTAMP:20260421T132326
CREATED:20250721T193515Z
LAST-MODIFIED:20250721T194149Z
UID:10007612-1759048200-1759057200@englewoodreview.com
SUMMARY:Eagles Sunday Breakfast
DESCRIPTION:Fraternal Order of the Eagles #3885\, 250 Old Englewood Road. 8:30–11AM. Enjoy breakfast with coffee and tea bar for only $12. Open to the public. 941-474-9802.
URL:https://englewoodreview.com/event/eagles-sunday-breakfast/2025-09-28/
LOCATION:FL
END:VEVENT
END:VCALENDAR