BEGIN:VCALENDAR
VERSION:2.0
PRODID:-//Englewood Review - ECPv6.15.15//NONSGML v1.0//EN
CALSCALE:GREGORIAN
METHOD:PUBLISH
X-ORIGINAL-URL:https://englewoodreview.com
X-WR-CALDESC:Events for Englewood Review
REFRESH-INTERVAL;VALUE=DURATION:PT1H
X-Robots-Tag:noindex
X-PUBLISHED-TTL:PT1H
BEGIN:VTIMEZONE
TZID:UTC
BEGIN:STANDARD
TZOFFSETFROM:+0000
TZOFFSETTO:+0000
TZNAME:UTC
DTSTART:20240101T000000
END:STANDARD
END:VTIMEZONE
BEGIN:VEVENT
DTSTART;TZID=UTC:20251102T080000
DTEND;TZID=UTC:20251102T110000
DTSTAMP:20260421T101656
CREATED:20250721T193642Z
LAST-MODIFIED:20250721T193642Z
UID:10007878-1762070400-1762081200@englewoodreview.com
SUMMARY:Elks Sunday Breakfast
DESCRIPTION:Englewood Elks\, 401 N. Indiana Ave. 8–11AM. All you can eat breakfast for $14 \, includes beverage. 941-474-1404.
URL:https://englewoodreview.com/event/elks-sunday-breakfast-2/2025-11-02/
LOCATION:Englewood Elks Lodge\, 401 N. Indiana Avenue\, Englewood\, FL\, 34223\, United States
END:VEVENT
BEGIN:VEVENT
DTSTART;TZID=UTC:20251102T083000
DTEND;TZID=UTC:20251102T110000
DTSTAMP:20260421T101656
CREATED:20250721T193515Z
LAST-MODIFIED:20250721T194149Z
UID:10007617-1762072200-1762081200@englewoodreview.com
SUMMARY:Eagles Sunday Breakfast
DESCRIPTION:Fraternal Order of the Eagles #3885\, 250 Old Englewood Road. 8:30–11AM. Enjoy breakfast with coffee and tea bar for only $12. Open to the public. 941-474-9802.
URL:https://englewoodreview.com/event/eagles-sunday-breakfast/2025-11-02/
LOCATION:FL
END:VEVENT
BEGIN:VEVENT
DTSTART;TZID=UTC:20251109T080000
DTEND;TZID=UTC:20251109T110000
DTSTAMP:20260421T101656
CREATED:20250721T193642Z
LAST-MODIFIED:20250721T193642Z
UID:10007879-1762675200-1762686000@englewoodreview.com
SUMMARY:Elks Sunday Breakfast
DESCRIPTION:Englewood Elks\, 401 N. Indiana Ave. 8–11AM. All you can eat breakfast for $14 \, includes beverage. 941-474-1404.
URL:https://englewoodreview.com/event/elks-sunday-breakfast-2/2025-11-09/
LOCATION:Englewood Elks Lodge\, 401 N. Indiana Avenue\, Englewood\, FL\, 34223\, United States
END:VEVENT
BEGIN:VEVENT
DTSTART;TZID=UTC:20251109T083000
DTEND;TZID=UTC:20251109T110000
DTSTAMP:20260421T101656
CREATED:20250721T193515Z
LAST-MODIFIED:20250721T194149Z
UID:10007618-1762677000-1762686000@englewoodreview.com
SUMMARY:Eagles Sunday Breakfast
DESCRIPTION:Fraternal Order of the Eagles #3885\, 250 Old Englewood Road. 8:30–11AM. Enjoy breakfast with coffee and tea bar for only $12. Open to the public. 941-474-9802.
URL:https://englewoodreview.com/event/eagles-sunday-breakfast/2025-11-09/
LOCATION:FL
END:VEVENT
BEGIN:VEVENT
DTSTART;TZID=UTC:20251116T080000
DTEND;TZID=UTC:20251116T110000
DTSTAMP:20260421T101656
CREATED:20250721T193642Z
LAST-MODIFIED:20250721T193642Z
UID:10007880-1763280000-1763290800@englewoodreview.com
SUMMARY:Elks Sunday Breakfast
DESCRIPTION:Englewood Elks\, 401 N. Indiana Ave. 8–11AM. All you can eat breakfast for $14 \, includes beverage. 941-474-1404.
URL:https://englewoodreview.com/event/elks-sunday-breakfast-2/2025-11-16/
LOCATION:Englewood Elks Lodge\, 401 N. Indiana Avenue\, Englewood\, FL\, 34223\, United States
END:VEVENT
BEGIN:VEVENT
DTSTART;TZID=UTC:20251116T083000
DTEND;TZID=UTC:20251116T110000
DTSTAMP:20260421T101656
CREATED:20250721T193515Z
LAST-MODIFIED:20250721T194149Z
UID:10007619-1763281800-1763290800@englewoodreview.com
SUMMARY:Eagles Sunday Breakfast
DESCRIPTION:Fraternal Order of the Eagles #3885\, 250 Old Englewood Road. 8:30–11AM. Enjoy breakfast with coffee and tea bar for only $12. Open to the public. 941-474-9802.
URL:https://englewoodreview.com/event/eagles-sunday-breakfast/2025-11-16/
LOCATION:FL
END:VEVENT
BEGIN:VEVENT
DTSTART;TZID=UTC:20251123T080000
DTEND;TZID=UTC:20251123T110000
DTSTAMP:20260421T101656
CREATED:20250721T193642Z
LAST-MODIFIED:20250721T193642Z
UID:10007881-1763884800-1763895600@englewoodreview.com
SUMMARY:Elks Sunday Breakfast
DESCRIPTION:Englewood Elks\, 401 N. Indiana Ave. 8–11AM. All you can eat breakfast for $14 \, includes beverage. 941-474-1404.
URL:https://englewoodreview.com/event/elks-sunday-breakfast-2/2025-11-23/
LOCATION:Englewood Elks Lodge\, 401 N. Indiana Avenue\, Englewood\, FL\, 34223\, United States
END:VEVENT
BEGIN:VEVENT
DTSTART;TZID=UTC:20251123T083000
DTEND;TZID=UTC:20251123T110000
DTSTAMP:20260421T101656
CREATED:20250721T193515Z
LAST-MODIFIED:20250721T194149Z
UID:10007620-1763886600-1763895600@englewoodreview.com
SUMMARY:Eagles Sunday Breakfast
DESCRIPTION:Fraternal Order of the Eagles #3885\, 250 Old Englewood Road. 8:30–11AM. Enjoy breakfast with coffee and tea bar for only $12. Open to the public. 941-474-9802.
URL:https://englewoodreview.com/event/eagles-sunday-breakfast/2025-11-23/
LOCATION:FL
END:VEVENT
BEGIN:VEVENT
DTSTART;TZID=UTC:20251130T080000
DTEND;TZID=UTC:20251130T110000
DTSTAMP:20260421T101656
CREATED:20250721T193642Z
LAST-MODIFIED:20250721T193642Z
UID:10007882-1764489600-1764500400@englewoodreview.com
SUMMARY:Elks Sunday Breakfast
DESCRIPTION:Englewood Elks\, 401 N. Indiana Ave. 8–11AM. All you can eat breakfast for $14 \, includes beverage. 941-474-1404.
URL:https://englewoodreview.com/event/elks-sunday-breakfast-2/2025-11-30/
LOCATION:Englewood Elks Lodge\, 401 N. Indiana Avenue\, Englewood\, FL\, 34223\, United States
END:VEVENT
BEGIN:VEVENT
DTSTART;TZID=UTC:20251130T083000
DTEND;TZID=UTC:20251130T110000
DTSTAMP:20260421T101656
CREATED:20250721T193515Z
LAST-MODIFIED:20250721T194149Z
UID:10007621-1764491400-1764500400@englewoodreview.com
SUMMARY:Eagles Sunday Breakfast
DESCRIPTION:Fraternal Order of the Eagles #3885\, 250 Old Englewood Road. 8:30–11AM. Enjoy breakfast with coffee and tea bar for only $12. Open to the public. 941-474-9802.
URL:https://englewoodreview.com/event/eagles-sunday-breakfast/2025-11-30/
LOCATION:FL
END:VEVENT
END:VCALENDAR