BEGIN:VCALENDAR
VERSION:2.0
PRODID:-//Englewood Review - ECPv6.15.15//NONSGML v1.0//EN
CALSCALE:GREGORIAN
METHOD:PUBLISH
X-WR-CALNAME:Englewood Review
X-ORIGINAL-URL:https://englewoodreview.com
X-WR-CALDESC:Events for Englewood Review
REFRESH-INTERVAL;VALUE=DURATION:PT1H
X-Robots-Tag:noindex
X-PUBLISHED-TTL:PT1H
BEGIN:VTIMEZONE
TZID:UTC
BEGIN:STANDARD
TZOFFSETFROM:+0000
TZOFFSETTO:+0000
TZNAME:UTC
DTSTART:20250101T000000
END:STANDARD
END:VTIMEZONE
BEGIN:VEVENT
DTSTART;TZID=UTC:20260201T080000
DTEND;TZID=UTC:20260201T110000
DTSTAMP:20260421T054252
CREATED:20250721T193642Z
LAST-MODIFIED:20250721T193642Z
UID:10007891-1769932800-1769943600@englewoodreview.com
SUMMARY:Elks Sunday Breakfast
DESCRIPTION:Englewood Elks\, 401 N. Indiana Ave. 8–11AM. All you can eat breakfast for $14 \, includes beverage. 941-474-1404.
URL:https://englewoodreview.com/event/elks-sunday-breakfast-2/2026-02-01/
LOCATION:Englewood Elks Lodge\, 401 N. Indiana Avenue\, Englewood\, FL\, 34223\, United States
END:VEVENT
BEGIN:VEVENT
DTSTART;TZID=UTC:20260201T083000
DTEND;TZID=UTC:20260201T110000
DTSTAMP:20260421T054252
CREATED:20250721T193515Z
LAST-MODIFIED:20250721T194149Z
UID:10007630-1769934600-1769943600@englewoodreview.com
SUMMARY:Eagles Sunday Breakfast
DESCRIPTION:Fraternal Order of the Eagles #3885\, 250 Old Englewood Road. 8:30–11AM. Enjoy breakfast with coffee and tea bar for only $12. Open to the public. 941-474-9802.
URL:https://englewoodreview.com/event/eagles-sunday-breakfast/2026-02-01/
LOCATION:FL
END:VEVENT
BEGIN:VEVENT
DTSTART;TZID=UTC:20260208T080000
DTEND;TZID=UTC:20260208T110000
DTSTAMP:20260421T054252
CREATED:20250721T193642Z
LAST-MODIFIED:20250721T193642Z
UID:10007892-1770537600-1770548400@englewoodreview.com
SUMMARY:Elks Sunday Breakfast
DESCRIPTION:Englewood Elks\, 401 N. Indiana Ave. 8–11AM. All you can eat breakfast for $14 \, includes beverage. 941-474-1404.
URL:https://englewoodreview.com/event/elks-sunday-breakfast-2/2026-02-08/
LOCATION:Englewood Elks Lodge\, 401 N. Indiana Avenue\, Englewood\, FL\, 34223\, United States
END:VEVENT
BEGIN:VEVENT
DTSTART;TZID=UTC:20260208T083000
DTEND;TZID=UTC:20260208T110000
DTSTAMP:20260421T054252
CREATED:20250721T193515Z
LAST-MODIFIED:20250721T194149Z
UID:10007631-1770539400-1770548400@englewoodreview.com
SUMMARY:Eagles Sunday Breakfast
DESCRIPTION:Fraternal Order of the Eagles #3885\, 250 Old Englewood Road. 8:30–11AM. Enjoy breakfast with coffee and tea bar for only $12. Open to the public. 941-474-9802.
URL:https://englewoodreview.com/event/eagles-sunday-breakfast/2026-02-08/
LOCATION:FL
END:VEVENT
BEGIN:VEVENT
DTSTART;TZID=UTC:20260215T080000
DTEND;TZID=UTC:20260215T110000
DTSTAMP:20260421T054252
CREATED:20250721T193642Z
LAST-MODIFIED:20250721T193642Z
UID:10007893-1771142400-1771153200@englewoodreview.com
SUMMARY:Elks Sunday Breakfast
DESCRIPTION:Englewood Elks\, 401 N. Indiana Ave. 8–11AM. All you can eat breakfast for $14 \, includes beverage. 941-474-1404.
URL:https://englewoodreview.com/event/elks-sunday-breakfast-2/2026-02-15/
LOCATION:Englewood Elks Lodge\, 401 N. Indiana Avenue\, Englewood\, FL\, 34223\, United States
END:VEVENT
BEGIN:VEVENT
DTSTART;TZID=UTC:20260215T083000
DTEND;TZID=UTC:20260215T110000
DTSTAMP:20260421T054252
CREATED:20250721T193515Z
LAST-MODIFIED:20250721T194149Z
UID:10007632-1771144200-1771153200@englewoodreview.com
SUMMARY:Eagles Sunday Breakfast
DESCRIPTION:Fraternal Order of the Eagles #3885\, 250 Old Englewood Road. 8:30–11AM. Enjoy breakfast with coffee and tea bar for only $12. Open to the public. 941-474-9802.
URL:https://englewoodreview.com/event/eagles-sunday-breakfast/2026-02-15/
LOCATION:FL
END:VEVENT
BEGIN:VEVENT
DTSTART;TZID=UTC:20260222T080000
DTEND;TZID=UTC:20260222T110000
DTSTAMP:20260421T054252
CREATED:20250721T193642Z
LAST-MODIFIED:20250721T193642Z
UID:10007894-1771747200-1771758000@englewoodreview.com
SUMMARY:Elks Sunday Breakfast
DESCRIPTION:Englewood Elks\, 401 N. Indiana Ave. 8–11AM. All you can eat breakfast for $14 \, includes beverage. 941-474-1404.
URL:https://englewoodreview.com/event/elks-sunday-breakfast-2/2026-02-22/
LOCATION:Englewood Elks Lodge\, 401 N. Indiana Avenue\, Englewood\, FL\, 34223\, United States
END:VEVENT
BEGIN:VEVENT
DTSTART;TZID=UTC:20260222T083000
DTEND;TZID=UTC:20260222T110000
DTSTAMP:20260421T054252
CREATED:20250721T193515Z
LAST-MODIFIED:20250721T194149Z
UID:10007633-1771749000-1771758000@englewoodreview.com
SUMMARY:Eagles Sunday Breakfast
DESCRIPTION:Fraternal Order of the Eagles #3885\, 250 Old Englewood Road. 8:30–11AM. Enjoy breakfast with coffee and tea bar for only $12. Open to the public. 941-474-9802.
URL:https://englewoodreview.com/event/eagles-sunday-breakfast/2026-02-22/
LOCATION:FL
END:VEVENT
END:VCALENDAR