BEGIN:VCALENDAR
VERSION:2.0
PRODID:-//Englewood Review - ECPv6.15.15//NONSGML v1.0//EN
CALSCALE:GREGORIAN
METHOD:PUBLISH
X-WR-CALNAME:Englewood Review
X-ORIGINAL-URL:https://englewoodreview.com
X-WR-CALDESC:Events for Englewood Review
REFRESH-INTERVAL;VALUE=DURATION:PT1H
X-Robots-Tag:noindex
X-PUBLISHED-TTL:PT1H
BEGIN:VTIMEZONE
TZID:UTC
BEGIN:STANDARD
TZOFFSETFROM:+0000
TZOFFSETTO:+0000
TZNAME:UTC
DTSTART:20240101T000000
END:STANDARD
END:VTIMEZONE
BEGIN:VEVENT
DTSTART;TZID=UTC:20251102T083000
DTEND;TZID=UTC:20251102T110000
DTSTAMP:20260421T071228
CREATED:20251015T203704Z
LAST-MODIFIED:20251022T205821Z
UID:10017955-1762072200-1762081200@englewoodreview.com
SUMMARY:Trinity Lutheran Church
DESCRIPTION:1379 S. McCall Road (Gulf Cove). Worship 8:30 & 10:30 AM. Fellowship/Sunday School\, 9:45 AM. Communion 1st & 3rd Sundays. 941-828-1910.
URL:https://englewoodreview.com/event/trinity-lutheran-church-2/2025-11-02/
END:VEVENT
BEGIN:VEVENT
DTSTART;TZID=UTC:20251109T083000
DTEND;TZID=UTC:20251109T110000
DTSTAMP:20260421T071228
CREATED:20251015T203704Z
LAST-MODIFIED:20251022T205821Z
UID:10017956-1762677000-1762686000@englewoodreview.com
SUMMARY:Trinity Lutheran Church
DESCRIPTION:1379 S. McCall Road (Gulf Cove). Worship 8:30 & 10:30 AM. Fellowship/Sunday School\, 9:45 AM. Communion 1st & 3rd Sundays. 941-828-1910.
URL:https://englewoodreview.com/event/trinity-lutheran-church-2/2025-11-09/
END:VEVENT
BEGIN:VEVENT
DTSTART;TZID=UTC:20251116T083000
DTEND;TZID=UTC:20251116T110000
DTSTAMP:20260421T071228
CREATED:20251015T203704Z
LAST-MODIFIED:20251022T205821Z
UID:10017957-1763281800-1763290800@englewoodreview.com
SUMMARY:Trinity Lutheran Church
DESCRIPTION:1379 S. McCall Road (Gulf Cove). Worship 8:30 & 10:30 AM. Fellowship/Sunday School\, 9:45 AM. Communion 1st & 3rd Sundays. 941-828-1910.
URL:https://englewoodreview.com/event/trinity-lutheran-church-2/2025-11-16/
END:VEVENT
BEGIN:VEVENT
DTSTART;TZID=UTC:20251123T083000
DTEND;TZID=UTC:20251123T110000
DTSTAMP:20260421T071228
CREATED:20251015T203704Z
LAST-MODIFIED:20251022T205821Z
UID:10017958-1763886600-1763895600@englewoodreview.com
SUMMARY:Trinity Lutheran Church
DESCRIPTION:1379 S. McCall Road (Gulf Cove). Worship 8:30 & 10:30 AM. Fellowship/Sunday School\, 9:45 AM. Communion 1st & 3rd Sundays. 941-828-1910.
URL:https://englewoodreview.com/event/trinity-lutheran-church-2/2025-11-23/
END:VEVENT
BEGIN:VEVENT
DTSTART;TZID=UTC:20251130T083000
DTEND;TZID=UTC:20251130T110000
DTSTAMP:20260421T071228
CREATED:20251015T203704Z
LAST-MODIFIED:20251022T205821Z
UID:10017959-1764491400-1764500400@englewoodreview.com
SUMMARY:Trinity Lutheran Church
DESCRIPTION:1379 S. McCall Road (Gulf Cove). Worship 8:30 & 10:30 AM. Fellowship/Sunday School\, 9:45 AM. Communion 1st & 3rd Sundays. 941-828-1910.
URL:https://englewoodreview.com/event/trinity-lutheran-church-2/2025-11-30/
END:VEVENT
END:VCALENDAR