BEGIN:VCALENDAR
VERSION:2.0
PRODID:-//Englewood Review - ECPv6.15.15//NONSGML v1.0//EN
CALSCALE:GREGORIAN
METHOD:PUBLISH
X-ORIGINAL-URL:https://englewoodreview.com
X-WR-CALDESC:Events for Englewood Review
REFRESH-INTERVAL;VALUE=DURATION:PT1H
X-Robots-Tag:noindex
X-PUBLISHED-TTL:PT1H
BEGIN:VTIMEZONE
TZID:UTC
BEGIN:STANDARD
TZOFFSETFROM:+0000
TZOFFSETTO:+0000
TZNAME:UTC
DTSTART:20250101T000000
END:STANDARD
END:VTIMEZONE
BEGIN:VEVENT
DTSTART;TZID=UTC:20261004T083000
DTEND;TZID=UTC:20261004T110000
DTSTAMP:20260421T084439
CREATED:20251015T203704Z
LAST-MODIFIED:20251022T205821Z
UID:10018003-1791102600-1791111600@englewoodreview.com
SUMMARY:Trinity Lutheran Church
DESCRIPTION:1379 S. McCall Road (Gulf Cove). Worship 8:30 & 10:30 AM. Fellowship/Sunday School\, 9:45 AM. Communion 1st & 3rd Sundays. 941-828-1910.
URL:https://englewoodreview.com/event/trinity-lutheran-church-2/2026-10-04/
END:VEVENT
BEGIN:VEVENT
DTSTART;TZID=UTC:20261011T083000
DTEND;TZID=UTC:20261011T110000
DTSTAMP:20260421T084439
CREATED:20251015T203704Z
LAST-MODIFIED:20251022T205821Z
UID:10018004-1791707400-1791716400@englewoodreview.com
SUMMARY:Trinity Lutheran Church
DESCRIPTION:1379 S. McCall Road (Gulf Cove). Worship 8:30 & 10:30 AM. Fellowship/Sunday School\, 9:45 AM. Communion 1st & 3rd Sundays. 941-828-1910.
URL:https://englewoodreview.com/event/trinity-lutheran-church-2/2026-10-11/
END:VEVENT
BEGIN:VEVENT
DTSTART;TZID=UTC:20261018T083000
DTEND;TZID=UTC:20261018T110000
DTSTAMP:20260421T084439
CREATED:20251015T203704Z
LAST-MODIFIED:20251022T205821Z
UID:10018005-1792312200-1792321200@englewoodreview.com
SUMMARY:Trinity Lutheran Church
DESCRIPTION:1379 S. McCall Road (Gulf Cove). Worship 8:30 & 10:30 AM. Fellowship/Sunday School\, 9:45 AM. Communion 1st & 3rd Sundays. 941-828-1910.
URL:https://englewoodreview.com/event/trinity-lutheran-church-2/2026-10-18/
END:VEVENT
BEGIN:VEVENT
DTSTART;TZID=UTC:20261025T083000
DTEND;TZID=UTC:20261025T110000
DTSTAMP:20260421T084439
CREATED:20251015T203704Z
LAST-MODIFIED:20251022T205821Z
UID:10018006-1792917000-1792926000@englewoodreview.com
SUMMARY:Trinity Lutheran Church
DESCRIPTION:1379 S. McCall Road (Gulf Cove). Worship 8:30 & 10:30 AM. Fellowship/Sunday School\, 9:45 AM. Communion 1st & 3rd Sundays. 941-828-1910.
URL:https://englewoodreview.com/event/trinity-lutheran-church-2/2026-10-25/
END:VEVENT
END:VCALENDAR