BEGIN:VCALENDAR
VERSION:2.0
PRODID:-//Englewood Review - ECPv6.15.15//NONSGML v1.0//EN
CALSCALE:GREGORIAN
METHOD:PUBLISH
X-ORIGINAL-URL:https://englewoodreview.com
X-WR-CALDESC:Events for Englewood Review
REFRESH-INTERVAL;VALUE=DURATION:PT1H
X-Robots-Tag:noindex
X-PUBLISHED-TTL:PT1H
BEGIN:VTIMEZONE
TZID:UTC
BEGIN:STANDARD
TZOFFSETFROM:+0000
TZOFFSETTO:+0000
TZNAME:UTC
DTSTART:20250101T000000
END:STANDARD
END:VTIMEZONE
BEGIN:VEVENT
DTSTART;TZID=UTC:20261206T083000
DTEND;TZID=UTC:20261206T110000
DTSTAMP:20260421T115336
CREATED:20251015T203704Z
LAST-MODIFIED:20251022T205821Z
UID:10018012-1796545800-1796554800@englewoodreview.com
SUMMARY:Trinity Lutheran Church
DESCRIPTION:1379 S. McCall Road (Gulf Cove). Worship 8:30 & 10:30 AM. Fellowship/Sunday School\, 9:45 AM. Communion 1st & 3rd Sundays. 941-828-1910.
URL:https://englewoodreview.com/event/trinity-lutheran-church-2/2026-12-06/
END:VEVENT
BEGIN:VEVENT
DTSTART;TZID=UTC:20261213T083000
DTEND;TZID=UTC:20261213T110000
DTSTAMP:20260421T115336
CREATED:20251015T203704Z
LAST-MODIFIED:20251022T205821Z
UID:10018013-1797150600-1797159600@englewoodreview.com
SUMMARY:Trinity Lutheran Church
DESCRIPTION:1379 S. McCall Road (Gulf Cove). Worship 8:30 & 10:30 AM. Fellowship/Sunday School\, 9:45 AM. Communion 1st & 3rd Sundays. 941-828-1910.
URL:https://englewoodreview.com/event/trinity-lutheran-church-2/2026-12-13/
END:VEVENT
BEGIN:VEVENT
DTSTART;TZID=UTC:20261220T083000
DTEND;TZID=UTC:20261220T110000
DTSTAMP:20260421T115336
CREATED:20251015T203704Z
LAST-MODIFIED:20251022T205821Z
UID:10018014-1797755400-1797764400@englewoodreview.com
SUMMARY:Trinity Lutheran Church
DESCRIPTION:1379 S. McCall Road (Gulf Cove). Worship 8:30 & 10:30 AM. Fellowship/Sunday School\, 9:45 AM. Communion 1st & 3rd Sundays. 941-828-1910.
URL:https://englewoodreview.com/event/trinity-lutheran-church-2/2026-12-20/
END:VEVENT
BEGIN:VEVENT
DTSTART;TZID=UTC:20261227T083000
DTEND;TZID=UTC:20261227T110000
DTSTAMP:20260421T115336
CREATED:20251015T203704Z
LAST-MODIFIED:20251022T205821Z
UID:10018015-1798360200-1798369200@englewoodreview.com
SUMMARY:Trinity Lutheran Church
DESCRIPTION:1379 S. McCall Road (Gulf Cove). Worship 8:30 & 10:30 AM. Fellowship/Sunday School\, 9:45 AM. Communion 1st & 3rd Sundays. 941-828-1910.
URL:https://englewoodreview.com/event/trinity-lutheran-church-2/2026-12-27/
END:VEVENT
END:VCALENDAR