BEGIN:VCALENDAR
VERSION:2.0
PRODID:-//Englewood Review - ECPv6.15.15//NONSGML v1.0//EN
CALSCALE:GREGORIAN
METHOD:PUBLISH
X-WR-CALNAME:Englewood Review
X-ORIGINAL-URL:https://englewoodreview.com
X-WR-CALDESC:Events for Englewood Review
REFRESH-INTERVAL;VALUE=DURATION:PT1H
X-Robots-Tag:noindex
X-PUBLISHED-TTL:PT1H
BEGIN:VTIMEZONE
TZID:UTC
BEGIN:STANDARD
TZOFFSETFROM:+0000
TZOFFSETTO:+0000
TZNAME:UTC
DTSTART:20260101T000000
END:STANDARD
END:VTIMEZONE
BEGIN:VEVENT
DTSTART;TZID=UTC:20270103T083000
DTEND;TZID=UTC:20270103T110000
DTSTAMP:20260421T132325
CREATED:20251015T203704Z
LAST-MODIFIED:20251022T205821Z
UID:10018016-1798965000-1798974000@englewoodreview.com
SUMMARY:Trinity Lutheran Church
DESCRIPTION:1379 S. McCall Road (Gulf Cove). Worship 8:30 & 10:30 AM. Fellowship/Sunday School\, 9:45 AM. Communion 1st & 3rd Sundays. 941-828-1910.
URL:https://englewoodreview.com/event/trinity-lutheran-church-2/2027-01-03/
END:VEVENT
BEGIN:VEVENT
DTSTART;TZID=UTC:20270110T083000
DTEND;TZID=UTC:20270110T110000
DTSTAMP:20260421T132325
CREATED:20251015T203704Z
LAST-MODIFIED:20251022T205821Z
UID:10018017-1799569800-1799578800@englewoodreview.com
SUMMARY:Trinity Lutheran Church
DESCRIPTION:1379 S. McCall Road (Gulf Cove). Worship 8:30 & 10:30 AM. Fellowship/Sunday School\, 9:45 AM. Communion 1st & 3rd Sundays. 941-828-1910.
URL:https://englewoodreview.com/event/trinity-lutheran-church-2/2027-01-10/
END:VEVENT
BEGIN:VEVENT
DTSTART;TZID=UTC:20270117T083000
DTEND;TZID=UTC:20270117T110000
DTSTAMP:20260421T132325
CREATED:20251015T203704Z
LAST-MODIFIED:20251022T205821Z
UID:10018018-1800174600-1800183600@englewoodreview.com
SUMMARY:Trinity Lutheran Church
DESCRIPTION:1379 S. McCall Road (Gulf Cove). Worship 8:30 & 10:30 AM. Fellowship/Sunday School\, 9:45 AM. Communion 1st & 3rd Sundays. 941-828-1910.
URL:https://englewoodreview.com/event/trinity-lutheran-church-2/2027-01-17/
END:VEVENT
BEGIN:VEVENT
DTSTART;TZID=UTC:20270124T083000
DTEND;TZID=UTC:20270124T110000
DTSTAMP:20260421T132325
CREATED:20251015T203704Z
LAST-MODIFIED:20251022T205821Z
UID:10018019-1800779400-1800788400@englewoodreview.com
SUMMARY:Trinity Lutheran Church
DESCRIPTION:1379 S. McCall Road (Gulf Cove). Worship 8:30 & 10:30 AM. Fellowship/Sunday School\, 9:45 AM. Communion 1st & 3rd Sundays. 941-828-1910.
URL:https://englewoodreview.com/event/trinity-lutheran-church-2/2027-01-24/
END:VEVENT
BEGIN:VEVENT
DTSTART;TZID=UTC:20270131T083000
DTEND;TZID=UTC:20270131T110000
DTSTAMP:20260421T132325
CREATED:20251015T203704Z
LAST-MODIFIED:20251022T205821Z
UID:10018020-1801384200-1801393200@englewoodreview.com
SUMMARY:Trinity Lutheran Church
DESCRIPTION:1379 S. McCall Road (Gulf Cove). Worship 8:30 & 10:30 AM. Fellowship/Sunday School\, 9:45 AM. Communion 1st & 3rd Sundays. 941-828-1910.
URL:https://englewoodreview.com/event/trinity-lutheran-church-2/2027-01-31/
END:VEVENT
END:VCALENDAR