BEGIN:VCALENDAR
VERSION:2.0
PRODID:-//Englewood Review - ECPv6.15.15//NONSGML v1.0//EN
CALSCALE:GREGORIAN
METHOD:PUBLISH
X-ORIGINAL-URL:https://englewoodreview.com
X-WR-CALDESC:Events for Englewood Review
REFRESH-INTERVAL;VALUE=DURATION:PT1H
X-Robots-Tag:noindex
X-PUBLISHED-TTL:PT1H
BEGIN:VTIMEZONE
TZID:America/Halifax
BEGIN:DAYLIGHT
TZOFFSETFROM:-0400
TZOFFSETTO:-0300
TZNAME:ADT
DTSTART:20250309T060000
END:DAYLIGHT
BEGIN:STANDARD
TZOFFSETFROM:-0300
TZOFFSETTO:-0400
TZNAME:AST
DTSTART:20251102T050000
END:STANDARD
BEGIN:DAYLIGHT
TZOFFSETFROM:-0400
TZOFFSETTO:-0300
TZNAME:ADT
DTSTART:20260308T060000
END:DAYLIGHT
BEGIN:STANDARD
TZOFFSETFROM:-0300
TZOFFSETTO:-0400
TZNAME:AST
DTSTART:20261101T050000
END:STANDARD
BEGIN:DAYLIGHT
TZOFFSETFROM:-0400
TZOFFSETTO:-0300
TZNAME:ADT
DTSTART:20270314T060000
END:DAYLIGHT
BEGIN:STANDARD
TZOFFSETFROM:-0300
TZOFFSETTO:-0400
TZNAME:AST
DTSTART:20271107T050000
END:STANDARD
END:VTIMEZONE
BEGIN:VEVENT
DTSTART;TZID=America/Halifax:20260826T083000
DTEND;TZID=America/Halifax:20260826T093000
DTSTAMP:20260421T115326
CREATED:20251029T160424Z
LAST-MODIFIED:20260119T144057Z
UID:10019428-1787733000-1787736600@englewoodreview.com
SUMMARY:Englewood Beach Yoga
DESCRIPTION:Englewood Beach Yoga with Lata & Robert\, classes held Monday – Saturday 8:30a – 9:30a. Located at 2100 N Beach Road\, the south end of Manasota Key. Bring a blanket/sheet or a chair and enjoy a peaceful gentle yoga flow with the beauty of nature. We are a Vendor at the beach\, Classes are supported by donations\, suggested $5 and up please.\nJoin us for scheduled Sunset Yoga & Crystal Bowls\, too!\nwww.lovinglightyoga.com 941-979-1917
URL:https://englewoodreview.com/event/englewood-beach-yoga/2026-08-26/
LOCATION:Englewood Beach\, 2100 N. Beach Road\, Englewood\, FL\, 34223\, United States
ORGANIZER;CN="Loving Light Yoga":MAILTO:lata528@gmail.com
END:VEVENT
BEGIN:VEVENT
DTSTART;TZID=America/Halifax:20260827T083000
DTEND;TZID=America/Halifax:20260827T093000
DTSTAMP:20260421T115326
CREATED:20251029T160424Z
LAST-MODIFIED:20260119T144057Z
UID:10019429-1787819400-1787823000@englewoodreview.com
SUMMARY:Englewood Beach Yoga
DESCRIPTION:Englewood Beach Yoga with Lata & Robert\, classes held Monday – Saturday 8:30a – 9:30a. Located at 2100 N Beach Road\, the south end of Manasota Key. Bring a blanket/sheet or a chair and enjoy a peaceful gentle yoga flow with the beauty of nature. We are a Vendor at the beach\, Classes are supported by donations\, suggested $5 and up please.\nJoin us for scheduled Sunset Yoga & Crystal Bowls\, too!\nwww.lovinglightyoga.com 941-979-1917
URL:https://englewoodreview.com/event/englewood-beach-yoga/2026-08-27/
LOCATION:Englewood Beach\, 2100 N. Beach Road\, Englewood\, FL\, 34223\, United States
ORGANIZER;CN="Loving Light Yoga":MAILTO:lata528@gmail.com
END:VEVENT
BEGIN:VEVENT
DTSTART;TZID=America/Halifax:20260828T083000
DTEND;TZID=America/Halifax:20260828T093000
DTSTAMP:20260421T115326
CREATED:20251029T160424Z
LAST-MODIFIED:20260119T144057Z
UID:10019430-1787905800-1787909400@englewoodreview.com
SUMMARY:Englewood Beach Yoga
DESCRIPTION:Englewood Beach Yoga with Lata & Robert\, classes held Monday – Saturday 8:30a – 9:30a. Located at 2100 N Beach Road\, the south end of Manasota Key. Bring a blanket/sheet or a chair and enjoy a peaceful gentle yoga flow with the beauty of nature. We are a Vendor at the beach\, Classes are supported by donations\, suggested $5 and up please.\nJoin us for scheduled Sunset Yoga & Crystal Bowls\, too!\nwww.lovinglightyoga.com 941-979-1917
URL:https://englewoodreview.com/event/englewood-beach-yoga/2026-08-28/
LOCATION:Englewood Beach\, 2100 N. Beach Road\, Englewood\, FL\, 34223\, United States
ORGANIZER;CN="Loving Light Yoga":MAILTO:lata528@gmail.com
END:VEVENT
BEGIN:VEVENT
DTSTART;TZID=America/Halifax:20260829T083000
DTEND;TZID=America/Halifax:20260829T093000
DTSTAMP:20260421T115326
CREATED:20251029T160424Z
LAST-MODIFIED:20260119T144057Z
UID:10019431-1787992200-1787995800@englewoodreview.com
SUMMARY:Englewood Beach Yoga
DESCRIPTION:Englewood Beach Yoga with Lata & Robert\, classes held Monday – Saturday 8:30a – 9:30a. Located at 2100 N Beach Road\, the south end of Manasota Key. Bring a blanket/sheet or a chair and enjoy a peaceful gentle yoga flow with the beauty of nature. We are a Vendor at the beach\, Classes are supported by donations\, suggested $5 and up please.\nJoin us for scheduled Sunset Yoga & Crystal Bowls\, too!\nwww.lovinglightyoga.com 941-979-1917
URL:https://englewoodreview.com/event/englewood-beach-yoga/2026-08-29/
LOCATION:Englewood Beach\, 2100 N. Beach Road\, Englewood\, FL\, 34223\, United States
ORGANIZER;CN="Loving Light Yoga":MAILTO:lata528@gmail.com
END:VEVENT
BEGIN:VEVENT
DTSTART;TZID=America/Halifax:20260831T083000
DTEND;TZID=America/Halifax:20260831T093000
DTSTAMP:20260421T115326
CREATED:20251029T160424Z
LAST-MODIFIED:20260119T144057Z
UID:10019432-1788165000-1788168600@englewoodreview.com
SUMMARY:Englewood Beach Yoga
DESCRIPTION:Englewood Beach Yoga with Lata & Robert\, classes held Monday – Saturday 8:30a – 9:30a. Located at 2100 N Beach Road\, the south end of Manasota Key. Bring a blanket/sheet or a chair and enjoy a peaceful gentle yoga flow with the beauty of nature. We are a Vendor at the beach\, Classes are supported by donations\, suggested $5 and up please.\nJoin us for scheduled Sunset Yoga & Crystal Bowls\, too!\nwww.lovinglightyoga.com 941-979-1917
URL:https://englewoodreview.com/event/englewood-beach-yoga/2026-08-31/
LOCATION:Englewood Beach\, 2100 N. Beach Road\, Englewood\, FL\, 34223\, United States
ORGANIZER;CN="Loving Light Yoga":MAILTO:lata528@gmail.com
END:VEVENT
BEGIN:VEVENT
DTSTART;TZID=America/Halifax:20260901T083000
DTEND;TZID=America/Halifax:20260901T093000
DTSTAMP:20260421T115326
CREATED:20251029T160424Z
LAST-MODIFIED:20260119T144057Z
UID:10019433-1788251400-1788255000@englewoodreview.com
SUMMARY:Englewood Beach Yoga
DESCRIPTION:Englewood Beach Yoga with Lata & Robert\, classes held Monday – Saturday 8:30a – 9:30a. Located at 2100 N Beach Road\, the south end of Manasota Key. Bring a blanket/sheet or a chair and enjoy a peaceful gentle yoga flow with the beauty of nature. We are a Vendor at the beach\, Classes are supported by donations\, suggested $5 and up please.\nJoin us for scheduled Sunset Yoga & Crystal Bowls\, too!\nwww.lovinglightyoga.com 941-979-1917
URL:https://englewoodreview.com/event/englewood-beach-yoga/2026-09-01/
LOCATION:Englewood Beach\, 2100 N. Beach Road\, Englewood\, FL\, 34223\, United States
ORGANIZER;CN="Loving Light Yoga":MAILTO:lata528@gmail.com
END:VEVENT
BEGIN:VEVENT
DTSTART;TZID=America/Halifax:20260902T083000
DTEND;TZID=America/Halifax:20260902T093000
DTSTAMP:20260421T115326
CREATED:20251029T160424Z
LAST-MODIFIED:20260119T144057Z
UID:10019434-1788337800-1788341400@englewoodreview.com
SUMMARY:Englewood Beach Yoga
DESCRIPTION:Englewood Beach Yoga with Lata & Robert\, classes held Monday – Saturday 8:30a – 9:30a. Located at 2100 N Beach Road\, the south end of Manasota Key. Bring a blanket/sheet or a chair and enjoy a peaceful gentle yoga flow with the beauty of nature. We are a Vendor at the beach\, Classes are supported by donations\, suggested $5 and up please.\nJoin us for scheduled Sunset Yoga & Crystal Bowls\, too!\nwww.lovinglightyoga.com 941-979-1917
URL:https://englewoodreview.com/event/englewood-beach-yoga/2026-09-02/
LOCATION:Englewood Beach\, 2100 N. Beach Road\, Englewood\, FL\, 34223\, United States
ORGANIZER;CN="Loving Light Yoga":MAILTO:lata528@gmail.com
END:VEVENT
BEGIN:VEVENT
DTSTART;TZID=America/Halifax:20260903T083000
DTEND;TZID=America/Halifax:20260903T093000
DTSTAMP:20260421T115326
CREATED:20251029T160424Z
LAST-MODIFIED:20260119T144057Z
UID:10019435-1788424200-1788427800@englewoodreview.com
SUMMARY:Englewood Beach Yoga
DESCRIPTION:Englewood Beach Yoga with Lata & Robert\, classes held Monday – Saturday 8:30a – 9:30a. Located at 2100 N Beach Road\, the south end of Manasota Key. Bring a blanket/sheet or a chair and enjoy a peaceful gentle yoga flow with the beauty of nature. We are a Vendor at the beach\, Classes are supported by donations\, suggested $5 and up please.\nJoin us for scheduled Sunset Yoga & Crystal Bowls\, too!\nwww.lovinglightyoga.com 941-979-1917
URL:https://englewoodreview.com/event/englewood-beach-yoga/2026-09-03/
LOCATION:Englewood Beach\, 2100 N. Beach Road\, Englewood\, FL\, 34223\, United States
ORGANIZER;CN="Loving Light Yoga":MAILTO:lata528@gmail.com
END:VEVENT
BEGIN:VEVENT
DTSTART;TZID=America/Halifax:20260904T083000
DTEND;TZID=America/Halifax:20260904T093000
DTSTAMP:20260421T115326
CREATED:20251029T160424Z
LAST-MODIFIED:20260119T144057Z
UID:10019436-1788510600-1788514200@englewoodreview.com
SUMMARY:Englewood Beach Yoga
DESCRIPTION:Englewood Beach Yoga with Lata & Robert\, classes held Monday – Saturday 8:30a – 9:30a. Located at 2100 N Beach Road\, the south end of Manasota Key. Bring a blanket/sheet or a chair and enjoy a peaceful gentle yoga flow with the beauty of nature. We are a Vendor at the beach\, Classes are supported by donations\, suggested $5 and up please.\nJoin us for scheduled Sunset Yoga & Crystal Bowls\, too!\nwww.lovinglightyoga.com 941-979-1917
URL:https://englewoodreview.com/event/englewood-beach-yoga/2026-09-04/
LOCATION:Englewood Beach\, 2100 N. Beach Road\, Englewood\, FL\, 34223\, United States
ORGANIZER;CN="Loving Light Yoga":MAILTO:lata528@gmail.com
END:VEVENT
BEGIN:VEVENT
DTSTART;TZID=America/Halifax:20260905T083000
DTEND;TZID=America/Halifax:20260905T093000
DTSTAMP:20260421T115326
CREATED:20251029T160424Z
LAST-MODIFIED:20260119T144057Z
UID:10019437-1788597000-1788600600@englewoodreview.com
SUMMARY:Englewood Beach Yoga
DESCRIPTION:Englewood Beach Yoga with Lata & Robert\, classes held Monday – Saturday 8:30a – 9:30a. Located at 2100 N Beach Road\, the south end of Manasota Key. Bring a blanket/sheet or a chair and enjoy a peaceful gentle yoga flow with the beauty of nature. We are a Vendor at the beach\, Classes are supported by donations\, suggested $5 and up please.\nJoin us for scheduled Sunset Yoga & Crystal Bowls\, too!\nwww.lovinglightyoga.com 941-979-1917
URL:https://englewoodreview.com/event/englewood-beach-yoga/2026-09-05/
LOCATION:Englewood Beach\, 2100 N. Beach Road\, Englewood\, FL\, 34223\, United States
ORGANIZER;CN="Loving Light Yoga":MAILTO:lata528@gmail.com
END:VEVENT
BEGIN:VEVENT
DTSTART;TZID=America/Halifax:20260907T083000
DTEND;TZID=America/Halifax:20260907T093000
DTSTAMP:20260421T115326
CREATED:20251029T160424Z
LAST-MODIFIED:20260119T144057Z
UID:10019438-1788769800-1788773400@englewoodreview.com
SUMMARY:Englewood Beach Yoga
DESCRIPTION:Englewood Beach Yoga with Lata & Robert\, classes held Monday – Saturday 8:30a – 9:30a. Located at 2100 N Beach Road\, the south end of Manasota Key. Bring a blanket/sheet or a chair and enjoy a peaceful gentle yoga flow with the beauty of nature. We are a Vendor at the beach\, Classes are supported by donations\, suggested $5 and up please.\nJoin us for scheduled Sunset Yoga & Crystal Bowls\, too!\nwww.lovinglightyoga.com 941-979-1917
URL:https://englewoodreview.com/event/englewood-beach-yoga/2026-09-07/
LOCATION:Englewood Beach\, 2100 N. Beach Road\, Englewood\, FL\, 34223\, United States
ORGANIZER;CN="Loving Light Yoga":MAILTO:lata528@gmail.com
END:VEVENT
BEGIN:VEVENT
DTSTART;TZID=America/Halifax:20260908T083000
DTEND;TZID=America/Halifax:20260908T093000
DTSTAMP:20260421T115326
CREATED:20251029T160424Z
LAST-MODIFIED:20260119T144057Z
UID:10019439-1788856200-1788859800@englewoodreview.com
SUMMARY:Englewood Beach Yoga
DESCRIPTION:Englewood Beach Yoga with Lata & Robert\, classes held Monday – Saturday 8:30a – 9:30a. Located at 2100 N Beach Road\, the south end of Manasota Key. Bring a blanket/sheet or a chair and enjoy a peaceful gentle yoga flow with the beauty of nature. We are a Vendor at the beach\, Classes are supported by donations\, suggested $5 and up please.\nJoin us for scheduled Sunset Yoga & Crystal Bowls\, too!\nwww.lovinglightyoga.com 941-979-1917
URL:https://englewoodreview.com/event/englewood-beach-yoga/2026-09-08/
LOCATION:Englewood Beach\, 2100 N. Beach Road\, Englewood\, FL\, 34223\, United States
ORGANIZER;CN="Loving Light Yoga":MAILTO:lata528@gmail.com
END:VEVENT
BEGIN:VEVENT
DTSTART;TZID=America/Halifax:20260909T083000
DTEND;TZID=America/Halifax:20260909T093000
DTSTAMP:20260421T115326
CREATED:20251029T160424Z
LAST-MODIFIED:20260119T144057Z
UID:10019440-1788942600-1788946200@englewoodreview.com
SUMMARY:Englewood Beach Yoga
DESCRIPTION:Englewood Beach Yoga with Lata & Robert\, classes held Monday – Saturday 8:30a – 9:30a. Located at 2100 N Beach Road\, the south end of Manasota Key. Bring a blanket/sheet or a chair and enjoy a peaceful gentle yoga flow with the beauty of nature. We are a Vendor at the beach\, Classes are supported by donations\, suggested $5 and up please.\nJoin us for scheduled Sunset Yoga & Crystal Bowls\, too!\nwww.lovinglightyoga.com 941-979-1917
URL:https://englewoodreview.com/event/englewood-beach-yoga/2026-09-09/
LOCATION:Englewood Beach\, 2100 N. Beach Road\, Englewood\, FL\, 34223\, United States
ORGANIZER;CN="Loving Light Yoga":MAILTO:lata528@gmail.com
END:VEVENT
BEGIN:VEVENT
DTSTART;TZID=America/Halifax:20260910T083000
DTEND;TZID=America/Halifax:20260910T093000
DTSTAMP:20260421T115326
CREATED:20251029T160424Z
LAST-MODIFIED:20260119T144057Z
UID:10019441-1789029000-1789032600@englewoodreview.com
SUMMARY:Englewood Beach Yoga
DESCRIPTION:Englewood Beach Yoga with Lata & Robert\, classes held Monday – Saturday 8:30a – 9:30a. Located at 2100 N Beach Road\, the south end of Manasota Key. Bring a blanket/sheet or a chair and enjoy a peaceful gentle yoga flow with the beauty of nature. We are a Vendor at the beach\, Classes are supported by donations\, suggested $5 and up please.\nJoin us for scheduled Sunset Yoga & Crystal Bowls\, too!\nwww.lovinglightyoga.com 941-979-1917
URL:https://englewoodreview.com/event/englewood-beach-yoga/2026-09-10/
LOCATION:Englewood Beach\, 2100 N. Beach Road\, Englewood\, FL\, 34223\, United States
ORGANIZER;CN="Loving Light Yoga":MAILTO:lata528@gmail.com
END:VEVENT
BEGIN:VEVENT
DTSTART;TZID=America/Halifax:20260911T083000
DTEND;TZID=America/Halifax:20260911T093000
DTSTAMP:20260421T115326
CREATED:20251029T160424Z
LAST-MODIFIED:20260119T144057Z
UID:10019442-1789115400-1789119000@englewoodreview.com
SUMMARY:Englewood Beach Yoga
DESCRIPTION:Englewood Beach Yoga with Lata & Robert\, classes held Monday – Saturday 8:30a – 9:30a. Located at 2100 N Beach Road\, the south end of Manasota Key. Bring a blanket/sheet or a chair and enjoy a peaceful gentle yoga flow with the beauty of nature. We are a Vendor at the beach\, Classes are supported by donations\, suggested $5 and up please.\nJoin us for scheduled Sunset Yoga & Crystal Bowls\, too!\nwww.lovinglightyoga.com 941-979-1917
URL:https://englewoodreview.com/event/englewood-beach-yoga/2026-09-11/
LOCATION:Englewood Beach\, 2100 N. Beach Road\, Englewood\, FL\, 34223\, United States
ORGANIZER;CN="Loving Light Yoga":MAILTO:lata528@gmail.com
END:VEVENT
BEGIN:VEVENT
DTSTART;TZID=America/Halifax:20260912T083000
DTEND;TZID=America/Halifax:20260912T093000
DTSTAMP:20260421T115326
CREATED:20251029T160424Z
LAST-MODIFIED:20260119T144057Z
UID:10019443-1789201800-1789205400@englewoodreview.com
SUMMARY:Englewood Beach Yoga
DESCRIPTION:Englewood Beach Yoga with Lata & Robert\, classes held Monday – Saturday 8:30a – 9:30a. Located at 2100 N Beach Road\, the south end of Manasota Key. Bring a blanket/sheet or a chair and enjoy a peaceful gentle yoga flow with the beauty of nature. We are a Vendor at the beach\, Classes are supported by donations\, suggested $5 and up please.\nJoin us for scheduled Sunset Yoga & Crystal Bowls\, too!\nwww.lovinglightyoga.com 941-979-1917
URL:https://englewoodreview.com/event/englewood-beach-yoga/2026-09-12/
LOCATION:Englewood Beach\, 2100 N. Beach Road\, Englewood\, FL\, 34223\, United States
ORGANIZER;CN="Loving Light Yoga":MAILTO:lata528@gmail.com
END:VEVENT
BEGIN:VEVENT
DTSTART;TZID=America/Halifax:20260914T083000
DTEND;TZID=America/Halifax:20260914T093000
DTSTAMP:20260421T115326
CREATED:20251029T160424Z
LAST-MODIFIED:20260119T144057Z
UID:10019444-1789374600-1789378200@englewoodreview.com
SUMMARY:Englewood Beach Yoga
DESCRIPTION:Englewood Beach Yoga with Lata & Robert\, classes held Monday – Saturday 8:30a – 9:30a. Located at 2100 N Beach Road\, the south end of Manasota Key. Bring a blanket/sheet or a chair and enjoy a peaceful gentle yoga flow with the beauty of nature. We are a Vendor at the beach\, Classes are supported by donations\, suggested $5 and up please.\nJoin us for scheduled Sunset Yoga & Crystal Bowls\, too!\nwww.lovinglightyoga.com 941-979-1917
URL:https://englewoodreview.com/event/englewood-beach-yoga/2026-09-14/
LOCATION:Englewood Beach\, 2100 N. Beach Road\, Englewood\, FL\, 34223\, United States
ORGANIZER;CN="Loving Light Yoga":MAILTO:lata528@gmail.com
END:VEVENT
BEGIN:VEVENT
DTSTART;TZID=America/Halifax:20260915T083000
DTEND;TZID=America/Halifax:20260915T093000
DTSTAMP:20260421T115326
CREATED:20251029T160424Z
LAST-MODIFIED:20260119T144057Z
UID:10019445-1789461000-1789464600@englewoodreview.com
SUMMARY:Englewood Beach Yoga
DESCRIPTION:Englewood Beach Yoga with Lata & Robert\, classes held Monday – Saturday 8:30a – 9:30a. Located at 2100 N Beach Road\, the south end of Manasota Key. Bring a blanket/sheet or a chair and enjoy a peaceful gentle yoga flow with the beauty of nature. We are a Vendor at the beach\, Classes are supported by donations\, suggested $5 and up please.\nJoin us for scheduled Sunset Yoga & Crystal Bowls\, too!\nwww.lovinglightyoga.com 941-979-1917
URL:https://englewoodreview.com/event/englewood-beach-yoga/2026-09-15/
LOCATION:Englewood Beach\, 2100 N. Beach Road\, Englewood\, FL\, 34223\, United States
ORGANIZER;CN="Loving Light Yoga":MAILTO:lata528@gmail.com
END:VEVENT
BEGIN:VEVENT
DTSTART;TZID=America/Halifax:20260916T083000
DTEND;TZID=America/Halifax:20260916T093000
DTSTAMP:20260421T115326
CREATED:20251029T160424Z
LAST-MODIFIED:20260119T144057Z
UID:10019446-1789547400-1789551000@englewoodreview.com
SUMMARY:Englewood Beach Yoga
DESCRIPTION:Englewood Beach Yoga with Lata & Robert\, classes held Monday – Saturday 8:30a – 9:30a. Located at 2100 N Beach Road\, the south end of Manasota Key. Bring a blanket/sheet or a chair and enjoy a peaceful gentle yoga flow with the beauty of nature. We are a Vendor at the beach\, Classes are supported by donations\, suggested $5 and up please.\nJoin us for scheduled Sunset Yoga & Crystal Bowls\, too!\nwww.lovinglightyoga.com 941-979-1917
URL:https://englewoodreview.com/event/englewood-beach-yoga/2026-09-16/
LOCATION:Englewood Beach\, 2100 N. Beach Road\, Englewood\, FL\, 34223\, United States
ORGANIZER;CN="Loving Light Yoga":MAILTO:lata528@gmail.com
END:VEVENT
BEGIN:VEVENT
DTSTART;TZID=America/Halifax:20260917T083000
DTEND;TZID=America/Halifax:20260917T093000
DTSTAMP:20260421T115326
CREATED:20251029T160424Z
LAST-MODIFIED:20260119T144057Z
UID:10019447-1789633800-1789637400@englewoodreview.com
SUMMARY:Englewood Beach Yoga
DESCRIPTION:Englewood Beach Yoga with Lata & Robert\, classes held Monday – Saturday 8:30a – 9:30a. Located at 2100 N Beach Road\, the south end of Manasota Key. Bring a blanket/sheet or a chair and enjoy a peaceful gentle yoga flow with the beauty of nature. We are a Vendor at the beach\, Classes are supported by donations\, suggested $5 and up please.\nJoin us for scheduled Sunset Yoga & Crystal Bowls\, too!\nwww.lovinglightyoga.com 941-979-1917
URL:https://englewoodreview.com/event/englewood-beach-yoga/2026-09-17/
LOCATION:Englewood Beach\, 2100 N. Beach Road\, Englewood\, FL\, 34223\, United States
ORGANIZER;CN="Loving Light Yoga":MAILTO:lata528@gmail.com
END:VEVENT
BEGIN:VEVENT
DTSTART;TZID=America/Halifax:20260918T083000
DTEND;TZID=America/Halifax:20260918T093000
DTSTAMP:20260421T115326
CREATED:20251029T160424Z
LAST-MODIFIED:20260119T144057Z
UID:10019448-1789720200-1789723800@englewoodreview.com
SUMMARY:Englewood Beach Yoga
DESCRIPTION:Englewood Beach Yoga with Lata & Robert\, classes held Monday – Saturday 8:30a – 9:30a. Located at 2100 N Beach Road\, the south end of Manasota Key. Bring a blanket/sheet or a chair and enjoy a peaceful gentle yoga flow with the beauty of nature. We are a Vendor at the beach\, Classes are supported by donations\, suggested $5 and up please.\nJoin us for scheduled Sunset Yoga & Crystal Bowls\, too!\nwww.lovinglightyoga.com 941-979-1917
URL:https://englewoodreview.com/event/englewood-beach-yoga/2026-09-18/
LOCATION:Englewood Beach\, 2100 N. Beach Road\, Englewood\, FL\, 34223\, United States
ORGANIZER;CN="Loving Light Yoga":MAILTO:lata528@gmail.com
END:VEVENT
BEGIN:VEVENT
DTSTART;TZID=America/Halifax:20260919T083000
DTEND;TZID=America/Halifax:20260919T093000
DTSTAMP:20260421T115326
CREATED:20251029T160424Z
LAST-MODIFIED:20260119T144057Z
UID:10019449-1789806600-1789810200@englewoodreview.com
SUMMARY:Englewood Beach Yoga
DESCRIPTION:Englewood Beach Yoga with Lata & Robert\, classes held Monday – Saturday 8:30a – 9:30a. Located at 2100 N Beach Road\, the south end of Manasota Key. Bring a blanket/sheet or a chair and enjoy a peaceful gentle yoga flow with the beauty of nature. We are a Vendor at the beach\, Classes are supported by donations\, suggested $5 and up please.\nJoin us for scheduled Sunset Yoga & Crystal Bowls\, too!\nwww.lovinglightyoga.com 941-979-1917
URL:https://englewoodreview.com/event/englewood-beach-yoga/2026-09-19/
LOCATION:Englewood Beach\, 2100 N. Beach Road\, Englewood\, FL\, 34223\, United States
ORGANIZER;CN="Loving Light Yoga":MAILTO:lata528@gmail.com
END:VEVENT
BEGIN:VEVENT
DTSTART;TZID=America/Halifax:20260921T083000
DTEND;TZID=America/Halifax:20260921T093000
DTSTAMP:20260421T115326
CREATED:20251029T160424Z
LAST-MODIFIED:20260119T144057Z
UID:10019450-1789979400-1789983000@englewoodreview.com
SUMMARY:Englewood Beach Yoga
DESCRIPTION:Englewood Beach Yoga with Lata & Robert\, classes held Monday – Saturday 8:30a – 9:30a. Located at 2100 N Beach Road\, the south end of Manasota Key. Bring a blanket/sheet or a chair and enjoy a peaceful gentle yoga flow with the beauty of nature. We are a Vendor at the beach\, Classes are supported by donations\, suggested $5 and up please.\nJoin us for scheduled Sunset Yoga & Crystal Bowls\, too!\nwww.lovinglightyoga.com 941-979-1917
URL:https://englewoodreview.com/event/englewood-beach-yoga/2026-09-21/
LOCATION:Englewood Beach\, 2100 N. Beach Road\, Englewood\, FL\, 34223\, United States
ORGANIZER;CN="Loving Light Yoga":MAILTO:lata528@gmail.com
END:VEVENT
BEGIN:VEVENT
DTSTART;TZID=America/Halifax:20260922T083000
DTEND;TZID=America/Halifax:20260922T093000
DTSTAMP:20260421T115326
CREATED:20251029T160424Z
LAST-MODIFIED:20260119T144057Z
UID:10019451-1790065800-1790069400@englewoodreview.com
SUMMARY:Englewood Beach Yoga
DESCRIPTION:Englewood Beach Yoga with Lata & Robert\, classes held Monday – Saturday 8:30a – 9:30a. Located at 2100 N Beach Road\, the south end of Manasota Key. Bring a blanket/sheet or a chair and enjoy a peaceful gentle yoga flow with the beauty of nature. We are a Vendor at the beach\, Classes are supported by donations\, suggested $5 and up please.\nJoin us for scheduled Sunset Yoga & Crystal Bowls\, too!\nwww.lovinglightyoga.com 941-979-1917
URL:https://englewoodreview.com/event/englewood-beach-yoga/2026-09-22/
LOCATION:Englewood Beach\, 2100 N. Beach Road\, Englewood\, FL\, 34223\, United States
ORGANIZER;CN="Loving Light Yoga":MAILTO:lata528@gmail.com
END:VEVENT
BEGIN:VEVENT
DTSTART;TZID=America/Halifax:20260923T083000
DTEND;TZID=America/Halifax:20260923T093000
DTSTAMP:20260421T115326
CREATED:20251029T160424Z
LAST-MODIFIED:20260119T144057Z
UID:10019452-1790152200-1790155800@englewoodreview.com
SUMMARY:Englewood Beach Yoga
DESCRIPTION:Englewood Beach Yoga with Lata & Robert\, classes held Monday – Saturday 8:30a – 9:30a. Located at 2100 N Beach Road\, the south end of Manasota Key. Bring a blanket/sheet or a chair and enjoy a peaceful gentle yoga flow with the beauty of nature. We are a Vendor at the beach\, Classes are supported by donations\, suggested $5 and up please.\nJoin us for scheduled Sunset Yoga & Crystal Bowls\, too!\nwww.lovinglightyoga.com 941-979-1917
URL:https://englewoodreview.com/event/englewood-beach-yoga/2026-09-23/
LOCATION:Englewood Beach\, 2100 N. Beach Road\, Englewood\, FL\, 34223\, United States
ORGANIZER;CN="Loving Light Yoga":MAILTO:lata528@gmail.com
END:VEVENT
BEGIN:VEVENT
DTSTART;TZID=America/Halifax:20260924T083000
DTEND;TZID=America/Halifax:20260924T093000
DTSTAMP:20260421T115326
CREATED:20251029T160424Z
LAST-MODIFIED:20260119T144057Z
UID:10019453-1790238600-1790242200@englewoodreview.com
SUMMARY:Englewood Beach Yoga
DESCRIPTION:Englewood Beach Yoga with Lata & Robert\, classes held Monday – Saturday 8:30a – 9:30a. Located at 2100 N Beach Road\, the south end of Manasota Key. Bring a blanket/sheet or a chair and enjoy a peaceful gentle yoga flow with the beauty of nature. We are a Vendor at the beach\, Classes are supported by donations\, suggested $5 and up please.\nJoin us for scheduled Sunset Yoga & Crystal Bowls\, too!\nwww.lovinglightyoga.com 941-979-1917
URL:https://englewoodreview.com/event/englewood-beach-yoga/2026-09-24/
LOCATION:Englewood Beach\, 2100 N. Beach Road\, Englewood\, FL\, 34223\, United States
ORGANIZER;CN="Loving Light Yoga":MAILTO:lata528@gmail.com
END:VEVENT
BEGIN:VEVENT
DTSTART;TZID=America/Halifax:20260925T083000
DTEND;TZID=America/Halifax:20260925T093000
DTSTAMP:20260421T115326
CREATED:20251029T160424Z
LAST-MODIFIED:20260119T144057Z
UID:10019454-1790325000-1790328600@englewoodreview.com
SUMMARY:Englewood Beach Yoga
DESCRIPTION:Englewood Beach Yoga with Lata & Robert\, classes held Monday – Saturday 8:30a – 9:30a. Located at 2100 N Beach Road\, the south end of Manasota Key. Bring a blanket/sheet or a chair and enjoy a peaceful gentle yoga flow with the beauty of nature. We are a Vendor at the beach\, Classes are supported by donations\, suggested $5 and up please.\nJoin us for scheduled Sunset Yoga & Crystal Bowls\, too!\nwww.lovinglightyoga.com 941-979-1917
URL:https://englewoodreview.com/event/englewood-beach-yoga/2026-09-25/
LOCATION:Englewood Beach\, 2100 N. Beach Road\, Englewood\, FL\, 34223\, United States
ORGANIZER;CN="Loving Light Yoga":MAILTO:lata528@gmail.com
END:VEVENT
BEGIN:VEVENT
DTSTART;TZID=America/Halifax:20260926T083000
DTEND;TZID=America/Halifax:20260926T093000
DTSTAMP:20260421T115326
CREATED:20251029T160424Z
LAST-MODIFIED:20260119T144057Z
UID:10019455-1790411400-1790415000@englewoodreview.com
SUMMARY:Englewood Beach Yoga
DESCRIPTION:Englewood Beach Yoga with Lata & Robert\, classes held Monday – Saturday 8:30a – 9:30a. Located at 2100 N Beach Road\, the south end of Manasota Key. Bring a blanket/sheet or a chair and enjoy a peaceful gentle yoga flow with the beauty of nature. We are a Vendor at the beach\, Classes are supported by donations\, suggested $5 and up please.\nJoin us for scheduled Sunset Yoga & Crystal Bowls\, too!\nwww.lovinglightyoga.com 941-979-1917
URL:https://englewoodreview.com/event/englewood-beach-yoga/2026-09-26/
LOCATION:Englewood Beach\, 2100 N. Beach Road\, Englewood\, FL\, 34223\, United States
ORGANIZER;CN="Loving Light Yoga":MAILTO:lata528@gmail.com
END:VEVENT
BEGIN:VEVENT
DTSTART;TZID=America/Halifax:20260928T083000
DTEND;TZID=America/Halifax:20260928T093000
DTSTAMP:20260421T115326
CREATED:20251029T160424Z
LAST-MODIFIED:20260119T144057Z
UID:10019456-1790584200-1790587800@englewoodreview.com
SUMMARY:Englewood Beach Yoga
DESCRIPTION:Englewood Beach Yoga with Lata & Robert\, classes held Monday – Saturday 8:30a – 9:30a. Located at 2100 N Beach Road\, the south end of Manasota Key. Bring a blanket/sheet or a chair and enjoy a peaceful gentle yoga flow with the beauty of nature. We are a Vendor at the beach\, Classes are supported by donations\, suggested $5 and up please.\nJoin us for scheduled Sunset Yoga & Crystal Bowls\, too!\nwww.lovinglightyoga.com 941-979-1917
URL:https://englewoodreview.com/event/englewood-beach-yoga/2026-09-28/
LOCATION:Englewood Beach\, 2100 N. Beach Road\, Englewood\, FL\, 34223\, United States
ORGANIZER;CN="Loving Light Yoga":MAILTO:lata528@gmail.com
END:VEVENT
BEGIN:VEVENT
DTSTART;TZID=America/Halifax:20260929T083000
DTEND;TZID=America/Halifax:20260929T093000
DTSTAMP:20260421T115326
CREATED:20251029T160424Z
LAST-MODIFIED:20260119T144057Z
UID:10019457-1790670600-1790674200@englewoodreview.com
SUMMARY:Englewood Beach Yoga
DESCRIPTION:Englewood Beach Yoga with Lata & Robert\, classes held Monday – Saturday 8:30a – 9:30a. Located at 2100 N Beach Road\, the south end of Manasota Key. Bring a blanket/sheet or a chair and enjoy a peaceful gentle yoga flow with the beauty of nature. We are a Vendor at the beach\, Classes are supported by donations\, suggested $5 and up please.\nJoin us for scheduled Sunset Yoga & Crystal Bowls\, too!\nwww.lovinglightyoga.com 941-979-1917
URL:https://englewoodreview.com/event/englewood-beach-yoga/2026-09-29/
LOCATION:Englewood Beach\, 2100 N. Beach Road\, Englewood\, FL\, 34223\, United States
ORGANIZER;CN="Loving Light Yoga":MAILTO:lata528@gmail.com
END:VEVENT
END:VCALENDAR