BEGIN:VCALENDAR
VERSION:2.0
PRODID:-//Englewood Review - ECPv6.15.15//NONSGML v1.0//EN
CALSCALE:GREGORIAN
METHOD:PUBLISH
X-ORIGINAL-URL:https://englewoodreview.com
X-WR-CALDESC:Events for Englewood Review
REFRESH-INTERVAL;VALUE=DURATION:PT1H
X-Robots-Tag:noindex
X-PUBLISHED-TTL:PT1H
BEGIN:VTIMEZONE
TZID:America/Halifax
BEGIN:DAYLIGHT
TZOFFSETFROM:-0400
TZOFFSETTO:-0300
TZNAME:ADT
DTSTART:20270314T060000
END:DAYLIGHT
BEGIN:STANDARD
TZOFFSETFROM:-0300
TZOFFSETTO:-0400
TZNAME:AST
DTSTART:20271107T050000
END:STANDARD
BEGIN:DAYLIGHT
TZOFFSETFROM:-0400
TZOFFSETTO:-0300
TZNAME:ADT
DTSTART:20280312T060000
END:DAYLIGHT
BEGIN:STANDARD
TZOFFSETFROM:-0300
TZOFFSETTO:-0400
TZNAME:AST
DTSTART:20281105T050000
END:STANDARD
BEGIN:DAYLIGHT
TZOFFSETFROM:-0400
TZOFFSETTO:-0300
TZNAME:ADT
DTSTART:20290311T060000
END:DAYLIGHT
BEGIN:STANDARD
TZOFFSETFROM:-0300
TZOFFSETTO:-0400
TZNAME:AST
DTSTART:20291104T050000
END:STANDARD
END:VTIMEZONE
BEGIN:VEVENT
DTSTART;TZID=America/Halifax:20280211T083000
DTEND;TZID=America/Halifax:20280211T093000
DTSTAMP:20260424T015006
CREATED:20251029T160424Z
LAST-MODIFIED:20260119T144057Z
UID:10019886-1833870600-1833874200@englewoodreview.com
SUMMARY:Englewood Beach Yoga
DESCRIPTION:Englewood Beach Yoga with Lata & Robert\, classes held Monday – Saturday 8:30a – 9:30a. Located at 2100 N Beach Road\, the south end of Manasota Key. Bring a blanket/sheet or a chair and enjoy a peaceful gentle yoga flow with the beauty of nature. We are a Vendor at the beach\, Classes are supported by donations\, suggested $5 and up please.\nJoin us for scheduled Sunset Yoga & Crystal Bowls\, too!\nwww.lovinglightyoga.com 941-979-1917
URL:https://englewoodreview.com/event/englewood-beach-yoga/2028-02-11/
LOCATION:Englewood Beach\, 2100 N. Beach Road\, Englewood\, FL\, 34223\, United States
ORGANIZER;CN="Loving Light Yoga":MAILTO:lata528@gmail.com
END:VEVENT
BEGIN:VEVENT
DTSTART;TZID=America/Halifax:20280212T083000
DTEND;TZID=America/Halifax:20280212T093000
DTSTAMP:20260424T015006
CREATED:20251029T160424Z
LAST-MODIFIED:20260119T144057Z
UID:10019887-1833957000-1833960600@englewoodreview.com
SUMMARY:Englewood Beach Yoga
DESCRIPTION:Englewood Beach Yoga with Lata & Robert\, classes held Monday – Saturday 8:30a – 9:30a. Located at 2100 N Beach Road\, the south end of Manasota Key. Bring a blanket/sheet or a chair and enjoy a peaceful gentle yoga flow with the beauty of nature. We are a Vendor at the beach\, Classes are supported by donations\, suggested $5 and up please.\nJoin us for scheduled Sunset Yoga & Crystal Bowls\, too!\nwww.lovinglightyoga.com 941-979-1917
URL:https://englewoodreview.com/event/englewood-beach-yoga/2028-02-12/
LOCATION:Englewood Beach\, 2100 N. Beach Road\, Englewood\, FL\, 34223\, United States
ORGANIZER;CN="Loving Light Yoga":MAILTO:lata528@gmail.com
END:VEVENT
BEGIN:VEVENT
DTSTART;TZID=America/Halifax:20280214T083000
DTEND;TZID=America/Halifax:20280214T093000
DTSTAMP:20260424T015006
CREATED:20251029T160424Z
LAST-MODIFIED:20260119T144057Z
UID:10019888-1834129800-1834133400@englewoodreview.com
SUMMARY:Englewood Beach Yoga
DESCRIPTION:Englewood Beach Yoga with Lata & Robert\, classes held Monday – Saturday 8:30a – 9:30a. Located at 2100 N Beach Road\, the south end of Manasota Key. Bring a blanket/sheet or a chair and enjoy a peaceful gentle yoga flow with the beauty of nature. We are a Vendor at the beach\, Classes are supported by donations\, suggested $5 and up please.\nJoin us for scheduled Sunset Yoga & Crystal Bowls\, too!\nwww.lovinglightyoga.com 941-979-1917
URL:https://englewoodreview.com/event/englewood-beach-yoga/2028-02-14/
LOCATION:Englewood Beach\, 2100 N. Beach Road\, Englewood\, FL\, 34223\, United States
ORGANIZER;CN="Loving Light Yoga":MAILTO:lata528@gmail.com
END:VEVENT
BEGIN:VEVENT
DTSTART;TZID=America/Halifax:20280215T083000
DTEND;TZID=America/Halifax:20280215T093000
DTSTAMP:20260424T015006
CREATED:20251029T160424Z
LAST-MODIFIED:20260119T144057Z
UID:10019889-1834216200-1834219800@englewoodreview.com
SUMMARY:Englewood Beach Yoga
DESCRIPTION:Englewood Beach Yoga with Lata & Robert\, classes held Monday – Saturday 8:30a – 9:30a. Located at 2100 N Beach Road\, the south end of Manasota Key. Bring a blanket/sheet or a chair and enjoy a peaceful gentle yoga flow with the beauty of nature. We are a Vendor at the beach\, Classes are supported by donations\, suggested $5 and up please.\nJoin us for scheduled Sunset Yoga & Crystal Bowls\, too!\nwww.lovinglightyoga.com 941-979-1917
URL:https://englewoodreview.com/event/englewood-beach-yoga/2028-02-15/
LOCATION:Englewood Beach\, 2100 N. Beach Road\, Englewood\, FL\, 34223\, United States
ORGANIZER;CN="Loving Light Yoga":MAILTO:lata528@gmail.com
END:VEVENT
BEGIN:VEVENT
DTSTART;TZID=America/Halifax:20280216T083000
DTEND;TZID=America/Halifax:20280216T093000
DTSTAMP:20260424T015006
CREATED:20251029T160424Z
LAST-MODIFIED:20260119T144057Z
UID:10019890-1834302600-1834306200@englewoodreview.com
SUMMARY:Englewood Beach Yoga
DESCRIPTION:Englewood Beach Yoga with Lata & Robert\, classes held Monday – Saturday 8:30a – 9:30a. Located at 2100 N Beach Road\, the south end of Manasota Key. Bring a blanket/sheet or a chair and enjoy a peaceful gentle yoga flow with the beauty of nature. We are a Vendor at the beach\, Classes are supported by donations\, suggested $5 and up please.\nJoin us for scheduled Sunset Yoga & Crystal Bowls\, too!\nwww.lovinglightyoga.com 941-979-1917
URL:https://englewoodreview.com/event/englewood-beach-yoga/2028-02-16/
LOCATION:Englewood Beach\, 2100 N. Beach Road\, Englewood\, FL\, 34223\, United States
ORGANIZER;CN="Loving Light Yoga":MAILTO:lata528@gmail.com
END:VEVENT
BEGIN:VEVENT
DTSTART;TZID=America/Halifax:20280217T083000
DTEND;TZID=America/Halifax:20280217T093000
DTSTAMP:20260424T015006
CREATED:20251029T160424Z
LAST-MODIFIED:20260119T144057Z
UID:10019891-1834389000-1834392600@englewoodreview.com
SUMMARY:Englewood Beach Yoga
DESCRIPTION:Englewood Beach Yoga with Lata & Robert\, classes held Monday – Saturday 8:30a – 9:30a. Located at 2100 N Beach Road\, the south end of Manasota Key. Bring a blanket/sheet or a chair and enjoy a peaceful gentle yoga flow with the beauty of nature. We are a Vendor at the beach\, Classes are supported by donations\, suggested $5 and up please.\nJoin us for scheduled Sunset Yoga & Crystal Bowls\, too!\nwww.lovinglightyoga.com 941-979-1917
URL:https://englewoodreview.com/event/englewood-beach-yoga/2028-02-17/
LOCATION:Englewood Beach\, 2100 N. Beach Road\, Englewood\, FL\, 34223\, United States
ORGANIZER;CN="Loving Light Yoga":MAILTO:lata528@gmail.com
END:VEVENT
BEGIN:VEVENT
DTSTART;TZID=America/Halifax:20280218T083000
DTEND;TZID=America/Halifax:20280218T093000
DTSTAMP:20260424T015006
CREATED:20251029T160424Z
LAST-MODIFIED:20260119T144057Z
UID:10019892-1834475400-1834479000@englewoodreview.com
SUMMARY:Englewood Beach Yoga
DESCRIPTION:Englewood Beach Yoga with Lata & Robert\, classes held Monday – Saturday 8:30a – 9:30a. Located at 2100 N Beach Road\, the south end of Manasota Key. Bring a blanket/sheet or a chair and enjoy a peaceful gentle yoga flow with the beauty of nature. We are a Vendor at the beach\, Classes are supported by donations\, suggested $5 and up please.\nJoin us for scheduled Sunset Yoga & Crystal Bowls\, too!\nwww.lovinglightyoga.com 941-979-1917
URL:https://englewoodreview.com/event/englewood-beach-yoga/2028-02-18/
LOCATION:Englewood Beach\, 2100 N. Beach Road\, Englewood\, FL\, 34223\, United States
ORGANIZER;CN="Loving Light Yoga":MAILTO:lata528@gmail.com
END:VEVENT
BEGIN:VEVENT
DTSTART;TZID=America/Halifax:20280219T083000
DTEND;TZID=America/Halifax:20280219T093000
DTSTAMP:20260424T015006
CREATED:20251029T160424Z
LAST-MODIFIED:20260119T144057Z
UID:10019893-1834561800-1834565400@englewoodreview.com
SUMMARY:Englewood Beach Yoga
DESCRIPTION:Englewood Beach Yoga with Lata & Robert\, classes held Monday – Saturday 8:30a – 9:30a. Located at 2100 N Beach Road\, the south end of Manasota Key. Bring a blanket/sheet or a chair and enjoy a peaceful gentle yoga flow with the beauty of nature. We are a Vendor at the beach\, Classes are supported by donations\, suggested $5 and up please.\nJoin us for scheduled Sunset Yoga & Crystal Bowls\, too!\nwww.lovinglightyoga.com 941-979-1917
URL:https://englewoodreview.com/event/englewood-beach-yoga/2028-02-19/
LOCATION:Englewood Beach\, 2100 N. Beach Road\, Englewood\, FL\, 34223\, United States
ORGANIZER;CN="Loving Light Yoga":MAILTO:lata528@gmail.com
END:VEVENT
BEGIN:VEVENT
DTSTART;TZID=America/Halifax:20280221T083000
DTEND;TZID=America/Halifax:20280221T093000
DTSTAMP:20260424T015006
CREATED:20251029T160424Z
LAST-MODIFIED:20260119T144057Z
UID:10019894-1834734600-1834738200@englewoodreview.com
SUMMARY:Englewood Beach Yoga
DESCRIPTION:Englewood Beach Yoga with Lata & Robert\, classes held Monday – Saturday 8:30a – 9:30a. Located at 2100 N Beach Road\, the south end of Manasota Key. Bring a blanket/sheet or a chair and enjoy a peaceful gentle yoga flow with the beauty of nature. We are a Vendor at the beach\, Classes are supported by donations\, suggested $5 and up please.\nJoin us for scheduled Sunset Yoga & Crystal Bowls\, too!\nwww.lovinglightyoga.com 941-979-1917
URL:https://englewoodreview.com/event/englewood-beach-yoga/2028-02-21/
LOCATION:Englewood Beach\, 2100 N. Beach Road\, Englewood\, FL\, 34223\, United States
ORGANIZER;CN="Loving Light Yoga":MAILTO:lata528@gmail.com
END:VEVENT
BEGIN:VEVENT
DTSTART;TZID=America/Halifax:20280222T083000
DTEND;TZID=America/Halifax:20280222T093000
DTSTAMP:20260424T015006
CREATED:20251029T160424Z
LAST-MODIFIED:20260119T144057Z
UID:10019895-1834821000-1834824600@englewoodreview.com
SUMMARY:Englewood Beach Yoga
DESCRIPTION:Englewood Beach Yoga with Lata & Robert\, classes held Monday – Saturday 8:30a – 9:30a. Located at 2100 N Beach Road\, the south end of Manasota Key. Bring a blanket/sheet or a chair and enjoy a peaceful gentle yoga flow with the beauty of nature. We are a Vendor at the beach\, Classes are supported by donations\, suggested $5 and up please.\nJoin us for scheduled Sunset Yoga & Crystal Bowls\, too!\nwww.lovinglightyoga.com 941-979-1917
URL:https://englewoodreview.com/event/englewood-beach-yoga/2028-02-22/
LOCATION:Englewood Beach\, 2100 N. Beach Road\, Englewood\, FL\, 34223\, United States
ORGANIZER;CN="Loving Light Yoga":MAILTO:lata528@gmail.com
END:VEVENT
BEGIN:VEVENT
DTSTART;TZID=America/Halifax:20280223T083000
DTEND;TZID=America/Halifax:20280223T093000
DTSTAMP:20260424T015006
CREATED:20251029T160424Z
LAST-MODIFIED:20260119T144057Z
UID:10019896-1834907400-1834911000@englewoodreview.com
SUMMARY:Englewood Beach Yoga
DESCRIPTION:Englewood Beach Yoga with Lata & Robert\, classes held Monday – Saturday 8:30a – 9:30a. Located at 2100 N Beach Road\, the south end of Manasota Key. Bring a blanket/sheet or a chair and enjoy a peaceful gentle yoga flow with the beauty of nature. We are a Vendor at the beach\, Classes are supported by donations\, suggested $5 and up please.\nJoin us for scheduled Sunset Yoga & Crystal Bowls\, too!\nwww.lovinglightyoga.com 941-979-1917
URL:https://englewoodreview.com/event/englewood-beach-yoga/2028-02-23/
LOCATION:Englewood Beach\, 2100 N. Beach Road\, Englewood\, FL\, 34223\, United States
ORGANIZER;CN="Loving Light Yoga":MAILTO:lata528@gmail.com
END:VEVENT
BEGIN:VEVENT
DTSTART;TZID=America/Halifax:20280224T083000
DTEND;TZID=America/Halifax:20280224T093000
DTSTAMP:20260424T015006
CREATED:20251029T160424Z
LAST-MODIFIED:20260119T144057Z
UID:10019897-1834993800-1834997400@englewoodreview.com
SUMMARY:Englewood Beach Yoga
DESCRIPTION:Englewood Beach Yoga with Lata & Robert\, classes held Monday – Saturday 8:30a – 9:30a. Located at 2100 N Beach Road\, the south end of Manasota Key. Bring a blanket/sheet or a chair and enjoy a peaceful gentle yoga flow with the beauty of nature. We are a Vendor at the beach\, Classes are supported by donations\, suggested $5 and up please.\nJoin us for scheduled Sunset Yoga & Crystal Bowls\, too!\nwww.lovinglightyoga.com 941-979-1917
URL:https://englewoodreview.com/event/englewood-beach-yoga/2028-02-24/
LOCATION:Englewood Beach\, 2100 N. Beach Road\, Englewood\, FL\, 34223\, United States
ORGANIZER;CN="Loving Light Yoga":MAILTO:lata528@gmail.com
END:VEVENT
BEGIN:VEVENT
DTSTART;TZID=America/Halifax:20280225T083000
DTEND;TZID=America/Halifax:20280225T093000
DTSTAMP:20260424T015006
CREATED:20251029T160424Z
LAST-MODIFIED:20260119T144057Z
UID:10019898-1835080200-1835083800@englewoodreview.com
SUMMARY:Englewood Beach Yoga
DESCRIPTION:Englewood Beach Yoga with Lata & Robert\, classes held Monday – Saturday 8:30a – 9:30a. Located at 2100 N Beach Road\, the south end of Manasota Key. Bring a blanket/sheet or a chair and enjoy a peaceful gentle yoga flow with the beauty of nature. We are a Vendor at the beach\, Classes are supported by donations\, suggested $5 and up please.\nJoin us for scheduled Sunset Yoga & Crystal Bowls\, too!\nwww.lovinglightyoga.com 941-979-1917
URL:https://englewoodreview.com/event/englewood-beach-yoga/2028-02-25/
LOCATION:Englewood Beach\, 2100 N. Beach Road\, Englewood\, FL\, 34223\, United States
ORGANIZER;CN="Loving Light Yoga":MAILTO:lata528@gmail.com
END:VEVENT
BEGIN:VEVENT
DTSTART;TZID=America/Halifax:20280226T083000
DTEND;TZID=America/Halifax:20280226T093000
DTSTAMP:20260424T015006
CREATED:20251029T160424Z
LAST-MODIFIED:20260119T144057Z
UID:10019899-1835166600-1835170200@englewoodreview.com
SUMMARY:Englewood Beach Yoga
DESCRIPTION:Englewood Beach Yoga with Lata & Robert\, classes held Monday – Saturday 8:30a – 9:30a. Located at 2100 N Beach Road\, the south end of Manasota Key. Bring a blanket/sheet or a chair and enjoy a peaceful gentle yoga flow with the beauty of nature. We are a Vendor at the beach\, Classes are supported by donations\, suggested $5 and up please.\nJoin us for scheduled Sunset Yoga & Crystal Bowls\, too!\nwww.lovinglightyoga.com 941-979-1917
URL:https://englewoodreview.com/event/englewood-beach-yoga/2028-02-26/
LOCATION:Englewood Beach\, 2100 N. Beach Road\, Englewood\, FL\, 34223\, United States
ORGANIZER;CN="Loving Light Yoga":MAILTO:lata528@gmail.com
END:VEVENT
BEGIN:VEVENT
DTSTART;TZID=America/Halifax:20280228T083000
DTEND;TZID=America/Halifax:20280228T093000
DTSTAMP:20260424T015006
CREATED:20251029T160424Z
LAST-MODIFIED:20260119T144057Z
UID:10019900-1835339400-1835343000@englewoodreview.com
SUMMARY:Englewood Beach Yoga
DESCRIPTION:Englewood Beach Yoga with Lata & Robert\, classes held Monday – Saturday 8:30a – 9:30a. Located at 2100 N Beach Road\, the south end of Manasota Key. Bring a blanket/sheet or a chair and enjoy a peaceful gentle yoga flow with the beauty of nature. We are a Vendor at the beach\, Classes are supported by donations\, suggested $5 and up please.\nJoin us for scheduled Sunset Yoga & Crystal Bowls\, too!\nwww.lovinglightyoga.com 941-979-1917
URL:https://englewoodreview.com/event/englewood-beach-yoga/2028-02-28/
LOCATION:Englewood Beach\, 2100 N. Beach Road\, Englewood\, FL\, 34223\, United States
ORGANIZER;CN="Loving Light Yoga":MAILTO:lata528@gmail.com
END:VEVENT
BEGIN:VEVENT
DTSTART;TZID=America/Halifax:20280229T083000
DTEND;TZID=America/Halifax:20280229T093000
DTSTAMP:20260424T015006
CREATED:20251029T160424Z
LAST-MODIFIED:20260119T144057Z
UID:10019901-1835425800-1835429400@englewoodreview.com
SUMMARY:Englewood Beach Yoga
DESCRIPTION:Englewood Beach Yoga with Lata & Robert\, classes held Monday – Saturday 8:30a – 9:30a. Located at 2100 N Beach Road\, the south end of Manasota Key. Bring a blanket/sheet or a chair and enjoy a peaceful gentle yoga flow with the beauty of nature. We are a Vendor at the beach\, Classes are supported by donations\, suggested $5 and up please.\nJoin us for scheduled Sunset Yoga & Crystal Bowls\, too!\nwww.lovinglightyoga.com 941-979-1917
URL:https://englewoodreview.com/event/englewood-beach-yoga/2028-02-29/
LOCATION:Englewood Beach\, 2100 N. Beach Road\, Englewood\, FL\, 34223\, United States
ORGANIZER;CN="Loving Light Yoga":MAILTO:lata528@gmail.com
END:VEVENT
BEGIN:VEVENT
DTSTART;TZID=America/Halifax:20280301T083000
DTEND;TZID=America/Halifax:20280301T093000
DTSTAMP:20260424T015006
CREATED:20251029T160424Z
LAST-MODIFIED:20260119T144057Z
UID:10019902-1835512200-1835515800@englewoodreview.com
SUMMARY:Englewood Beach Yoga
DESCRIPTION:Englewood Beach Yoga with Lata & Robert\, classes held Monday – Saturday 8:30a – 9:30a. Located at 2100 N Beach Road\, the south end of Manasota Key. Bring a blanket/sheet or a chair and enjoy a peaceful gentle yoga flow with the beauty of nature. We are a Vendor at the beach\, Classes are supported by donations\, suggested $5 and up please.\nJoin us for scheduled Sunset Yoga & Crystal Bowls\, too!\nwww.lovinglightyoga.com 941-979-1917
URL:https://englewoodreview.com/event/englewood-beach-yoga/2028-03-01/
LOCATION:Englewood Beach\, 2100 N. Beach Road\, Englewood\, FL\, 34223\, United States
ORGANIZER;CN="Loving Light Yoga":MAILTO:lata528@gmail.com
END:VEVENT
BEGIN:VEVENT
DTSTART;TZID=America/Halifax:20280302T083000
DTEND;TZID=America/Halifax:20280302T093000
DTSTAMP:20260424T015006
CREATED:20251029T160424Z
LAST-MODIFIED:20260119T144057Z
UID:10019903-1835598600-1835602200@englewoodreview.com
SUMMARY:Englewood Beach Yoga
DESCRIPTION:Englewood Beach Yoga with Lata & Robert\, classes held Monday – Saturday 8:30a – 9:30a. Located at 2100 N Beach Road\, the south end of Manasota Key. Bring a blanket/sheet or a chair and enjoy a peaceful gentle yoga flow with the beauty of nature. We are a Vendor at the beach\, Classes are supported by donations\, suggested $5 and up please.\nJoin us for scheduled Sunset Yoga & Crystal Bowls\, too!\nwww.lovinglightyoga.com 941-979-1917
URL:https://englewoodreview.com/event/englewood-beach-yoga/2028-03-02/
LOCATION:Englewood Beach\, 2100 N. Beach Road\, Englewood\, FL\, 34223\, United States
ORGANIZER;CN="Loving Light Yoga":MAILTO:lata528@gmail.com
END:VEVENT
BEGIN:VEVENT
DTSTART;TZID=America/Halifax:20280303T083000
DTEND;TZID=America/Halifax:20280303T093000
DTSTAMP:20260424T015006
CREATED:20251029T160424Z
LAST-MODIFIED:20260119T144057Z
UID:10019904-1835685000-1835688600@englewoodreview.com
SUMMARY:Englewood Beach Yoga
DESCRIPTION:Englewood Beach Yoga with Lata & Robert\, classes held Monday – Saturday 8:30a – 9:30a. Located at 2100 N Beach Road\, the south end of Manasota Key. Bring a blanket/sheet or a chair and enjoy a peaceful gentle yoga flow with the beauty of nature. We are a Vendor at the beach\, Classes are supported by donations\, suggested $5 and up please.\nJoin us for scheduled Sunset Yoga & Crystal Bowls\, too!\nwww.lovinglightyoga.com 941-979-1917
URL:https://englewoodreview.com/event/englewood-beach-yoga/2028-03-03/
LOCATION:Englewood Beach\, 2100 N. Beach Road\, Englewood\, FL\, 34223\, United States
ORGANIZER;CN="Loving Light Yoga":MAILTO:lata528@gmail.com
END:VEVENT
BEGIN:VEVENT
DTSTART;TZID=America/Halifax:20280304T083000
DTEND;TZID=America/Halifax:20280304T093000
DTSTAMP:20260424T015006
CREATED:20251029T160424Z
LAST-MODIFIED:20260119T144057Z
UID:10019905-1835771400-1835775000@englewoodreview.com
SUMMARY:Englewood Beach Yoga
DESCRIPTION:Englewood Beach Yoga with Lata & Robert\, classes held Monday – Saturday 8:30a – 9:30a. Located at 2100 N Beach Road\, the south end of Manasota Key. Bring a blanket/sheet or a chair and enjoy a peaceful gentle yoga flow with the beauty of nature. We are a Vendor at the beach\, Classes are supported by donations\, suggested $5 and up please.\nJoin us for scheduled Sunset Yoga & Crystal Bowls\, too!\nwww.lovinglightyoga.com 941-979-1917
URL:https://englewoodreview.com/event/englewood-beach-yoga/2028-03-04/
LOCATION:Englewood Beach\, 2100 N. Beach Road\, Englewood\, FL\, 34223\, United States
ORGANIZER;CN="Loving Light Yoga":MAILTO:lata528@gmail.com
END:VEVENT
BEGIN:VEVENT
DTSTART;TZID=America/Halifax:20280306T083000
DTEND;TZID=America/Halifax:20280306T093000
DTSTAMP:20260424T015006
CREATED:20251029T160424Z
LAST-MODIFIED:20260119T144057Z
UID:10019906-1835944200-1835947800@englewoodreview.com
SUMMARY:Englewood Beach Yoga
DESCRIPTION:Englewood Beach Yoga with Lata & Robert\, classes held Monday – Saturday 8:30a – 9:30a. Located at 2100 N Beach Road\, the south end of Manasota Key. Bring a blanket/sheet or a chair and enjoy a peaceful gentle yoga flow with the beauty of nature. We are a Vendor at the beach\, Classes are supported by donations\, suggested $5 and up please.\nJoin us for scheduled Sunset Yoga & Crystal Bowls\, too!\nwww.lovinglightyoga.com 941-979-1917
URL:https://englewoodreview.com/event/englewood-beach-yoga/2028-03-06/
LOCATION:Englewood Beach\, 2100 N. Beach Road\, Englewood\, FL\, 34223\, United States
ORGANIZER;CN="Loving Light Yoga":MAILTO:lata528@gmail.com
END:VEVENT
BEGIN:VEVENT
DTSTART;TZID=America/Halifax:20280307T083000
DTEND;TZID=America/Halifax:20280307T093000
DTSTAMP:20260424T015006
CREATED:20251029T160424Z
LAST-MODIFIED:20260119T144057Z
UID:10019907-1836030600-1836034200@englewoodreview.com
SUMMARY:Englewood Beach Yoga
DESCRIPTION:Englewood Beach Yoga with Lata & Robert\, classes held Monday – Saturday 8:30a – 9:30a. Located at 2100 N Beach Road\, the south end of Manasota Key. Bring a blanket/sheet or a chair and enjoy a peaceful gentle yoga flow with the beauty of nature. We are a Vendor at the beach\, Classes are supported by donations\, suggested $5 and up please.\nJoin us for scheduled Sunset Yoga & Crystal Bowls\, too!\nwww.lovinglightyoga.com 941-979-1917
URL:https://englewoodreview.com/event/englewood-beach-yoga/2028-03-07/
LOCATION:Englewood Beach\, 2100 N. Beach Road\, Englewood\, FL\, 34223\, United States
ORGANIZER;CN="Loving Light Yoga":MAILTO:lata528@gmail.com
END:VEVENT
BEGIN:VEVENT
DTSTART;TZID=America/Halifax:20280308T083000
DTEND;TZID=America/Halifax:20280308T093000
DTSTAMP:20260424T015006
CREATED:20251029T160424Z
LAST-MODIFIED:20260119T144057Z
UID:10019908-1836117000-1836120600@englewoodreview.com
SUMMARY:Englewood Beach Yoga
DESCRIPTION:Englewood Beach Yoga with Lata & Robert\, classes held Monday – Saturday 8:30a – 9:30a. Located at 2100 N Beach Road\, the south end of Manasota Key. Bring a blanket/sheet or a chair and enjoy a peaceful gentle yoga flow with the beauty of nature. We are a Vendor at the beach\, Classes are supported by donations\, suggested $5 and up please.\nJoin us for scheduled Sunset Yoga & Crystal Bowls\, too!\nwww.lovinglightyoga.com 941-979-1917
URL:https://englewoodreview.com/event/englewood-beach-yoga/2028-03-08/
LOCATION:Englewood Beach\, 2100 N. Beach Road\, Englewood\, FL\, 34223\, United States
ORGANIZER;CN="Loving Light Yoga":MAILTO:lata528@gmail.com
END:VEVENT
BEGIN:VEVENT
DTSTART;TZID=America/Halifax:20280309T083000
DTEND;TZID=America/Halifax:20280309T093000
DTSTAMP:20260424T015006
CREATED:20251029T160424Z
LAST-MODIFIED:20260119T144057Z
UID:10019909-1836203400-1836207000@englewoodreview.com
SUMMARY:Englewood Beach Yoga
DESCRIPTION:Englewood Beach Yoga with Lata & Robert\, classes held Monday – Saturday 8:30a – 9:30a. Located at 2100 N Beach Road\, the south end of Manasota Key. Bring a blanket/sheet or a chair and enjoy a peaceful gentle yoga flow with the beauty of nature. We are a Vendor at the beach\, Classes are supported by donations\, suggested $5 and up please.\nJoin us for scheduled Sunset Yoga & Crystal Bowls\, too!\nwww.lovinglightyoga.com 941-979-1917
URL:https://englewoodreview.com/event/englewood-beach-yoga/2028-03-09/
LOCATION:Englewood Beach\, 2100 N. Beach Road\, Englewood\, FL\, 34223\, United States
ORGANIZER;CN="Loving Light Yoga":MAILTO:lata528@gmail.com
END:VEVENT
BEGIN:VEVENT
DTSTART;TZID=America/Halifax:20280310T083000
DTEND;TZID=America/Halifax:20280310T093000
DTSTAMP:20260424T015006
CREATED:20251029T160424Z
LAST-MODIFIED:20260119T144057Z
UID:10019910-1836289800-1836293400@englewoodreview.com
SUMMARY:Englewood Beach Yoga
DESCRIPTION:Englewood Beach Yoga with Lata & Robert\, classes held Monday – Saturday 8:30a – 9:30a. Located at 2100 N Beach Road\, the south end of Manasota Key. Bring a blanket/sheet or a chair and enjoy a peaceful gentle yoga flow with the beauty of nature. We are a Vendor at the beach\, Classes are supported by donations\, suggested $5 and up please.\nJoin us for scheduled Sunset Yoga & Crystal Bowls\, too!\nwww.lovinglightyoga.com 941-979-1917
URL:https://englewoodreview.com/event/englewood-beach-yoga/2028-03-10/
LOCATION:Englewood Beach\, 2100 N. Beach Road\, Englewood\, FL\, 34223\, United States
ORGANIZER;CN="Loving Light Yoga":MAILTO:lata528@gmail.com
END:VEVENT
BEGIN:VEVENT
DTSTART;TZID=America/Halifax:20280311T083000
DTEND;TZID=America/Halifax:20280311T093000
DTSTAMP:20260424T015006
CREATED:20251029T160424Z
LAST-MODIFIED:20260119T144057Z
UID:10019911-1836376200-1836379800@englewoodreview.com
SUMMARY:Englewood Beach Yoga
DESCRIPTION:Englewood Beach Yoga with Lata & Robert\, classes held Monday – Saturday 8:30a – 9:30a. Located at 2100 N Beach Road\, the south end of Manasota Key. Bring a blanket/sheet or a chair and enjoy a peaceful gentle yoga flow with the beauty of nature. We are a Vendor at the beach\, Classes are supported by donations\, suggested $5 and up please.\nJoin us for scheduled Sunset Yoga & Crystal Bowls\, too!\nwww.lovinglightyoga.com 941-979-1917
URL:https://englewoodreview.com/event/englewood-beach-yoga/2028-03-11/
LOCATION:Englewood Beach\, 2100 N. Beach Road\, Englewood\, FL\, 34223\, United States
ORGANIZER;CN="Loving Light Yoga":MAILTO:lata528@gmail.com
END:VEVENT
BEGIN:VEVENT
DTSTART;TZID=America/Halifax:20280313T083000
DTEND;TZID=America/Halifax:20280313T093000
DTSTAMP:20260424T015006
CREATED:20251029T160424Z
LAST-MODIFIED:20260119T144057Z
UID:10019912-1836549000-1836552600@englewoodreview.com
SUMMARY:Englewood Beach Yoga
DESCRIPTION:Englewood Beach Yoga with Lata & Robert\, classes held Monday – Saturday 8:30a – 9:30a. Located at 2100 N Beach Road\, the south end of Manasota Key. Bring a blanket/sheet or a chair and enjoy a peaceful gentle yoga flow with the beauty of nature. We are a Vendor at the beach\, Classes are supported by donations\, suggested $5 and up please.\nJoin us for scheduled Sunset Yoga & Crystal Bowls\, too!\nwww.lovinglightyoga.com 941-979-1917
URL:https://englewoodreview.com/event/englewood-beach-yoga/2028-03-13/
LOCATION:Englewood Beach\, 2100 N. Beach Road\, Englewood\, FL\, 34223\, United States
ORGANIZER;CN="Loving Light Yoga":MAILTO:lata528@gmail.com
END:VEVENT
BEGIN:VEVENT
DTSTART;TZID=America/Halifax:20280314T083000
DTEND;TZID=America/Halifax:20280314T093000
DTSTAMP:20260424T015006
CREATED:20251029T160424Z
LAST-MODIFIED:20260119T144057Z
UID:10019913-1836635400-1836639000@englewoodreview.com
SUMMARY:Englewood Beach Yoga
DESCRIPTION:Englewood Beach Yoga with Lata & Robert\, classes held Monday – Saturday 8:30a – 9:30a. Located at 2100 N Beach Road\, the south end of Manasota Key. Bring a blanket/sheet or a chair and enjoy a peaceful gentle yoga flow with the beauty of nature. We are a Vendor at the beach\, Classes are supported by donations\, suggested $5 and up please.\nJoin us for scheduled Sunset Yoga & Crystal Bowls\, too!\nwww.lovinglightyoga.com 941-979-1917
URL:https://englewoodreview.com/event/englewood-beach-yoga/2028-03-14/
LOCATION:Englewood Beach\, 2100 N. Beach Road\, Englewood\, FL\, 34223\, United States
ORGANIZER;CN="Loving Light Yoga":MAILTO:lata528@gmail.com
END:VEVENT
BEGIN:VEVENT
DTSTART;TZID=America/Halifax:20280315T083000
DTEND;TZID=America/Halifax:20280315T093000
DTSTAMP:20260424T015006
CREATED:20251029T160424Z
LAST-MODIFIED:20260119T144057Z
UID:10019914-1836721800-1836725400@englewoodreview.com
SUMMARY:Englewood Beach Yoga
DESCRIPTION:Englewood Beach Yoga with Lata & Robert\, classes held Monday – Saturday 8:30a – 9:30a. Located at 2100 N Beach Road\, the south end of Manasota Key. Bring a blanket/sheet or a chair and enjoy a peaceful gentle yoga flow with the beauty of nature. We are a Vendor at the beach\, Classes are supported by donations\, suggested $5 and up please.\nJoin us for scheduled Sunset Yoga & Crystal Bowls\, too!\nwww.lovinglightyoga.com 941-979-1917
URL:https://englewoodreview.com/event/englewood-beach-yoga/2028-03-15/
LOCATION:Englewood Beach\, 2100 N. Beach Road\, Englewood\, FL\, 34223\, United States
ORGANIZER;CN="Loving Light Yoga":MAILTO:lata528@gmail.com
END:VEVENT
BEGIN:VEVENT
DTSTART;TZID=America/Halifax:20280316T083000
DTEND;TZID=America/Halifax:20280316T093000
DTSTAMP:20260424T015006
CREATED:20251029T160424Z
LAST-MODIFIED:20260119T144057Z
UID:10019915-1836808200-1836811800@englewoodreview.com
SUMMARY:Englewood Beach Yoga
DESCRIPTION:Englewood Beach Yoga with Lata & Robert\, classes held Monday – Saturday 8:30a – 9:30a. Located at 2100 N Beach Road\, the south end of Manasota Key. Bring a blanket/sheet or a chair and enjoy a peaceful gentle yoga flow with the beauty of nature. We are a Vendor at the beach\, Classes are supported by donations\, suggested $5 and up please.\nJoin us for scheduled Sunset Yoga & Crystal Bowls\, too!\nwww.lovinglightyoga.com 941-979-1917
URL:https://englewoodreview.com/event/englewood-beach-yoga/2028-03-16/
LOCATION:Englewood Beach\, 2100 N. Beach Road\, Englewood\, FL\, 34223\, United States
ORGANIZER;CN="Loving Light Yoga":MAILTO:lata528@gmail.com
END:VEVENT
END:VCALENDAR