BEGIN:VCALENDAR
VERSION:2.0
PRODID:-//Englewood Review - ECPv6.15.15//NONSGML v1.0//EN
CALSCALE:GREGORIAN
METHOD:PUBLISH
X-WR-CALNAME:Englewood Review
X-ORIGINAL-URL:https://englewoodreview.com
X-WR-CALDESC:Events for Englewood Review
REFRESH-INTERVAL;VALUE=DURATION:PT1H
X-Robots-Tag:noindex
X-PUBLISHED-TTL:PT1H
BEGIN:VTIMEZONE
TZID:America/Halifax
BEGIN:DAYLIGHT
TZOFFSETFROM:-0400
TZOFFSETTO:-0300
TZNAME:ADT
DTSTART:20270314T060000
END:DAYLIGHT
BEGIN:STANDARD
TZOFFSETFROM:-0300
TZOFFSETTO:-0400
TZNAME:AST
DTSTART:20271107T050000
END:STANDARD
BEGIN:DAYLIGHT
TZOFFSETFROM:-0400
TZOFFSETTO:-0300
TZNAME:ADT
DTSTART:20280312T060000
END:DAYLIGHT
BEGIN:STANDARD
TZOFFSETFROM:-0300
TZOFFSETTO:-0400
TZNAME:AST
DTSTART:20281105T050000
END:STANDARD
BEGIN:DAYLIGHT
TZOFFSETFROM:-0400
TZOFFSETTO:-0300
TZNAME:ADT
DTSTART:20290311T060000
END:DAYLIGHT
BEGIN:STANDARD
TZOFFSETFROM:-0300
TZOFFSETTO:-0400
TZNAME:AST
DTSTART:20291104T050000
END:STANDARD
END:VTIMEZONE
BEGIN:VEVENT
DTSTART;TZID=America/Halifax:20280422T083000
DTEND;TZID=America/Halifax:20280422T093000
DTSTAMP:20260424T095244
CREATED:20251029T160424Z
LAST-MODIFIED:20260119T144057Z
UID:10019947-1840005000-1840008600@englewoodreview.com
SUMMARY:Englewood Beach Yoga
DESCRIPTION:Englewood Beach Yoga with Lata & Robert\, classes held Monday – Saturday 8:30a – 9:30a. Located at 2100 N Beach Road\, the south end of Manasota Key. Bring a blanket/sheet or a chair and enjoy a peaceful gentle yoga flow with the beauty of nature. We are a Vendor at the beach\, Classes are supported by donations\, suggested $5 and up please.\nJoin us for scheduled Sunset Yoga & Crystal Bowls\, too!\nwww.lovinglightyoga.com 941-979-1917
URL:https://englewoodreview.com/event/englewood-beach-yoga/2028-04-22/
LOCATION:Englewood Beach\, 2100 N. Beach Road\, Englewood\, FL\, 34223\, United States
ORGANIZER;CN="Loving Light Yoga":MAILTO:lata528@gmail.com
END:VEVENT
BEGIN:VEVENT
DTSTART;TZID=America/Halifax:20280424T083000
DTEND;TZID=America/Halifax:20280424T093000
DTSTAMP:20260424T095244
CREATED:20251029T160424Z
LAST-MODIFIED:20260119T144057Z
UID:10019948-1840177800-1840181400@englewoodreview.com
SUMMARY:Englewood Beach Yoga
DESCRIPTION:Englewood Beach Yoga with Lata & Robert\, classes held Monday – Saturday 8:30a – 9:30a. Located at 2100 N Beach Road\, the south end of Manasota Key. Bring a blanket/sheet or a chair and enjoy a peaceful gentle yoga flow with the beauty of nature. We are a Vendor at the beach\, Classes are supported by donations\, suggested $5 and up please.\nJoin us for scheduled Sunset Yoga & Crystal Bowls\, too!\nwww.lovinglightyoga.com 941-979-1917
URL:https://englewoodreview.com/event/englewood-beach-yoga/2028-04-24/
LOCATION:Englewood Beach\, 2100 N. Beach Road\, Englewood\, FL\, 34223\, United States
ORGANIZER;CN="Loving Light Yoga":MAILTO:lata528@gmail.com
END:VEVENT
BEGIN:VEVENT
DTSTART;TZID=America/Halifax:20280425T083000
DTEND;TZID=America/Halifax:20280425T093000
DTSTAMP:20260424T095244
CREATED:20251029T160424Z
LAST-MODIFIED:20260119T144057Z
UID:10019949-1840264200-1840267800@englewoodreview.com
SUMMARY:Englewood Beach Yoga
DESCRIPTION:Englewood Beach Yoga with Lata & Robert\, classes held Monday – Saturday 8:30a – 9:30a. Located at 2100 N Beach Road\, the south end of Manasota Key. Bring a blanket/sheet or a chair and enjoy a peaceful gentle yoga flow with the beauty of nature. We are a Vendor at the beach\, Classes are supported by donations\, suggested $5 and up please.\nJoin us for scheduled Sunset Yoga & Crystal Bowls\, too!\nwww.lovinglightyoga.com 941-979-1917
URL:https://englewoodreview.com/event/englewood-beach-yoga/2028-04-25/
LOCATION:Englewood Beach\, 2100 N. Beach Road\, Englewood\, FL\, 34223\, United States
ORGANIZER;CN="Loving Light Yoga":MAILTO:lata528@gmail.com
END:VEVENT
BEGIN:VEVENT
DTSTART;TZID=America/Halifax:20280426T083000
DTEND;TZID=America/Halifax:20280426T093000
DTSTAMP:20260424T095244
CREATED:20251029T160424Z
LAST-MODIFIED:20260119T144057Z
UID:10019950-1840350600-1840354200@englewoodreview.com
SUMMARY:Englewood Beach Yoga
DESCRIPTION:Englewood Beach Yoga with Lata & Robert\, classes held Monday – Saturday 8:30a – 9:30a. Located at 2100 N Beach Road\, the south end of Manasota Key. Bring a blanket/sheet or a chair and enjoy a peaceful gentle yoga flow with the beauty of nature. We are a Vendor at the beach\, Classes are supported by donations\, suggested $5 and up please.\nJoin us for scheduled Sunset Yoga & Crystal Bowls\, too!\nwww.lovinglightyoga.com 941-979-1917
URL:https://englewoodreview.com/event/englewood-beach-yoga/2028-04-26/
LOCATION:Englewood Beach\, 2100 N. Beach Road\, Englewood\, FL\, 34223\, United States
ORGANIZER;CN="Loving Light Yoga":MAILTO:lata528@gmail.com
END:VEVENT
BEGIN:VEVENT
DTSTART;TZID=America/Halifax:20280427T083000
DTEND;TZID=America/Halifax:20280427T093000
DTSTAMP:20260424T095244
CREATED:20251029T160424Z
LAST-MODIFIED:20260119T144057Z
UID:10019951-1840437000-1840440600@englewoodreview.com
SUMMARY:Englewood Beach Yoga
DESCRIPTION:Englewood Beach Yoga with Lata & Robert\, classes held Monday – Saturday 8:30a – 9:30a. Located at 2100 N Beach Road\, the south end of Manasota Key. Bring a blanket/sheet or a chair and enjoy a peaceful gentle yoga flow with the beauty of nature. We are a Vendor at the beach\, Classes are supported by donations\, suggested $5 and up please.\nJoin us for scheduled Sunset Yoga & Crystal Bowls\, too!\nwww.lovinglightyoga.com 941-979-1917
URL:https://englewoodreview.com/event/englewood-beach-yoga/2028-04-27/
LOCATION:Englewood Beach\, 2100 N. Beach Road\, Englewood\, FL\, 34223\, United States
ORGANIZER;CN="Loving Light Yoga":MAILTO:lata528@gmail.com
END:VEVENT
BEGIN:VEVENT
DTSTART;TZID=America/Halifax:20280428T083000
DTEND;TZID=America/Halifax:20280428T093000
DTSTAMP:20260424T095244
CREATED:20251029T160424Z
LAST-MODIFIED:20260119T144057Z
UID:10019952-1840523400-1840527000@englewoodreview.com
SUMMARY:Englewood Beach Yoga
DESCRIPTION:Englewood Beach Yoga with Lata & Robert\, classes held Monday – Saturday 8:30a – 9:30a. Located at 2100 N Beach Road\, the south end of Manasota Key. Bring a blanket/sheet or a chair and enjoy a peaceful gentle yoga flow with the beauty of nature. We are a Vendor at the beach\, Classes are supported by donations\, suggested $5 and up please.\nJoin us for scheduled Sunset Yoga & Crystal Bowls\, too!\nwww.lovinglightyoga.com 941-979-1917
URL:https://englewoodreview.com/event/englewood-beach-yoga/2028-04-28/
LOCATION:Englewood Beach\, 2100 N. Beach Road\, Englewood\, FL\, 34223\, United States
ORGANIZER;CN="Loving Light Yoga":MAILTO:lata528@gmail.com
END:VEVENT
BEGIN:VEVENT
DTSTART;TZID=America/Halifax:20280429T083000
DTEND;TZID=America/Halifax:20280429T093000
DTSTAMP:20260424T095244
CREATED:20251029T160424Z
LAST-MODIFIED:20260119T144057Z
UID:10019953-1840609800-1840613400@englewoodreview.com
SUMMARY:Englewood Beach Yoga
DESCRIPTION:Englewood Beach Yoga with Lata & Robert\, classes held Monday – Saturday 8:30a – 9:30a. Located at 2100 N Beach Road\, the south end of Manasota Key. Bring a blanket/sheet or a chair and enjoy a peaceful gentle yoga flow with the beauty of nature. We are a Vendor at the beach\, Classes are supported by donations\, suggested $5 and up please.\nJoin us for scheduled Sunset Yoga & Crystal Bowls\, too!\nwww.lovinglightyoga.com 941-979-1917
URL:https://englewoodreview.com/event/englewood-beach-yoga/2028-04-29/
LOCATION:Englewood Beach\, 2100 N. Beach Road\, Englewood\, FL\, 34223\, United States
ORGANIZER;CN="Loving Light Yoga":MAILTO:lata528@gmail.com
END:VEVENT
BEGIN:VEVENT
DTSTART;TZID=America/Halifax:20280501T083000
DTEND;TZID=America/Halifax:20280501T093000
DTSTAMP:20260424T095244
CREATED:20251029T160424Z
LAST-MODIFIED:20260119T144057Z
UID:10019954-1840782600-1840786200@englewoodreview.com
SUMMARY:Englewood Beach Yoga
DESCRIPTION:Englewood Beach Yoga with Lata & Robert\, classes held Monday – Saturday 8:30a – 9:30a. Located at 2100 N Beach Road\, the south end of Manasota Key. Bring a blanket/sheet or a chair and enjoy a peaceful gentle yoga flow with the beauty of nature. We are a Vendor at the beach\, Classes are supported by donations\, suggested $5 and up please.\nJoin us for scheduled Sunset Yoga & Crystal Bowls\, too!\nwww.lovinglightyoga.com 941-979-1917
URL:https://englewoodreview.com/event/englewood-beach-yoga/2028-05-01/
LOCATION:Englewood Beach\, 2100 N. Beach Road\, Englewood\, FL\, 34223\, United States
ORGANIZER;CN="Loving Light Yoga":MAILTO:lata528@gmail.com
END:VEVENT
BEGIN:VEVENT
DTSTART;TZID=America/Halifax:20280502T083000
DTEND;TZID=America/Halifax:20280502T093000
DTSTAMP:20260424T095244
CREATED:20251029T160424Z
LAST-MODIFIED:20260119T144057Z
UID:10019955-1840869000-1840872600@englewoodreview.com
SUMMARY:Englewood Beach Yoga
DESCRIPTION:Englewood Beach Yoga with Lata & Robert\, classes held Monday – Saturday 8:30a – 9:30a. Located at 2100 N Beach Road\, the south end of Manasota Key. Bring a blanket/sheet or a chair and enjoy a peaceful gentle yoga flow with the beauty of nature. We are a Vendor at the beach\, Classes are supported by donations\, suggested $5 and up please.\nJoin us for scheduled Sunset Yoga & Crystal Bowls\, too!\nwww.lovinglightyoga.com 941-979-1917
URL:https://englewoodreview.com/event/englewood-beach-yoga/2028-05-02/
LOCATION:Englewood Beach\, 2100 N. Beach Road\, Englewood\, FL\, 34223\, United States
ORGANIZER;CN="Loving Light Yoga":MAILTO:lata528@gmail.com
END:VEVENT
BEGIN:VEVENT
DTSTART;TZID=America/Halifax:20280503T083000
DTEND;TZID=America/Halifax:20280503T093000
DTSTAMP:20260424T095244
CREATED:20251029T160424Z
LAST-MODIFIED:20260119T144057Z
UID:10019956-1840955400-1840959000@englewoodreview.com
SUMMARY:Englewood Beach Yoga
DESCRIPTION:Englewood Beach Yoga with Lata & Robert\, classes held Monday – Saturday 8:30a – 9:30a. Located at 2100 N Beach Road\, the south end of Manasota Key. Bring a blanket/sheet or a chair and enjoy a peaceful gentle yoga flow with the beauty of nature. We are a Vendor at the beach\, Classes are supported by donations\, suggested $5 and up please.\nJoin us for scheduled Sunset Yoga & Crystal Bowls\, too!\nwww.lovinglightyoga.com 941-979-1917
URL:https://englewoodreview.com/event/englewood-beach-yoga/2028-05-03/
LOCATION:Englewood Beach\, 2100 N. Beach Road\, Englewood\, FL\, 34223\, United States
ORGANIZER;CN="Loving Light Yoga":MAILTO:lata528@gmail.com
END:VEVENT
BEGIN:VEVENT
DTSTART;TZID=America/Halifax:20280504T083000
DTEND;TZID=America/Halifax:20280504T093000
DTSTAMP:20260424T095244
CREATED:20251029T160424Z
LAST-MODIFIED:20260119T144057Z
UID:10019957-1841041800-1841045400@englewoodreview.com
SUMMARY:Englewood Beach Yoga
DESCRIPTION:Englewood Beach Yoga with Lata & Robert\, classes held Monday – Saturday 8:30a – 9:30a. Located at 2100 N Beach Road\, the south end of Manasota Key. Bring a blanket/sheet or a chair and enjoy a peaceful gentle yoga flow with the beauty of nature. We are a Vendor at the beach\, Classes are supported by donations\, suggested $5 and up please.\nJoin us for scheduled Sunset Yoga & Crystal Bowls\, too!\nwww.lovinglightyoga.com 941-979-1917
URL:https://englewoodreview.com/event/englewood-beach-yoga/2028-05-04/
LOCATION:Englewood Beach\, 2100 N. Beach Road\, Englewood\, FL\, 34223\, United States
ORGANIZER;CN="Loving Light Yoga":MAILTO:lata528@gmail.com
END:VEVENT
BEGIN:VEVENT
DTSTART;TZID=America/Halifax:20280505T083000
DTEND;TZID=America/Halifax:20280505T093000
DTSTAMP:20260424T095244
CREATED:20251029T160424Z
LAST-MODIFIED:20260119T144057Z
UID:10019958-1841128200-1841131800@englewoodreview.com
SUMMARY:Englewood Beach Yoga
DESCRIPTION:Englewood Beach Yoga with Lata & Robert\, classes held Monday – Saturday 8:30a – 9:30a. Located at 2100 N Beach Road\, the south end of Manasota Key. Bring a blanket/sheet or a chair and enjoy a peaceful gentle yoga flow with the beauty of nature. We are a Vendor at the beach\, Classes are supported by donations\, suggested $5 and up please.\nJoin us for scheduled Sunset Yoga & Crystal Bowls\, too!\nwww.lovinglightyoga.com 941-979-1917
URL:https://englewoodreview.com/event/englewood-beach-yoga/2028-05-05/
LOCATION:Englewood Beach\, 2100 N. Beach Road\, Englewood\, FL\, 34223\, United States
ORGANIZER;CN="Loving Light Yoga":MAILTO:lata528@gmail.com
END:VEVENT
BEGIN:VEVENT
DTSTART;TZID=America/Halifax:20280506T083000
DTEND;TZID=America/Halifax:20280506T093000
DTSTAMP:20260424T095244
CREATED:20251029T160424Z
LAST-MODIFIED:20260119T144057Z
UID:10019959-1841214600-1841218200@englewoodreview.com
SUMMARY:Englewood Beach Yoga
DESCRIPTION:Englewood Beach Yoga with Lata & Robert\, classes held Monday – Saturday 8:30a – 9:30a. Located at 2100 N Beach Road\, the south end of Manasota Key. Bring a blanket/sheet or a chair and enjoy a peaceful gentle yoga flow with the beauty of nature. We are a Vendor at the beach\, Classes are supported by donations\, suggested $5 and up please.\nJoin us for scheduled Sunset Yoga & Crystal Bowls\, too!\nwww.lovinglightyoga.com 941-979-1917
URL:https://englewoodreview.com/event/englewood-beach-yoga/2028-05-06/
LOCATION:Englewood Beach\, 2100 N. Beach Road\, Englewood\, FL\, 34223\, United States
ORGANIZER;CN="Loving Light Yoga":MAILTO:lata528@gmail.com
END:VEVENT
BEGIN:VEVENT
DTSTART;TZID=America/Halifax:20280508T083000
DTEND;TZID=America/Halifax:20280508T093000
DTSTAMP:20260424T095244
CREATED:20251029T160424Z
LAST-MODIFIED:20260119T144057Z
UID:10019960-1841387400-1841391000@englewoodreview.com
SUMMARY:Englewood Beach Yoga
DESCRIPTION:Englewood Beach Yoga with Lata & Robert\, classes held Monday – Saturday 8:30a – 9:30a. Located at 2100 N Beach Road\, the south end of Manasota Key. Bring a blanket/sheet or a chair and enjoy a peaceful gentle yoga flow with the beauty of nature. We are a Vendor at the beach\, Classes are supported by donations\, suggested $5 and up please.\nJoin us for scheduled Sunset Yoga & Crystal Bowls\, too!\nwww.lovinglightyoga.com 941-979-1917
URL:https://englewoodreview.com/event/englewood-beach-yoga/2028-05-08/
LOCATION:Englewood Beach\, 2100 N. Beach Road\, Englewood\, FL\, 34223\, United States
ORGANIZER;CN="Loving Light Yoga":MAILTO:lata528@gmail.com
END:VEVENT
BEGIN:VEVENT
DTSTART;TZID=America/Halifax:20280509T083000
DTEND;TZID=America/Halifax:20280509T093000
DTSTAMP:20260424T095244
CREATED:20251029T160424Z
LAST-MODIFIED:20260119T144057Z
UID:10019961-1841473800-1841477400@englewoodreview.com
SUMMARY:Englewood Beach Yoga
DESCRIPTION:Englewood Beach Yoga with Lata & Robert\, classes held Monday – Saturday 8:30a – 9:30a. Located at 2100 N Beach Road\, the south end of Manasota Key. Bring a blanket/sheet or a chair and enjoy a peaceful gentle yoga flow with the beauty of nature. We are a Vendor at the beach\, Classes are supported by donations\, suggested $5 and up please.\nJoin us for scheduled Sunset Yoga & Crystal Bowls\, too!\nwww.lovinglightyoga.com 941-979-1917
URL:https://englewoodreview.com/event/englewood-beach-yoga/2028-05-09/
LOCATION:Englewood Beach\, 2100 N. Beach Road\, Englewood\, FL\, 34223\, United States
ORGANIZER;CN="Loving Light Yoga":MAILTO:lata528@gmail.com
END:VEVENT
BEGIN:VEVENT
DTSTART;TZID=America/Halifax:20280510T083000
DTEND;TZID=America/Halifax:20280510T093000
DTSTAMP:20260424T095244
CREATED:20251029T160424Z
LAST-MODIFIED:20260119T144057Z
UID:10019962-1841560200-1841563800@englewoodreview.com
SUMMARY:Englewood Beach Yoga
DESCRIPTION:Englewood Beach Yoga with Lata & Robert\, classes held Monday – Saturday 8:30a – 9:30a. Located at 2100 N Beach Road\, the south end of Manasota Key. Bring a blanket/sheet or a chair and enjoy a peaceful gentle yoga flow with the beauty of nature. We are a Vendor at the beach\, Classes are supported by donations\, suggested $5 and up please.\nJoin us for scheduled Sunset Yoga & Crystal Bowls\, too!\nwww.lovinglightyoga.com 941-979-1917
URL:https://englewoodreview.com/event/englewood-beach-yoga/2028-05-10/
LOCATION:Englewood Beach\, 2100 N. Beach Road\, Englewood\, FL\, 34223\, United States
ORGANIZER;CN="Loving Light Yoga":MAILTO:lata528@gmail.com
END:VEVENT
BEGIN:VEVENT
DTSTART;TZID=America/Halifax:20280511T083000
DTEND;TZID=America/Halifax:20280511T093000
DTSTAMP:20260424T095244
CREATED:20251029T160424Z
LAST-MODIFIED:20260119T144057Z
UID:10019963-1841646600-1841650200@englewoodreview.com
SUMMARY:Englewood Beach Yoga
DESCRIPTION:Englewood Beach Yoga with Lata & Robert\, classes held Monday – Saturday 8:30a – 9:30a. Located at 2100 N Beach Road\, the south end of Manasota Key. Bring a blanket/sheet or a chair and enjoy a peaceful gentle yoga flow with the beauty of nature. We are a Vendor at the beach\, Classes are supported by donations\, suggested $5 and up please.\nJoin us for scheduled Sunset Yoga & Crystal Bowls\, too!\nwww.lovinglightyoga.com 941-979-1917
URL:https://englewoodreview.com/event/englewood-beach-yoga/2028-05-11/
LOCATION:Englewood Beach\, 2100 N. Beach Road\, Englewood\, FL\, 34223\, United States
ORGANIZER;CN="Loving Light Yoga":MAILTO:lata528@gmail.com
END:VEVENT
BEGIN:VEVENT
DTSTART;TZID=America/Halifax:20280512T083000
DTEND;TZID=America/Halifax:20280512T093000
DTSTAMP:20260424T095244
CREATED:20251029T160424Z
LAST-MODIFIED:20260119T144057Z
UID:10019964-1841733000-1841736600@englewoodreview.com
SUMMARY:Englewood Beach Yoga
DESCRIPTION:Englewood Beach Yoga with Lata & Robert\, classes held Monday – Saturday 8:30a – 9:30a. Located at 2100 N Beach Road\, the south end of Manasota Key. Bring a blanket/sheet or a chair and enjoy a peaceful gentle yoga flow with the beauty of nature. We are a Vendor at the beach\, Classes are supported by donations\, suggested $5 and up please.\nJoin us for scheduled Sunset Yoga & Crystal Bowls\, too!\nwww.lovinglightyoga.com 941-979-1917
URL:https://englewoodreview.com/event/englewood-beach-yoga/2028-05-12/
LOCATION:Englewood Beach\, 2100 N. Beach Road\, Englewood\, FL\, 34223\, United States
ORGANIZER;CN="Loving Light Yoga":MAILTO:lata528@gmail.com
END:VEVENT
BEGIN:VEVENT
DTSTART;TZID=America/Halifax:20280513T083000
DTEND;TZID=America/Halifax:20280513T093000
DTSTAMP:20260424T095244
CREATED:20251029T160424Z
LAST-MODIFIED:20260119T144057Z
UID:10019965-1841819400-1841823000@englewoodreview.com
SUMMARY:Englewood Beach Yoga
DESCRIPTION:Englewood Beach Yoga with Lata & Robert\, classes held Monday – Saturday 8:30a – 9:30a. Located at 2100 N Beach Road\, the south end of Manasota Key. Bring a blanket/sheet or a chair and enjoy a peaceful gentle yoga flow with the beauty of nature. We are a Vendor at the beach\, Classes are supported by donations\, suggested $5 and up please.\nJoin us for scheduled Sunset Yoga & Crystal Bowls\, too!\nwww.lovinglightyoga.com 941-979-1917
URL:https://englewoodreview.com/event/englewood-beach-yoga/2028-05-13/
LOCATION:Englewood Beach\, 2100 N. Beach Road\, Englewood\, FL\, 34223\, United States
ORGANIZER;CN="Loving Light Yoga":MAILTO:lata528@gmail.com
END:VEVENT
BEGIN:VEVENT
DTSTART;TZID=America/Halifax:20280515T083000
DTEND;TZID=America/Halifax:20280515T093000
DTSTAMP:20260424T095244
CREATED:20251029T160424Z
LAST-MODIFIED:20260119T144057Z
UID:10019966-1841992200-1841995800@englewoodreview.com
SUMMARY:Englewood Beach Yoga
DESCRIPTION:Englewood Beach Yoga with Lata & Robert\, classes held Monday – Saturday 8:30a – 9:30a. Located at 2100 N Beach Road\, the south end of Manasota Key. Bring a blanket/sheet or a chair and enjoy a peaceful gentle yoga flow with the beauty of nature. We are a Vendor at the beach\, Classes are supported by donations\, suggested $5 and up please.\nJoin us for scheduled Sunset Yoga & Crystal Bowls\, too!\nwww.lovinglightyoga.com 941-979-1917
URL:https://englewoodreview.com/event/englewood-beach-yoga/2028-05-15/
LOCATION:Englewood Beach\, 2100 N. Beach Road\, Englewood\, FL\, 34223\, United States
ORGANIZER;CN="Loving Light Yoga":MAILTO:lata528@gmail.com
END:VEVENT
BEGIN:VEVENT
DTSTART;TZID=America/Halifax:20280516T083000
DTEND;TZID=America/Halifax:20280516T093000
DTSTAMP:20260424T095244
CREATED:20251029T160424Z
LAST-MODIFIED:20260119T144057Z
UID:10019967-1842078600-1842082200@englewoodreview.com
SUMMARY:Englewood Beach Yoga
DESCRIPTION:Englewood Beach Yoga with Lata & Robert\, classes held Monday – Saturday 8:30a – 9:30a. Located at 2100 N Beach Road\, the south end of Manasota Key. Bring a blanket/sheet or a chair and enjoy a peaceful gentle yoga flow with the beauty of nature. We are a Vendor at the beach\, Classes are supported by donations\, suggested $5 and up please.\nJoin us for scheduled Sunset Yoga & Crystal Bowls\, too!\nwww.lovinglightyoga.com 941-979-1917
URL:https://englewoodreview.com/event/englewood-beach-yoga/2028-05-16/
LOCATION:Englewood Beach\, 2100 N. Beach Road\, Englewood\, FL\, 34223\, United States
ORGANIZER;CN="Loving Light Yoga":MAILTO:lata528@gmail.com
END:VEVENT
BEGIN:VEVENT
DTSTART;TZID=America/Halifax:20280517T083000
DTEND;TZID=America/Halifax:20280517T093000
DTSTAMP:20260424T095244
CREATED:20251029T160424Z
LAST-MODIFIED:20260119T144057Z
UID:10019968-1842165000-1842168600@englewoodreview.com
SUMMARY:Englewood Beach Yoga
DESCRIPTION:Englewood Beach Yoga with Lata & Robert\, classes held Monday – Saturday 8:30a – 9:30a. Located at 2100 N Beach Road\, the south end of Manasota Key. Bring a blanket/sheet or a chair and enjoy a peaceful gentle yoga flow with the beauty of nature. We are a Vendor at the beach\, Classes are supported by donations\, suggested $5 and up please.\nJoin us for scheduled Sunset Yoga & Crystal Bowls\, too!\nwww.lovinglightyoga.com 941-979-1917
URL:https://englewoodreview.com/event/englewood-beach-yoga/2028-05-17/
LOCATION:Englewood Beach\, 2100 N. Beach Road\, Englewood\, FL\, 34223\, United States
ORGANIZER;CN="Loving Light Yoga":MAILTO:lata528@gmail.com
END:VEVENT
BEGIN:VEVENT
DTSTART;TZID=America/Halifax:20280518T083000
DTEND;TZID=America/Halifax:20280518T093000
DTSTAMP:20260424T095244
CREATED:20251029T160424Z
LAST-MODIFIED:20260119T144057Z
UID:10019969-1842251400-1842255000@englewoodreview.com
SUMMARY:Englewood Beach Yoga
DESCRIPTION:Englewood Beach Yoga with Lata & Robert\, classes held Monday – Saturday 8:30a – 9:30a. Located at 2100 N Beach Road\, the south end of Manasota Key. Bring a blanket/sheet or a chair and enjoy a peaceful gentle yoga flow with the beauty of nature. We are a Vendor at the beach\, Classes are supported by donations\, suggested $5 and up please.\nJoin us for scheduled Sunset Yoga & Crystal Bowls\, too!\nwww.lovinglightyoga.com 941-979-1917
URL:https://englewoodreview.com/event/englewood-beach-yoga/2028-05-18/
LOCATION:Englewood Beach\, 2100 N. Beach Road\, Englewood\, FL\, 34223\, United States
ORGANIZER;CN="Loving Light Yoga":MAILTO:lata528@gmail.com
END:VEVENT
BEGIN:VEVENT
DTSTART;TZID=America/Halifax:20280519T083000
DTEND;TZID=America/Halifax:20280519T093000
DTSTAMP:20260424T095244
CREATED:20251029T160424Z
LAST-MODIFIED:20260119T144057Z
UID:10019970-1842337800-1842341400@englewoodreview.com
SUMMARY:Englewood Beach Yoga
DESCRIPTION:Englewood Beach Yoga with Lata & Robert\, classes held Monday – Saturday 8:30a – 9:30a. Located at 2100 N Beach Road\, the south end of Manasota Key. Bring a blanket/sheet or a chair and enjoy a peaceful gentle yoga flow with the beauty of nature. We are a Vendor at the beach\, Classes are supported by donations\, suggested $5 and up please.\nJoin us for scheduled Sunset Yoga & Crystal Bowls\, too!\nwww.lovinglightyoga.com 941-979-1917
URL:https://englewoodreview.com/event/englewood-beach-yoga/2028-05-19/
LOCATION:Englewood Beach\, 2100 N. Beach Road\, Englewood\, FL\, 34223\, United States
ORGANIZER;CN="Loving Light Yoga":MAILTO:lata528@gmail.com
END:VEVENT
BEGIN:VEVENT
DTSTART;TZID=America/Halifax:20280520T083000
DTEND;TZID=America/Halifax:20280520T093000
DTSTAMP:20260424T095244
CREATED:20251029T160424Z
LAST-MODIFIED:20260119T144057Z
UID:10019971-1842424200-1842427800@englewoodreview.com
SUMMARY:Englewood Beach Yoga
DESCRIPTION:Englewood Beach Yoga with Lata & Robert\, classes held Monday – Saturday 8:30a – 9:30a. Located at 2100 N Beach Road\, the south end of Manasota Key. Bring a blanket/sheet or a chair and enjoy a peaceful gentle yoga flow with the beauty of nature. We are a Vendor at the beach\, Classes are supported by donations\, suggested $5 and up please.\nJoin us for scheduled Sunset Yoga & Crystal Bowls\, too!\nwww.lovinglightyoga.com 941-979-1917
URL:https://englewoodreview.com/event/englewood-beach-yoga/2028-05-20/
LOCATION:Englewood Beach\, 2100 N. Beach Road\, Englewood\, FL\, 34223\, United States
ORGANIZER;CN="Loving Light Yoga":MAILTO:lata528@gmail.com
END:VEVENT
BEGIN:VEVENT
DTSTART;TZID=America/Halifax:20280522T083000
DTEND;TZID=America/Halifax:20280522T093000
DTSTAMP:20260424T095244
CREATED:20251029T160424Z
LAST-MODIFIED:20260119T144057Z
UID:10019972-1842597000-1842600600@englewoodreview.com
SUMMARY:Englewood Beach Yoga
DESCRIPTION:Englewood Beach Yoga with Lata & Robert\, classes held Monday – Saturday 8:30a – 9:30a. Located at 2100 N Beach Road\, the south end of Manasota Key. Bring a blanket/sheet or a chair and enjoy a peaceful gentle yoga flow with the beauty of nature. We are a Vendor at the beach\, Classes are supported by donations\, suggested $5 and up please.\nJoin us for scheduled Sunset Yoga & Crystal Bowls\, too!\nwww.lovinglightyoga.com 941-979-1917
URL:https://englewoodreview.com/event/englewood-beach-yoga/2028-05-22/
LOCATION:Englewood Beach\, 2100 N. Beach Road\, Englewood\, FL\, 34223\, United States
ORGANIZER;CN="Loving Light Yoga":MAILTO:lata528@gmail.com
END:VEVENT
BEGIN:VEVENT
DTSTART;TZID=America/Halifax:20280523T083000
DTEND;TZID=America/Halifax:20280523T093000
DTSTAMP:20260424T095244
CREATED:20251029T160424Z
LAST-MODIFIED:20260119T144057Z
UID:10019973-1842683400-1842687000@englewoodreview.com
SUMMARY:Englewood Beach Yoga
DESCRIPTION:Englewood Beach Yoga with Lata & Robert\, classes held Monday – Saturday 8:30a – 9:30a. Located at 2100 N Beach Road\, the south end of Manasota Key. Bring a blanket/sheet or a chair and enjoy a peaceful gentle yoga flow with the beauty of nature. We are a Vendor at the beach\, Classes are supported by donations\, suggested $5 and up please.\nJoin us for scheduled Sunset Yoga & Crystal Bowls\, too!\nwww.lovinglightyoga.com 941-979-1917
URL:https://englewoodreview.com/event/englewood-beach-yoga/2028-05-23/
LOCATION:Englewood Beach\, 2100 N. Beach Road\, Englewood\, FL\, 34223\, United States
ORGANIZER;CN="Loving Light Yoga":MAILTO:lata528@gmail.com
END:VEVENT
BEGIN:VEVENT
DTSTART;TZID=America/Halifax:20280524T083000
DTEND;TZID=America/Halifax:20280524T093000
DTSTAMP:20260424T095244
CREATED:20251029T160424Z
LAST-MODIFIED:20260119T144057Z
UID:10019974-1842769800-1842773400@englewoodreview.com
SUMMARY:Englewood Beach Yoga
DESCRIPTION:Englewood Beach Yoga with Lata & Robert\, classes held Monday – Saturday 8:30a – 9:30a. Located at 2100 N Beach Road\, the south end of Manasota Key. Bring a blanket/sheet or a chair and enjoy a peaceful gentle yoga flow with the beauty of nature. We are a Vendor at the beach\, Classes are supported by donations\, suggested $5 and up please.\nJoin us for scheduled Sunset Yoga & Crystal Bowls\, too!\nwww.lovinglightyoga.com 941-979-1917
URL:https://englewoodreview.com/event/englewood-beach-yoga/2028-05-24/
LOCATION:Englewood Beach\, 2100 N. Beach Road\, Englewood\, FL\, 34223\, United States
ORGANIZER;CN="Loving Light Yoga":MAILTO:lata528@gmail.com
END:VEVENT
BEGIN:VEVENT
DTSTART;TZID=America/Halifax:20280525T083000
DTEND;TZID=America/Halifax:20280525T093000
DTSTAMP:20260424T095244
CREATED:20251029T160424Z
LAST-MODIFIED:20260119T144057Z
UID:10019975-1842856200-1842859800@englewoodreview.com
SUMMARY:Englewood Beach Yoga
DESCRIPTION:Englewood Beach Yoga with Lata & Robert\, classes held Monday – Saturday 8:30a – 9:30a. Located at 2100 N Beach Road\, the south end of Manasota Key. Bring a blanket/sheet or a chair and enjoy a peaceful gentle yoga flow with the beauty of nature. We are a Vendor at the beach\, Classes are supported by donations\, suggested $5 and up please.\nJoin us for scheduled Sunset Yoga & Crystal Bowls\, too!\nwww.lovinglightyoga.com 941-979-1917
URL:https://englewoodreview.com/event/englewood-beach-yoga/2028-05-25/
LOCATION:Englewood Beach\, 2100 N. Beach Road\, Englewood\, FL\, 34223\, United States
ORGANIZER;CN="Loving Light Yoga":MAILTO:lata528@gmail.com
END:VEVENT
BEGIN:VEVENT
DTSTART;TZID=America/Halifax:20280526T083000
DTEND;TZID=America/Halifax:20280526T093000
DTSTAMP:20260424T095244
CREATED:20251029T160424Z
LAST-MODIFIED:20260119T144057Z
UID:10019976-1842942600-1842946200@englewoodreview.com
SUMMARY:Englewood Beach Yoga
DESCRIPTION:Englewood Beach Yoga with Lata & Robert\, classes held Monday – Saturday 8:30a – 9:30a. Located at 2100 N Beach Road\, the south end of Manasota Key. Bring a blanket/sheet or a chair and enjoy a peaceful gentle yoga flow with the beauty of nature. We are a Vendor at the beach\, Classes are supported by donations\, suggested $5 and up please.\nJoin us for scheduled Sunset Yoga & Crystal Bowls\, too!\nwww.lovinglightyoga.com 941-979-1917
URL:https://englewoodreview.com/event/englewood-beach-yoga/2028-05-26/
LOCATION:Englewood Beach\, 2100 N. Beach Road\, Englewood\, FL\, 34223\, United States
ORGANIZER;CN="Loving Light Yoga":MAILTO:lata528@gmail.com
END:VEVENT
END:VCALENDAR