BEGIN:VCALENDAR
VERSION:2.0
PRODID:-//Englewood Review - ECPv6.15.15//NONSGML v1.0//EN
CALSCALE:GREGORIAN
METHOD:PUBLISH
X-WR-CALNAME:Englewood Review
X-ORIGINAL-URL:https://englewoodreview.com
X-WR-CALDESC:Events for Englewood Review
REFRESH-INTERVAL;VALUE=DURATION:PT1H
X-Robots-Tag:noindex
X-PUBLISHED-TTL:PT1H
BEGIN:VTIMEZONE
TZID:America/Halifax
BEGIN:DAYLIGHT
TZOFFSETFROM:-0400
TZOFFSETTO:-0300
TZNAME:ADT
DTSTART:20250309T060000
END:DAYLIGHT
BEGIN:STANDARD
TZOFFSETFROM:-0300
TZOFFSETTO:-0400
TZNAME:AST
DTSTART:20251102T050000
END:STANDARD
BEGIN:DAYLIGHT
TZOFFSETFROM:-0400
TZOFFSETTO:-0300
TZNAME:ADT
DTSTART:20260308T060000
END:DAYLIGHT
BEGIN:STANDARD
TZOFFSETFROM:-0300
TZOFFSETTO:-0400
TZNAME:AST
DTSTART:20261101T050000
END:STANDARD
BEGIN:DAYLIGHT
TZOFFSETFROM:-0400
TZOFFSETTO:-0300
TZNAME:ADT
DTSTART:20270314T060000
END:DAYLIGHT
BEGIN:STANDARD
TZOFFSETFROM:-0300
TZOFFSETTO:-0400
TZNAME:AST
DTSTART:20271107T050000
END:STANDARD
END:VTIMEZONE
BEGIN:VEVENT
DTSTART;TZID=America/Halifax:20260728T083000
DTEND;TZID=America/Halifax:20260728T093000
DTSTAMP:20260421T083317
CREATED:20251029T160424Z
LAST-MODIFIED:20260119T144057Z
UID:10019403-1785227400-1785231000@englewoodreview.com
SUMMARY:Englewood Beach Yoga
DESCRIPTION:Englewood Beach Yoga with Lata & Robert\, classes held Monday – Saturday 8:30a – 9:30a. Located at 2100 N Beach Road\, the south end of Manasota Key. Bring a blanket/sheet or a chair and enjoy a peaceful gentle yoga flow with the beauty of nature. We are a Vendor at the beach\, Classes are supported by donations\, suggested $5 and up please.\nJoin us for scheduled Sunset Yoga & Crystal Bowls\, too!\nwww.lovinglightyoga.com 941-979-1917
URL:https://englewoodreview.com/event/englewood-beach-yoga/2026-07-28/
LOCATION:Englewood Beach\, 2100 N. Beach Road\, Englewood\, FL\, 34223\, United States
ORGANIZER;CN="Loving Light Yoga":MAILTO:lata528@gmail.com
END:VEVENT
BEGIN:VEVENT
DTSTART;TZID=America/Halifax:20260729T083000
DTEND;TZID=America/Halifax:20260729T093000
DTSTAMP:20260421T083317
CREATED:20251029T160424Z
LAST-MODIFIED:20260119T144057Z
UID:10019404-1785313800-1785317400@englewoodreview.com
SUMMARY:Englewood Beach Yoga
DESCRIPTION:Englewood Beach Yoga with Lata & Robert\, classes held Monday – Saturday 8:30a – 9:30a. Located at 2100 N Beach Road\, the south end of Manasota Key. Bring a blanket/sheet or a chair and enjoy a peaceful gentle yoga flow with the beauty of nature. We are a Vendor at the beach\, Classes are supported by donations\, suggested $5 and up please.\nJoin us for scheduled Sunset Yoga & Crystal Bowls\, too!\nwww.lovinglightyoga.com 941-979-1917
URL:https://englewoodreview.com/event/englewood-beach-yoga/2026-07-29/
LOCATION:Englewood Beach\, 2100 N. Beach Road\, Englewood\, FL\, 34223\, United States
ORGANIZER;CN="Loving Light Yoga":MAILTO:lata528@gmail.com
END:VEVENT
BEGIN:VEVENT
DTSTART;TZID=America/Halifax:20260730T083000
DTEND;TZID=America/Halifax:20260730T093000
DTSTAMP:20260421T083317
CREATED:20251029T160424Z
LAST-MODIFIED:20260119T144057Z
UID:10019405-1785400200-1785403800@englewoodreview.com
SUMMARY:Englewood Beach Yoga
DESCRIPTION:Englewood Beach Yoga with Lata & Robert\, classes held Monday – Saturday 8:30a – 9:30a. Located at 2100 N Beach Road\, the south end of Manasota Key. Bring a blanket/sheet or a chair and enjoy a peaceful gentle yoga flow with the beauty of nature. We are a Vendor at the beach\, Classes are supported by donations\, suggested $5 and up please.\nJoin us for scheduled Sunset Yoga & Crystal Bowls\, too!\nwww.lovinglightyoga.com 941-979-1917
URL:https://englewoodreview.com/event/englewood-beach-yoga/2026-07-30/
LOCATION:Englewood Beach\, 2100 N. Beach Road\, Englewood\, FL\, 34223\, United States
ORGANIZER;CN="Loving Light Yoga":MAILTO:lata528@gmail.com
END:VEVENT
BEGIN:VEVENT
DTSTART;TZID=America/Halifax:20260731T083000
DTEND;TZID=America/Halifax:20260731T093000
DTSTAMP:20260421T083317
CREATED:20251029T160424Z
LAST-MODIFIED:20260119T144057Z
UID:10019406-1785486600-1785490200@englewoodreview.com
SUMMARY:Englewood Beach Yoga
DESCRIPTION:Englewood Beach Yoga with Lata & Robert\, classes held Monday – Saturday 8:30a – 9:30a. Located at 2100 N Beach Road\, the south end of Manasota Key. Bring a blanket/sheet or a chair and enjoy a peaceful gentle yoga flow with the beauty of nature. We are a Vendor at the beach\, Classes are supported by donations\, suggested $5 and up please.\nJoin us for scheduled Sunset Yoga & Crystal Bowls\, too!\nwww.lovinglightyoga.com 941-979-1917
URL:https://englewoodreview.com/event/englewood-beach-yoga/2026-07-31/
LOCATION:Englewood Beach\, 2100 N. Beach Road\, Englewood\, FL\, 34223\, United States
ORGANIZER;CN="Loving Light Yoga":MAILTO:lata528@gmail.com
END:VEVENT
BEGIN:VEVENT
DTSTART;TZID=America/Halifax:20260801T083000
DTEND;TZID=America/Halifax:20260801T093000
DTSTAMP:20260421T083317
CREATED:20251029T160424Z
LAST-MODIFIED:20260119T144057Z
UID:10019407-1785573000-1785576600@englewoodreview.com
SUMMARY:Englewood Beach Yoga
DESCRIPTION:Englewood Beach Yoga with Lata & Robert\, classes held Monday – Saturday 8:30a – 9:30a. Located at 2100 N Beach Road\, the south end of Manasota Key. Bring a blanket/sheet or a chair and enjoy a peaceful gentle yoga flow with the beauty of nature. We are a Vendor at the beach\, Classes are supported by donations\, suggested $5 and up please.\nJoin us for scheduled Sunset Yoga & Crystal Bowls\, too!\nwww.lovinglightyoga.com 941-979-1917
URL:https://englewoodreview.com/event/englewood-beach-yoga/2026-08-01/
LOCATION:Englewood Beach\, 2100 N. Beach Road\, Englewood\, FL\, 34223\, United States
ORGANIZER;CN="Loving Light Yoga":MAILTO:lata528@gmail.com
END:VEVENT
BEGIN:VEVENT
DTSTART;TZID=America/Halifax:20260803T083000
DTEND;TZID=America/Halifax:20260803T093000
DTSTAMP:20260421T083317
CREATED:20251029T160424Z
LAST-MODIFIED:20260119T144057Z
UID:10019408-1785745800-1785749400@englewoodreview.com
SUMMARY:Englewood Beach Yoga
DESCRIPTION:Englewood Beach Yoga with Lata & Robert\, classes held Monday – Saturday 8:30a – 9:30a. Located at 2100 N Beach Road\, the south end of Manasota Key. Bring a blanket/sheet or a chair and enjoy a peaceful gentle yoga flow with the beauty of nature. We are a Vendor at the beach\, Classes are supported by donations\, suggested $5 and up please.\nJoin us for scheduled Sunset Yoga & Crystal Bowls\, too!\nwww.lovinglightyoga.com 941-979-1917
URL:https://englewoodreview.com/event/englewood-beach-yoga/2026-08-03/
LOCATION:Englewood Beach\, 2100 N. Beach Road\, Englewood\, FL\, 34223\, United States
ORGANIZER;CN="Loving Light Yoga":MAILTO:lata528@gmail.com
END:VEVENT
BEGIN:VEVENT
DTSTART;TZID=America/Halifax:20260804T083000
DTEND;TZID=America/Halifax:20260804T093000
DTSTAMP:20260421T083317
CREATED:20251029T160424Z
LAST-MODIFIED:20260119T144057Z
UID:10019409-1785832200-1785835800@englewoodreview.com
SUMMARY:Englewood Beach Yoga
DESCRIPTION:Englewood Beach Yoga with Lata & Robert\, classes held Monday – Saturday 8:30a – 9:30a. Located at 2100 N Beach Road\, the south end of Manasota Key. Bring a blanket/sheet or a chair and enjoy a peaceful gentle yoga flow with the beauty of nature. We are a Vendor at the beach\, Classes are supported by donations\, suggested $5 and up please.\nJoin us for scheduled Sunset Yoga & Crystal Bowls\, too!\nwww.lovinglightyoga.com 941-979-1917
URL:https://englewoodreview.com/event/englewood-beach-yoga/2026-08-04/
LOCATION:Englewood Beach\, 2100 N. Beach Road\, Englewood\, FL\, 34223\, United States
ORGANIZER;CN="Loving Light Yoga":MAILTO:lata528@gmail.com
END:VEVENT
BEGIN:VEVENT
DTSTART;TZID=America/Halifax:20260805T083000
DTEND;TZID=America/Halifax:20260805T093000
DTSTAMP:20260421T083317
CREATED:20251029T160424Z
LAST-MODIFIED:20260119T144057Z
UID:10019410-1785918600-1785922200@englewoodreview.com
SUMMARY:Englewood Beach Yoga
DESCRIPTION:Englewood Beach Yoga with Lata & Robert\, classes held Monday – Saturday 8:30a – 9:30a. Located at 2100 N Beach Road\, the south end of Manasota Key. Bring a blanket/sheet or a chair and enjoy a peaceful gentle yoga flow with the beauty of nature. We are a Vendor at the beach\, Classes are supported by donations\, suggested $5 and up please.\nJoin us for scheduled Sunset Yoga & Crystal Bowls\, too!\nwww.lovinglightyoga.com 941-979-1917
URL:https://englewoodreview.com/event/englewood-beach-yoga/2026-08-05/
LOCATION:Englewood Beach\, 2100 N. Beach Road\, Englewood\, FL\, 34223\, United States
ORGANIZER;CN="Loving Light Yoga":MAILTO:lata528@gmail.com
END:VEVENT
BEGIN:VEVENT
DTSTART;TZID=America/Halifax:20260806T083000
DTEND;TZID=America/Halifax:20260806T093000
DTSTAMP:20260421T083317
CREATED:20251029T160424Z
LAST-MODIFIED:20260119T144057Z
UID:10019411-1786005000-1786008600@englewoodreview.com
SUMMARY:Englewood Beach Yoga
DESCRIPTION:Englewood Beach Yoga with Lata & Robert\, classes held Monday – Saturday 8:30a – 9:30a. Located at 2100 N Beach Road\, the south end of Manasota Key. Bring a blanket/sheet or a chair and enjoy a peaceful gentle yoga flow with the beauty of nature. We are a Vendor at the beach\, Classes are supported by donations\, suggested $5 and up please.\nJoin us for scheduled Sunset Yoga & Crystal Bowls\, too!\nwww.lovinglightyoga.com 941-979-1917
URL:https://englewoodreview.com/event/englewood-beach-yoga/2026-08-06/
LOCATION:Englewood Beach\, 2100 N. Beach Road\, Englewood\, FL\, 34223\, United States
ORGANIZER;CN="Loving Light Yoga":MAILTO:lata528@gmail.com
END:VEVENT
BEGIN:VEVENT
DTSTART;TZID=America/Halifax:20260807T083000
DTEND;TZID=America/Halifax:20260807T093000
DTSTAMP:20260421T083317
CREATED:20251029T160424Z
LAST-MODIFIED:20260119T144057Z
UID:10019412-1786091400-1786095000@englewoodreview.com
SUMMARY:Englewood Beach Yoga
DESCRIPTION:Englewood Beach Yoga with Lata & Robert\, classes held Monday – Saturday 8:30a – 9:30a. Located at 2100 N Beach Road\, the south end of Manasota Key. Bring a blanket/sheet or a chair and enjoy a peaceful gentle yoga flow with the beauty of nature. We are a Vendor at the beach\, Classes are supported by donations\, suggested $5 and up please.\nJoin us for scheduled Sunset Yoga & Crystal Bowls\, too!\nwww.lovinglightyoga.com 941-979-1917
URL:https://englewoodreview.com/event/englewood-beach-yoga/2026-08-07/
LOCATION:Englewood Beach\, 2100 N. Beach Road\, Englewood\, FL\, 34223\, United States
ORGANIZER;CN="Loving Light Yoga":MAILTO:lata528@gmail.com
END:VEVENT
BEGIN:VEVENT
DTSTART;TZID=America/Halifax:20260808T083000
DTEND;TZID=America/Halifax:20260808T093000
DTSTAMP:20260421T083317
CREATED:20251029T160424Z
LAST-MODIFIED:20260119T144057Z
UID:10019413-1786177800-1786181400@englewoodreview.com
SUMMARY:Englewood Beach Yoga
DESCRIPTION:Englewood Beach Yoga with Lata & Robert\, classes held Monday – Saturday 8:30a – 9:30a. Located at 2100 N Beach Road\, the south end of Manasota Key. Bring a blanket/sheet or a chair and enjoy a peaceful gentle yoga flow with the beauty of nature. We are a Vendor at the beach\, Classes are supported by donations\, suggested $5 and up please.\nJoin us for scheduled Sunset Yoga & Crystal Bowls\, too!\nwww.lovinglightyoga.com 941-979-1917
URL:https://englewoodreview.com/event/englewood-beach-yoga/2026-08-08/
LOCATION:Englewood Beach\, 2100 N. Beach Road\, Englewood\, FL\, 34223\, United States
ORGANIZER;CN="Loving Light Yoga":MAILTO:lata528@gmail.com
END:VEVENT
BEGIN:VEVENT
DTSTART;TZID=America/Halifax:20260810T083000
DTEND;TZID=America/Halifax:20260810T093000
DTSTAMP:20260421T083317
CREATED:20251029T160424Z
LAST-MODIFIED:20260119T144057Z
UID:10019414-1786350600-1786354200@englewoodreview.com
SUMMARY:Englewood Beach Yoga
DESCRIPTION:Englewood Beach Yoga with Lata & Robert\, classes held Monday – Saturday 8:30a – 9:30a. Located at 2100 N Beach Road\, the south end of Manasota Key. Bring a blanket/sheet or a chair and enjoy a peaceful gentle yoga flow with the beauty of nature. We are a Vendor at the beach\, Classes are supported by donations\, suggested $5 and up please.\nJoin us for scheduled Sunset Yoga & Crystal Bowls\, too!\nwww.lovinglightyoga.com 941-979-1917
URL:https://englewoodreview.com/event/englewood-beach-yoga/2026-08-10/
LOCATION:Englewood Beach\, 2100 N. Beach Road\, Englewood\, FL\, 34223\, United States
ORGANIZER;CN="Loving Light Yoga":MAILTO:lata528@gmail.com
END:VEVENT
BEGIN:VEVENT
DTSTART;TZID=America/Halifax:20260811T083000
DTEND;TZID=America/Halifax:20260811T093000
DTSTAMP:20260421T083317
CREATED:20251029T160424Z
LAST-MODIFIED:20260119T144057Z
UID:10019415-1786437000-1786440600@englewoodreview.com
SUMMARY:Englewood Beach Yoga
DESCRIPTION:Englewood Beach Yoga with Lata & Robert\, classes held Monday – Saturday 8:30a – 9:30a. Located at 2100 N Beach Road\, the south end of Manasota Key. Bring a blanket/sheet or a chair and enjoy a peaceful gentle yoga flow with the beauty of nature. We are a Vendor at the beach\, Classes are supported by donations\, suggested $5 and up please.\nJoin us for scheduled Sunset Yoga & Crystal Bowls\, too!\nwww.lovinglightyoga.com 941-979-1917
URL:https://englewoodreview.com/event/englewood-beach-yoga/2026-08-11/
LOCATION:Englewood Beach\, 2100 N. Beach Road\, Englewood\, FL\, 34223\, United States
ORGANIZER;CN="Loving Light Yoga":MAILTO:lata528@gmail.com
END:VEVENT
BEGIN:VEVENT
DTSTART;TZID=America/Halifax:20260812T083000
DTEND;TZID=America/Halifax:20260812T093000
DTSTAMP:20260421T083317
CREATED:20251029T160424Z
LAST-MODIFIED:20260119T144057Z
UID:10019416-1786523400-1786527000@englewoodreview.com
SUMMARY:Englewood Beach Yoga
DESCRIPTION:Englewood Beach Yoga with Lata & Robert\, classes held Monday – Saturday 8:30a – 9:30a. Located at 2100 N Beach Road\, the south end of Manasota Key. Bring a blanket/sheet or a chair and enjoy a peaceful gentle yoga flow with the beauty of nature. We are a Vendor at the beach\, Classes are supported by donations\, suggested $5 and up please.\nJoin us for scheduled Sunset Yoga & Crystal Bowls\, too!\nwww.lovinglightyoga.com 941-979-1917
URL:https://englewoodreview.com/event/englewood-beach-yoga/2026-08-12/
LOCATION:Englewood Beach\, 2100 N. Beach Road\, Englewood\, FL\, 34223\, United States
ORGANIZER;CN="Loving Light Yoga":MAILTO:lata528@gmail.com
END:VEVENT
BEGIN:VEVENT
DTSTART;TZID=America/Halifax:20260813T083000
DTEND;TZID=America/Halifax:20260813T093000
DTSTAMP:20260421T083317
CREATED:20251029T160424Z
LAST-MODIFIED:20260119T144057Z
UID:10019417-1786609800-1786613400@englewoodreview.com
SUMMARY:Englewood Beach Yoga
DESCRIPTION:Englewood Beach Yoga with Lata & Robert\, classes held Monday – Saturday 8:30a – 9:30a. Located at 2100 N Beach Road\, the south end of Manasota Key. Bring a blanket/sheet or a chair and enjoy a peaceful gentle yoga flow with the beauty of nature. We are a Vendor at the beach\, Classes are supported by donations\, suggested $5 and up please.\nJoin us for scheduled Sunset Yoga & Crystal Bowls\, too!\nwww.lovinglightyoga.com 941-979-1917
URL:https://englewoodreview.com/event/englewood-beach-yoga/2026-08-13/
LOCATION:Englewood Beach\, 2100 N. Beach Road\, Englewood\, FL\, 34223\, United States
ORGANIZER;CN="Loving Light Yoga":MAILTO:lata528@gmail.com
END:VEVENT
BEGIN:VEVENT
DTSTART;TZID=America/Halifax:20260814T083000
DTEND;TZID=America/Halifax:20260814T093000
DTSTAMP:20260421T083317
CREATED:20251029T160424Z
LAST-MODIFIED:20260119T144057Z
UID:10019418-1786696200-1786699800@englewoodreview.com
SUMMARY:Englewood Beach Yoga
DESCRIPTION:Englewood Beach Yoga with Lata & Robert\, classes held Monday – Saturday 8:30a – 9:30a. Located at 2100 N Beach Road\, the south end of Manasota Key. Bring a blanket/sheet or a chair and enjoy a peaceful gentle yoga flow with the beauty of nature. We are a Vendor at the beach\, Classes are supported by donations\, suggested $5 and up please.\nJoin us for scheduled Sunset Yoga & Crystal Bowls\, too!\nwww.lovinglightyoga.com 941-979-1917
URL:https://englewoodreview.com/event/englewood-beach-yoga/2026-08-14/
LOCATION:Englewood Beach\, 2100 N. Beach Road\, Englewood\, FL\, 34223\, United States
ORGANIZER;CN="Loving Light Yoga":MAILTO:lata528@gmail.com
END:VEVENT
BEGIN:VEVENT
DTSTART;TZID=America/Halifax:20260815T083000
DTEND;TZID=America/Halifax:20260815T093000
DTSTAMP:20260421T083317
CREATED:20251029T160424Z
LAST-MODIFIED:20260119T144057Z
UID:10019419-1786782600-1786786200@englewoodreview.com
SUMMARY:Englewood Beach Yoga
DESCRIPTION:Englewood Beach Yoga with Lata & Robert\, classes held Monday – Saturday 8:30a – 9:30a. Located at 2100 N Beach Road\, the south end of Manasota Key. Bring a blanket/sheet or a chair and enjoy a peaceful gentle yoga flow with the beauty of nature. We are a Vendor at the beach\, Classes are supported by donations\, suggested $5 and up please.\nJoin us for scheduled Sunset Yoga & Crystal Bowls\, too!\nwww.lovinglightyoga.com 941-979-1917
URL:https://englewoodreview.com/event/englewood-beach-yoga/2026-08-15/
LOCATION:Englewood Beach\, 2100 N. Beach Road\, Englewood\, FL\, 34223\, United States
ORGANIZER;CN="Loving Light Yoga":MAILTO:lata528@gmail.com
END:VEVENT
BEGIN:VEVENT
DTSTART;TZID=America/Halifax:20260817T083000
DTEND;TZID=America/Halifax:20260817T093000
DTSTAMP:20260421T083317
CREATED:20251029T160424Z
LAST-MODIFIED:20260119T144057Z
UID:10019420-1786955400-1786959000@englewoodreview.com
SUMMARY:Englewood Beach Yoga
DESCRIPTION:Englewood Beach Yoga with Lata & Robert\, classes held Monday – Saturday 8:30a – 9:30a. Located at 2100 N Beach Road\, the south end of Manasota Key. Bring a blanket/sheet or a chair and enjoy a peaceful gentle yoga flow with the beauty of nature. We are a Vendor at the beach\, Classes are supported by donations\, suggested $5 and up please.\nJoin us for scheduled Sunset Yoga & Crystal Bowls\, too!\nwww.lovinglightyoga.com 941-979-1917
URL:https://englewoodreview.com/event/englewood-beach-yoga/2026-08-17/
LOCATION:Englewood Beach\, 2100 N. Beach Road\, Englewood\, FL\, 34223\, United States
ORGANIZER;CN="Loving Light Yoga":MAILTO:lata528@gmail.com
END:VEVENT
BEGIN:VEVENT
DTSTART;TZID=America/Halifax:20260818T083000
DTEND;TZID=America/Halifax:20260818T093000
DTSTAMP:20260421T083317
CREATED:20251029T160424Z
LAST-MODIFIED:20260119T144057Z
UID:10019421-1787041800-1787045400@englewoodreview.com
SUMMARY:Englewood Beach Yoga
DESCRIPTION:Englewood Beach Yoga with Lata & Robert\, classes held Monday – Saturday 8:30a – 9:30a. Located at 2100 N Beach Road\, the south end of Manasota Key. Bring a blanket/sheet or a chair and enjoy a peaceful gentle yoga flow with the beauty of nature. We are a Vendor at the beach\, Classes are supported by donations\, suggested $5 and up please.\nJoin us for scheduled Sunset Yoga & Crystal Bowls\, too!\nwww.lovinglightyoga.com 941-979-1917
URL:https://englewoodreview.com/event/englewood-beach-yoga/2026-08-18/
LOCATION:Englewood Beach\, 2100 N. Beach Road\, Englewood\, FL\, 34223\, United States
ORGANIZER;CN="Loving Light Yoga":MAILTO:lata528@gmail.com
END:VEVENT
BEGIN:VEVENT
DTSTART;TZID=America/Halifax:20260819T083000
DTEND;TZID=America/Halifax:20260819T093000
DTSTAMP:20260421T083317
CREATED:20251029T160424Z
LAST-MODIFIED:20260119T144057Z
UID:10019422-1787128200-1787131800@englewoodreview.com
SUMMARY:Englewood Beach Yoga
DESCRIPTION:Englewood Beach Yoga with Lata & Robert\, classes held Monday – Saturday 8:30a – 9:30a. Located at 2100 N Beach Road\, the south end of Manasota Key. Bring a blanket/sheet or a chair and enjoy a peaceful gentle yoga flow with the beauty of nature. We are a Vendor at the beach\, Classes are supported by donations\, suggested $5 and up please.\nJoin us for scheduled Sunset Yoga & Crystal Bowls\, too!\nwww.lovinglightyoga.com 941-979-1917
URL:https://englewoodreview.com/event/englewood-beach-yoga/2026-08-19/
LOCATION:Englewood Beach\, 2100 N. Beach Road\, Englewood\, FL\, 34223\, United States
ORGANIZER;CN="Loving Light Yoga":MAILTO:lata528@gmail.com
END:VEVENT
BEGIN:VEVENT
DTSTART;TZID=America/Halifax:20260820T083000
DTEND;TZID=America/Halifax:20260820T093000
DTSTAMP:20260421T083317
CREATED:20251029T160424Z
LAST-MODIFIED:20260119T144057Z
UID:10019423-1787214600-1787218200@englewoodreview.com
SUMMARY:Englewood Beach Yoga
DESCRIPTION:Englewood Beach Yoga with Lata & Robert\, classes held Monday – Saturday 8:30a – 9:30a. Located at 2100 N Beach Road\, the south end of Manasota Key. Bring a blanket/sheet or a chair and enjoy a peaceful gentle yoga flow with the beauty of nature. We are a Vendor at the beach\, Classes are supported by donations\, suggested $5 and up please.\nJoin us for scheduled Sunset Yoga & Crystal Bowls\, too!\nwww.lovinglightyoga.com 941-979-1917
URL:https://englewoodreview.com/event/englewood-beach-yoga/2026-08-20/
LOCATION:Englewood Beach\, 2100 N. Beach Road\, Englewood\, FL\, 34223\, United States
ORGANIZER;CN="Loving Light Yoga":MAILTO:lata528@gmail.com
END:VEVENT
BEGIN:VEVENT
DTSTART;TZID=America/Halifax:20260821T083000
DTEND;TZID=America/Halifax:20260821T093000
DTSTAMP:20260421T083317
CREATED:20251029T160424Z
LAST-MODIFIED:20260119T144057Z
UID:10019424-1787301000-1787304600@englewoodreview.com
SUMMARY:Englewood Beach Yoga
DESCRIPTION:Englewood Beach Yoga with Lata & Robert\, classes held Monday – Saturday 8:30a – 9:30a. Located at 2100 N Beach Road\, the south end of Manasota Key. Bring a blanket/sheet or a chair and enjoy a peaceful gentle yoga flow with the beauty of nature. We are a Vendor at the beach\, Classes are supported by donations\, suggested $5 and up please.\nJoin us for scheduled Sunset Yoga & Crystal Bowls\, too!\nwww.lovinglightyoga.com 941-979-1917
URL:https://englewoodreview.com/event/englewood-beach-yoga/2026-08-21/
LOCATION:Englewood Beach\, 2100 N. Beach Road\, Englewood\, FL\, 34223\, United States
ORGANIZER;CN="Loving Light Yoga":MAILTO:lata528@gmail.com
END:VEVENT
BEGIN:VEVENT
DTSTART;TZID=America/Halifax:20260822T083000
DTEND;TZID=America/Halifax:20260822T093000
DTSTAMP:20260421T083317
CREATED:20251029T160424Z
LAST-MODIFIED:20260119T144057Z
UID:10019425-1787387400-1787391000@englewoodreview.com
SUMMARY:Englewood Beach Yoga
DESCRIPTION:Englewood Beach Yoga with Lata & Robert\, classes held Monday – Saturday 8:30a – 9:30a. Located at 2100 N Beach Road\, the south end of Manasota Key. Bring a blanket/sheet or a chair and enjoy a peaceful gentle yoga flow with the beauty of nature. We are a Vendor at the beach\, Classes are supported by donations\, suggested $5 and up please.\nJoin us for scheduled Sunset Yoga & Crystal Bowls\, too!\nwww.lovinglightyoga.com 941-979-1917
URL:https://englewoodreview.com/event/englewood-beach-yoga/2026-08-22/
LOCATION:Englewood Beach\, 2100 N. Beach Road\, Englewood\, FL\, 34223\, United States
ORGANIZER;CN="Loving Light Yoga":MAILTO:lata528@gmail.com
END:VEVENT
BEGIN:VEVENT
DTSTART;TZID=America/Halifax:20260824T083000
DTEND;TZID=America/Halifax:20260824T093000
DTSTAMP:20260421T083317
CREATED:20251029T160424Z
LAST-MODIFIED:20260119T144057Z
UID:10019426-1787560200-1787563800@englewoodreview.com
SUMMARY:Englewood Beach Yoga
DESCRIPTION:Englewood Beach Yoga with Lata & Robert\, classes held Monday – Saturday 8:30a – 9:30a. Located at 2100 N Beach Road\, the south end of Manasota Key. Bring a blanket/sheet or a chair and enjoy a peaceful gentle yoga flow with the beauty of nature. We are a Vendor at the beach\, Classes are supported by donations\, suggested $5 and up please.\nJoin us for scheduled Sunset Yoga & Crystal Bowls\, too!\nwww.lovinglightyoga.com 941-979-1917
URL:https://englewoodreview.com/event/englewood-beach-yoga/2026-08-24/
LOCATION:Englewood Beach\, 2100 N. Beach Road\, Englewood\, FL\, 34223\, United States
ORGANIZER;CN="Loving Light Yoga":MAILTO:lata528@gmail.com
END:VEVENT
BEGIN:VEVENT
DTSTART;TZID=America/Halifax:20260825T083000
DTEND;TZID=America/Halifax:20260825T093000
DTSTAMP:20260421T083317
CREATED:20251029T160424Z
LAST-MODIFIED:20260119T144057Z
UID:10019427-1787646600-1787650200@englewoodreview.com
SUMMARY:Englewood Beach Yoga
DESCRIPTION:Englewood Beach Yoga with Lata & Robert\, classes held Monday – Saturday 8:30a – 9:30a. Located at 2100 N Beach Road\, the south end of Manasota Key. Bring a blanket/sheet or a chair and enjoy a peaceful gentle yoga flow with the beauty of nature. We are a Vendor at the beach\, Classes are supported by donations\, suggested $5 and up please.\nJoin us for scheduled Sunset Yoga & Crystal Bowls\, too!\nwww.lovinglightyoga.com 941-979-1917
URL:https://englewoodreview.com/event/englewood-beach-yoga/2026-08-25/
LOCATION:Englewood Beach\, 2100 N. Beach Road\, Englewood\, FL\, 34223\, United States
ORGANIZER;CN="Loving Light Yoga":MAILTO:lata528@gmail.com
END:VEVENT
BEGIN:VEVENT
DTSTART;TZID=America/Halifax:20260826T083000
DTEND;TZID=America/Halifax:20260826T093000
DTSTAMP:20260421T083317
CREATED:20251029T160424Z
LAST-MODIFIED:20260119T144057Z
UID:10019428-1787733000-1787736600@englewoodreview.com
SUMMARY:Englewood Beach Yoga
DESCRIPTION:Englewood Beach Yoga with Lata & Robert\, classes held Monday – Saturday 8:30a – 9:30a. Located at 2100 N Beach Road\, the south end of Manasota Key. Bring a blanket/sheet or a chair and enjoy a peaceful gentle yoga flow with the beauty of nature. We are a Vendor at the beach\, Classes are supported by donations\, suggested $5 and up please.\nJoin us for scheduled Sunset Yoga & Crystal Bowls\, too!\nwww.lovinglightyoga.com 941-979-1917
URL:https://englewoodreview.com/event/englewood-beach-yoga/2026-08-26/
LOCATION:Englewood Beach\, 2100 N. Beach Road\, Englewood\, FL\, 34223\, United States
ORGANIZER;CN="Loving Light Yoga":MAILTO:lata528@gmail.com
END:VEVENT
BEGIN:VEVENT
DTSTART;TZID=America/Halifax:20260827T083000
DTEND;TZID=America/Halifax:20260827T093000
DTSTAMP:20260421T083317
CREATED:20251029T160424Z
LAST-MODIFIED:20260119T144057Z
UID:10019429-1787819400-1787823000@englewoodreview.com
SUMMARY:Englewood Beach Yoga
DESCRIPTION:Englewood Beach Yoga with Lata & Robert\, classes held Monday – Saturday 8:30a – 9:30a. Located at 2100 N Beach Road\, the south end of Manasota Key. Bring a blanket/sheet or a chair and enjoy a peaceful gentle yoga flow with the beauty of nature. We are a Vendor at the beach\, Classes are supported by donations\, suggested $5 and up please.\nJoin us for scheduled Sunset Yoga & Crystal Bowls\, too!\nwww.lovinglightyoga.com 941-979-1917
URL:https://englewoodreview.com/event/englewood-beach-yoga/2026-08-27/
LOCATION:Englewood Beach\, 2100 N. Beach Road\, Englewood\, FL\, 34223\, United States
ORGANIZER;CN="Loving Light Yoga":MAILTO:lata528@gmail.com
END:VEVENT
BEGIN:VEVENT
DTSTART;TZID=America/Halifax:20260828T083000
DTEND;TZID=America/Halifax:20260828T093000
DTSTAMP:20260421T083317
CREATED:20251029T160424Z
LAST-MODIFIED:20260119T144057Z
UID:10019430-1787905800-1787909400@englewoodreview.com
SUMMARY:Englewood Beach Yoga
DESCRIPTION:Englewood Beach Yoga with Lata & Robert\, classes held Monday – Saturday 8:30a – 9:30a. Located at 2100 N Beach Road\, the south end of Manasota Key. Bring a blanket/sheet or a chair and enjoy a peaceful gentle yoga flow with the beauty of nature. We are a Vendor at the beach\, Classes are supported by donations\, suggested $5 and up please.\nJoin us for scheduled Sunset Yoga & Crystal Bowls\, too!\nwww.lovinglightyoga.com 941-979-1917
URL:https://englewoodreview.com/event/englewood-beach-yoga/2026-08-28/
LOCATION:Englewood Beach\, 2100 N. Beach Road\, Englewood\, FL\, 34223\, United States
ORGANIZER;CN="Loving Light Yoga":MAILTO:lata528@gmail.com
END:VEVENT
BEGIN:VEVENT
DTSTART;TZID=America/Halifax:20260829T083000
DTEND;TZID=America/Halifax:20260829T093000
DTSTAMP:20260421T083317
CREATED:20251029T160424Z
LAST-MODIFIED:20260119T144057Z
UID:10019431-1787992200-1787995800@englewoodreview.com
SUMMARY:Englewood Beach Yoga
DESCRIPTION:Englewood Beach Yoga with Lata & Robert\, classes held Monday – Saturday 8:30a – 9:30a. Located at 2100 N Beach Road\, the south end of Manasota Key. Bring a blanket/sheet or a chair and enjoy a peaceful gentle yoga flow with the beauty of nature. We are a Vendor at the beach\, Classes are supported by donations\, suggested $5 and up please.\nJoin us for scheduled Sunset Yoga & Crystal Bowls\, too!\nwww.lovinglightyoga.com 941-979-1917
URL:https://englewoodreview.com/event/englewood-beach-yoga/2026-08-29/
LOCATION:Englewood Beach\, 2100 N. Beach Road\, Englewood\, FL\, 34223\, United States
ORGANIZER;CN="Loving Light Yoga":MAILTO:lata528@gmail.com
END:VEVENT
BEGIN:VEVENT
DTSTART;TZID=America/Halifax:20260831T083000
DTEND;TZID=America/Halifax:20260831T093000
DTSTAMP:20260421T083317
CREATED:20251029T160424Z
LAST-MODIFIED:20260119T144057Z
UID:10019432-1788165000-1788168600@englewoodreview.com
SUMMARY:Englewood Beach Yoga
DESCRIPTION:Englewood Beach Yoga with Lata & Robert\, classes held Monday – Saturday 8:30a – 9:30a. Located at 2100 N Beach Road\, the south end of Manasota Key. Bring a blanket/sheet or a chair and enjoy a peaceful gentle yoga flow with the beauty of nature. We are a Vendor at the beach\, Classes are supported by donations\, suggested $5 and up please.\nJoin us for scheduled Sunset Yoga & Crystal Bowls\, too!\nwww.lovinglightyoga.com 941-979-1917
URL:https://englewoodreview.com/event/englewood-beach-yoga/2026-08-31/
LOCATION:Englewood Beach\, 2100 N. Beach Road\, Englewood\, FL\, 34223\, United States
ORGANIZER;CN="Loving Light Yoga":MAILTO:lata528@gmail.com
END:VEVENT
END:VCALENDAR