BEGIN:VCALENDAR
VERSION:2.0
PRODID:-//Englewood Review - ECPv6.15.15//NONSGML v1.0//EN
CALSCALE:GREGORIAN
METHOD:PUBLISH
X-WR-CALNAME:Englewood Review
X-ORIGINAL-URL:https://englewoodreview.com
X-WR-CALDESC:Events for Englewood Review
REFRESH-INTERVAL;VALUE=DURATION:PT1H
X-Robots-Tag:noindex
X-PUBLISHED-TTL:PT1H
BEGIN:VTIMEZONE
TZID:America/Halifax
BEGIN:DAYLIGHT
TZOFFSETFROM:-0400
TZOFFSETTO:-0300
TZNAME:ADT
DTSTART:20250309T060000
END:DAYLIGHT
BEGIN:STANDARD
TZOFFSETFROM:-0300
TZOFFSETTO:-0400
TZNAME:AST
DTSTART:20251102T050000
END:STANDARD
BEGIN:DAYLIGHT
TZOFFSETFROM:-0400
TZOFFSETTO:-0300
TZNAME:ADT
DTSTART:20260308T060000
END:DAYLIGHT
BEGIN:STANDARD
TZOFFSETFROM:-0300
TZOFFSETTO:-0400
TZNAME:AST
DTSTART:20261101T050000
END:STANDARD
BEGIN:DAYLIGHT
TZOFFSETFROM:-0400
TZOFFSETTO:-0300
TZNAME:ADT
DTSTART:20270314T060000
END:DAYLIGHT
BEGIN:STANDARD
TZOFFSETFROM:-0300
TZOFFSETTO:-0400
TZNAME:AST
DTSTART:20271107T050000
END:STANDARD
BEGIN:DAYLIGHT
TZOFFSETFROM:-0400
TZOFFSETTO:-0300
TZNAME:ADT
DTSTART:20280312T060000
END:DAYLIGHT
BEGIN:STANDARD
TZOFFSETFROM:-0300
TZOFFSETTO:-0400
TZNAME:AST
DTSTART:20281105T050000
END:STANDARD
END:VTIMEZONE
BEGIN:VEVENT
DTSTART;TZID=America/Halifax:20261216T083000
DTEND;TZID=America/Halifax:20261216T093000
DTSTAMP:20260421T223003
CREATED:20251029T160424Z
LAST-MODIFIED:20260119T144057Z
UID:10019524-1797409800-1797413400@englewoodreview.com
SUMMARY:Englewood Beach Yoga
DESCRIPTION:Englewood Beach Yoga with Lata & Robert\, classes held Monday – Saturday 8:30a – 9:30a. Located at 2100 N Beach Road\, the south end of Manasota Key. Bring a blanket/sheet or a chair and enjoy a peaceful gentle yoga flow with the beauty of nature. We are a Vendor at the beach\, Classes are supported by donations\, suggested $5 and up please.\nJoin us for scheduled Sunset Yoga & Crystal Bowls\, too!\nwww.lovinglightyoga.com 941-979-1917
URL:https://englewoodreview.com/event/englewood-beach-yoga/2026-12-16/
LOCATION:Englewood Beach\, 2100 N. Beach Road\, Englewood\, FL\, 34223\, United States
ORGANIZER;CN="Loving Light Yoga":MAILTO:lata528@gmail.com
END:VEVENT
BEGIN:VEVENT
DTSTART;TZID=America/Halifax:20261217T083000
DTEND;TZID=America/Halifax:20261217T093000
DTSTAMP:20260421T223003
CREATED:20251029T160424Z
LAST-MODIFIED:20260119T144057Z
UID:10019525-1797496200-1797499800@englewoodreview.com
SUMMARY:Englewood Beach Yoga
DESCRIPTION:Englewood Beach Yoga with Lata & Robert\, classes held Monday – Saturday 8:30a – 9:30a. Located at 2100 N Beach Road\, the south end of Manasota Key. Bring a blanket/sheet or a chair and enjoy a peaceful gentle yoga flow with the beauty of nature. We are a Vendor at the beach\, Classes are supported by donations\, suggested $5 and up please.\nJoin us for scheduled Sunset Yoga & Crystal Bowls\, too!\nwww.lovinglightyoga.com 941-979-1917
URL:https://englewoodreview.com/event/englewood-beach-yoga/2026-12-17/
LOCATION:Englewood Beach\, 2100 N. Beach Road\, Englewood\, FL\, 34223\, United States
ORGANIZER;CN="Loving Light Yoga":MAILTO:lata528@gmail.com
END:VEVENT
BEGIN:VEVENT
DTSTART;TZID=America/Halifax:20261218T083000
DTEND;TZID=America/Halifax:20261218T093000
DTSTAMP:20260421T223003
CREATED:20251029T160424Z
LAST-MODIFIED:20260119T144057Z
UID:10019526-1797582600-1797586200@englewoodreview.com
SUMMARY:Englewood Beach Yoga
DESCRIPTION:Englewood Beach Yoga with Lata & Robert\, classes held Monday – Saturday 8:30a – 9:30a. Located at 2100 N Beach Road\, the south end of Manasota Key. Bring a blanket/sheet or a chair and enjoy a peaceful gentle yoga flow with the beauty of nature. We are a Vendor at the beach\, Classes are supported by donations\, suggested $5 and up please.\nJoin us for scheduled Sunset Yoga & Crystal Bowls\, too!\nwww.lovinglightyoga.com 941-979-1917
URL:https://englewoodreview.com/event/englewood-beach-yoga/2026-12-18/
LOCATION:Englewood Beach\, 2100 N. Beach Road\, Englewood\, FL\, 34223\, United States
ORGANIZER;CN="Loving Light Yoga":MAILTO:lata528@gmail.com
END:VEVENT
BEGIN:VEVENT
DTSTART;TZID=America/Halifax:20261219T083000
DTEND;TZID=America/Halifax:20261219T093000
DTSTAMP:20260421T223003
CREATED:20251029T160424Z
LAST-MODIFIED:20260119T144057Z
UID:10019527-1797669000-1797672600@englewoodreview.com
SUMMARY:Englewood Beach Yoga
DESCRIPTION:Englewood Beach Yoga with Lata & Robert\, classes held Monday – Saturday 8:30a – 9:30a. Located at 2100 N Beach Road\, the south end of Manasota Key. Bring a blanket/sheet or a chair and enjoy a peaceful gentle yoga flow with the beauty of nature. We are a Vendor at the beach\, Classes are supported by donations\, suggested $5 and up please.\nJoin us for scheduled Sunset Yoga & Crystal Bowls\, too!\nwww.lovinglightyoga.com 941-979-1917
URL:https://englewoodreview.com/event/englewood-beach-yoga/2026-12-19/
LOCATION:Englewood Beach\, 2100 N. Beach Road\, Englewood\, FL\, 34223\, United States
ORGANIZER;CN="Loving Light Yoga":MAILTO:lata528@gmail.com
END:VEVENT
BEGIN:VEVENT
DTSTART;TZID=America/Halifax:20261221T083000
DTEND;TZID=America/Halifax:20261221T093000
DTSTAMP:20260421T223003
CREATED:20251029T160424Z
LAST-MODIFIED:20260119T144057Z
UID:10019528-1797841800-1797845400@englewoodreview.com
SUMMARY:Englewood Beach Yoga
DESCRIPTION:Englewood Beach Yoga with Lata & Robert\, classes held Monday – Saturday 8:30a – 9:30a. Located at 2100 N Beach Road\, the south end of Manasota Key. Bring a blanket/sheet or a chair and enjoy a peaceful gentle yoga flow with the beauty of nature. We are a Vendor at the beach\, Classes are supported by donations\, suggested $5 and up please.\nJoin us for scheduled Sunset Yoga & Crystal Bowls\, too!\nwww.lovinglightyoga.com 941-979-1917
URL:https://englewoodreview.com/event/englewood-beach-yoga/2026-12-21/
LOCATION:Englewood Beach\, 2100 N. Beach Road\, Englewood\, FL\, 34223\, United States
ORGANIZER;CN="Loving Light Yoga":MAILTO:lata528@gmail.com
END:VEVENT
BEGIN:VEVENT
DTSTART;TZID=America/Halifax:20261222T083000
DTEND;TZID=America/Halifax:20261222T093000
DTSTAMP:20260421T223003
CREATED:20251029T160424Z
LAST-MODIFIED:20260119T144057Z
UID:10019529-1797928200-1797931800@englewoodreview.com
SUMMARY:Englewood Beach Yoga
DESCRIPTION:Englewood Beach Yoga with Lata & Robert\, classes held Monday – Saturday 8:30a – 9:30a. Located at 2100 N Beach Road\, the south end of Manasota Key. Bring a blanket/sheet or a chair and enjoy a peaceful gentle yoga flow with the beauty of nature. We are a Vendor at the beach\, Classes are supported by donations\, suggested $5 and up please.\nJoin us for scheduled Sunset Yoga & Crystal Bowls\, too!\nwww.lovinglightyoga.com 941-979-1917
URL:https://englewoodreview.com/event/englewood-beach-yoga/2026-12-22/
LOCATION:Englewood Beach\, 2100 N. Beach Road\, Englewood\, FL\, 34223\, United States
ORGANIZER;CN="Loving Light Yoga":MAILTO:lata528@gmail.com
END:VEVENT
BEGIN:VEVENT
DTSTART;TZID=America/Halifax:20261223T083000
DTEND;TZID=America/Halifax:20261223T093000
DTSTAMP:20260421T223003
CREATED:20251029T160424Z
LAST-MODIFIED:20260119T144057Z
UID:10019530-1798014600-1798018200@englewoodreview.com
SUMMARY:Englewood Beach Yoga
DESCRIPTION:Englewood Beach Yoga with Lata & Robert\, classes held Monday – Saturday 8:30a – 9:30a. Located at 2100 N Beach Road\, the south end of Manasota Key. Bring a blanket/sheet or a chair and enjoy a peaceful gentle yoga flow with the beauty of nature. We are a Vendor at the beach\, Classes are supported by donations\, suggested $5 and up please.\nJoin us for scheduled Sunset Yoga & Crystal Bowls\, too!\nwww.lovinglightyoga.com 941-979-1917
URL:https://englewoodreview.com/event/englewood-beach-yoga/2026-12-23/
LOCATION:Englewood Beach\, 2100 N. Beach Road\, Englewood\, FL\, 34223\, United States
ORGANIZER;CN="Loving Light Yoga":MAILTO:lata528@gmail.com
END:VEVENT
BEGIN:VEVENT
DTSTART;TZID=America/Halifax:20261224T083000
DTEND;TZID=America/Halifax:20261224T093000
DTSTAMP:20260421T223003
CREATED:20251029T160424Z
LAST-MODIFIED:20260119T144057Z
UID:10019531-1798101000-1798104600@englewoodreview.com
SUMMARY:Englewood Beach Yoga
DESCRIPTION:Englewood Beach Yoga with Lata & Robert\, classes held Monday – Saturday 8:30a – 9:30a. Located at 2100 N Beach Road\, the south end of Manasota Key. Bring a blanket/sheet or a chair and enjoy a peaceful gentle yoga flow with the beauty of nature. We are a Vendor at the beach\, Classes are supported by donations\, suggested $5 and up please.\nJoin us for scheduled Sunset Yoga & Crystal Bowls\, too!\nwww.lovinglightyoga.com 941-979-1917
URL:https://englewoodreview.com/event/englewood-beach-yoga/2026-12-24/
LOCATION:Englewood Beach\, 2100 N. Beach Road\, Englewood\, FL\, 34223\, United States
ORGANIZER;CN="Loving Light Yoga":MAILTO:lata528@gmail.com
END:VEVENT
BEGIN:VEVENT
DTSTART;TZID=America/Halifax:20261225T083000
DTEND;TZID=America/Halifax:20261225T093000
DTSTAMP:20260421T223003
CREATED:20251029T160424Z
LAST-MODIFIED:20260119T144057Z
UID:10019532-1798187400-1798191000@englewoodreview.com
SUMMARY:Englewood Beach Yoga
DESCRIPTION:Englewood Beach Yoga with Lata & Robert\, classes held Monday – Saturday 8:30a – 9:30a. Located at 2100 N Beach Road\, the south end of Manasota Key. Bring a blanket/sheet or a chair and enjoy a peaceful gentle yoga flow with the beauty of nature. We are a Vendor at the beach\, Classes are supported by donations\, suggested $5 and up please.\nJoin us for scheduled Sunset Yoga & Crystal Bowls\, too!\nwww.lovinglightyoga.com 941-979-1917
URL:https://englewoodreview.com/event/englewood-beach-yoga/2026-12-25/
LOCATION:Englewood Beach\, 2100 N. Beach Road\, Englewood\, FL\, 34223\, United States
ORGANIZER;CN="Loving Light Yoga":MAILTO:lata528@gmail.com
END:VEVENT
BEGIN:VEVENT
DTSTART;TZID=America/Halifax:20261226T083000
DTEND;TZID=America/Halifax:20261226T093000
DTSTAMP:20260421T223003
CREATED:20251029T160424Z
LAST-MODIFIED:20260119T144057Z
UID:10019533-1798273800-1798277400@englewoodreview.com
SUMMARY:Englewood Beach Yoga
DESCRIPTION:Englewood Beach Yoga with Lata & Robert\, classes held Monday – Saturday 8:30a – 9:30a. Located at 2100 N Beach Road\, the south end of Manasota Key. Bring a blanket/sheet or a chair and enjoy a peaceful gentle yoga flow with the beauty of nature. We are a Vendor at the beach\, Classes are supported by donations\, suggested $5 and up please.\nJoin us for scheduled Sunset Yoga & Crystal Bowls\, too!\nwww.lovinglightyoga.com 941-979-1917
URL:https://englewoodreview.com/event/englewood-beach-yoga/2026-12-26/
LOCATION:Englewood Beach\, 2100 N. Beach Road\, Englewood\, FL\, 34223\, United States
ORGANIZER;CN="Loving Light Yoga":MAILTO:lata528@gmail.com
END:VEVENT
BEGIN:VEVENT
DTSTART;TZID=America/Halifax:20261228T083000
DTEND;TZID=America/Halifax:20261228T093000
DTSTAMP:20260421T223003
CREATED:20251029T160424Z
LAST-MODIFIED:20260119T144057Z
UID:10019534-1798446600-1798450200@englewoodreview.com
SUMMARY:Englewood Beach Yoga
DESCRIPTION:Englewood Beach Yoga with Lata & Robert\, classes held Monday – Saturday 8:30a – 9:30a. Located at 2100 N Beach Road\, the south end of Manasota Key. Bring a blanket/sheet or a chair and enjoy a peaceful gentle yoga flow with the beauty of nature. We are a Vendor at the beach\, Classes are supported by donations\, suggested $5 and up please.\nJoin us for scheduled Sunset Yoga & Crystal Bowls\, too!\nwww.lovinglightyoga.com 941-979-1917
URL:https://englewoodreview.com/event/englewood-beach-yoga/2026-12-28/
LOCATION:Englewood Beach\, 2100 N. Beach Road\, Englewood\, FL\, 34223\, United States
ORGANIZER;CN="Loving Light Yoga":MAILTO:lata528@gmail.com
END:VEVENT
BEGIN:VEVENT
DTSTART;TZID=America/Halifax:20261229T083000
DTEND;TZID=America/Halifax:20261229T093000
DTSTAMP:20260421T223003
CREATED:20251029T160424Z
LAST-MODIFIED:20260119T144057Z
UID:10019535-1798533000-1798536600@englewoodreview.com
SUMMARY:Englewood Beach Yoga
DESCRIPTION:Englewood Beach Yoga with Lata & Robert\, classes held Monday – Saturday 8:30a – 9:30a. Located at 2100 N Beach Road\, the south end of Manasota Key. Bring a blanket/sheet or a chair and enjoy a peaceful gentle yoga flow with the beauty of nature. We are a Vendor at the beach\, Classes are supported by donations\, suggested $5 and up please.\nJoin us for scheduled Sunset Yoga & Crystal Bowls\, too!\nwww.lovinglightyoga.com 941-979-1917
URL:https://englewoodreview.com/event/englewood-beach-yoga/2026-12-29/
LOCATION:Englewood Beach\, 2100 N. Beach Road\, Englewood\, FL\, 34223\, United States
ORGANIZER;CN="Loving Light Yoga":MAILTO:lata528@gmail.com
END:VEVENT
BEGIN:VEVENT
DTSTART;TZID=America/Halifax:20261230T083000
DTEND;TZID=America/Halifax:20261230T093000
DTSTAMP:20260421T223003
CREATED:20251029T160424Z
LAST-MODIFIED:20260119T144057Z
UID:10019536-1798619400-1798623000@englewoodreview.com
SUMMARY:Englewood Beach Yoga
DESCRIPTION:Englewood Beach Yoga with Lata & Robert\, classes held Monday – Saturday 8:30a – 9:30a. Located at 2100 N Beach Road\, the south end of Manasota Key. Bring a blanket/sheet or a chair and enjoy a peaceful gentle yoga flow with the beauty of nature. We are a Vendor at the beach\, Classes are supported by donations\, suggested $5 and up please.\nJoin us for scheduled Sunset Yoga & Crystal Bowls\, too!\nwww.lovinglightyoga.com 941-979-1917
URL:https://englewoodreview.com/event/englewood-beach-yoga/2026-12-30/
LOCATION:Englewood Beach\, 2100 N. Beach Road\, Englewood\, FL\, 34223\, United States
ORGANIZER;CN="Loving Light Yoga":MAILTO:lata528@gmail.com
END:VEVENT
BEGIN:VEVENT
DTSTART;TZID=America/Halifax:20261231T083000
DTEND;TZID=America/Halifax:20261231T093000
DTSTAMP:20260421T223003
CREATED:20251029T160424Z
LAST-MODIFIED:20260119T144057Z
UID:10019537-1798705800-1798709400@englewoodreview.com
SUMMARY:Englewood Beach Yoga
DESCRIPTION:Englewood Beach Yoga with Lata & Robert\, classes held Monday – Saturday 8:30a – 9:30a. Located at 2100 N Beach Road\, the south end of Manasota Key. Bring a blanket/sheet or a chair and enjoy a peaceful gentle yoga flow with the beauty of nature. We are a Vendor at the beach\, Classes are supported by donations\, suggested $5 and up please.\nJoin us for scheduled Sunset Yoga & Crystal Bowls\, too!\nwww.lovinglightyoga.com 941-979-1917
URL:https://englewoodreview.com/event/englewood-beach-yoga/2026-12-31/
LOCATION:Englewood Beach\, 2100 N. Beach Road\, Englewood\, FL\, 34223\, United States
ORGANIZER;CN="Loving Light Yoga":MAILTO:lata528@gmail.com
END:VEVENT
BEGIN:VEVENT
DTSTART;TZID=America/Halifax:20270101T083000
DTEND;TZID=America/Halifax:20270101T093000
DTSTAMP:20260421T223003
CREATED:20251029T160424Z
LAST-MODIFIED:20260119T144057Z
UID:10019538-1798792200-1798795800@englewoodreview.com
SUMMARY:Englewood Beach Yoga
DESCRIPTION:Englewood Beach Yoga with Lata & Robert\, classes held Monday – Saturday 8:30a – 9:30a. Located at 2100 N Beach Road\, the south end of Manasota Key. Bring a blanket/sheet or a chair and enjoy a peaceful gentle yoga flow with the beauty of nature. We are a Vendor at the beach\, Classes are supported by donations\, suggested $5 and up please.\nJoin us for scheduled Sunset Yoga & Crystal Bowls\, too!\nwww.lovinglightyoga.com 941-979-1917
URL:https://englewoodreview.com/event/englewood-beach-yoga/2027-01-01/
LOCATION:Englewood Beach\, 2100 N. Beach Road\, Englewood\, FL\, 34223\, United States
ORGANIZER;CN="Loving Light Yoga":MAILTO:lata528@gmail.com
END:VEVENT
BEGIN:VEVENT
DTSTART;TZID=America/Halifax:20270102T083000
DTEND;TZID=America/Halifax:20270102T093000
DTSTAMP:20260421T223003
CREATED:20251029T160424Z
LAST-MODIFIED:20260119T144057Z
UID:10019539-1798878600-1798882200@englewoodreview.com
SUMMARY:Englewood Beach Yoga
DESCRIPTION:Englewood Beach Yoga with Lata & Robert\, classes held Monday – Saturday 8:30a – 9:30a. Located at 2100 N Beach Road\, the south end of Manasota Key. Bring a blanket/sheet or a chair and enjoy a peaceful gentle yoga flow with the beauty of nature. We are a Vendor at the beach\, Classes are supported by donations\, suggested $5 and up please.\nJoin us for scheduled Sunset Yoga & Crystal Bowls\, too!\nwww.lovinglightyoga.com 941-979-1917
URL:https://englewoodreview.com/event/englewood-beach-yoga/2027-01-02/
LOCATION:Englewood Beach\, 2100 N. Beach Road\, Englewood\, FL\, 34223\, United States
ORGANIZER;CN="Loving Light Yoga":MAILTO:lata528@gmail.com
END:VEVENT
BEGIN:VEVENT
DTSTART;TZID=America/Halifax:20270104T083000
DTEND;TZID=America/Halifax:20270104T093000
DTSTAMP:20260421T223003
CREATED:20251029T160424Z
LAST-MODIFIED:20260119T144057Z
UID:10019540-1799051400-1799055000@englewoodreview.com
SUMMARY:Englewood Beach Yoga
DESCRIPTION:Englewood Beach Yoga with Lata & Robert\, classes held Monday – Saturday 8:30a – 9:30a. Located at 2100 N Beach Road\, the south end of Manasota Key. Bring a blanket/sheet or a chair and enjoy a peaceful gentle yoga flow with the beauty of nature. We are a Vendor at the beach\, Classes are supported by donations\, suggested $5 and up please.\nJoin us for scheduled Sunset Yoga & Crystal Bowls\, too!\nwww.lovinglightyoga.com 941-979-1917
URL:https://englewoodreview.com/event/englewood-beach-yoga/2027-01-04/
LOCATION:Englewood Beach\, 2100 N. Beach Road\, Englewood\, FL\, 34223\, United States
ORGANIZER;CN="Loving Light Yoga":MAILTO:lata528@gmail.com
END:VEVENT
BEGIN:VEVENT
DTSTART;TZID=America/Halifax:20270105T083000
DTEND;TZID=America/Halifax:20270105T093000
DTSTAMP:20260421T223003
CREATED:20251029T160424Z
LAST-MODIFIED:20260119T144057Z
UID:10019541-1799137800-1799141400@englewoodreview.com
SUMMARY:Englewood Beach Yoga
DESCRIPTION:Englewood Beach Yoga with Lata & Robert\, classes held Monday – Saturday 8:30a – 9:30a. Located at 2100 N Beach Road\, the south end of Manasota Key. Bring a blanket/sheet or a chair and enjoy a peaceful gentle yoga flow with the beauty of nature. We are a Vendor at the beach\, Classes are supported by donations\, suggested $5 and up please.\nJoin us for scheduled Sunset Yoga & Crystal Bowls\, too!\nwww.lovinglightyoga.com 941-979-1917
URL:https://englewoodreview.com/event/englewood-beach-yoga/2027-01-05/
LOCATION:Englewood Beach\, 2100 N. Beach Road\, Englewood\, FL\, 34223\, United States
ORGANIZER;CN="Loving Light Yoga":MAILTO:lata528@gmail.com
END:VEVENT
BEGIN:VEVENT
DTSTART;TZID=America/Halifax:20270106T083000
DTEND;TZID=America/Halifax:20270106T093000
DTSTAMP:20260421T223003
CREATED:20251029T160424Z
LAST-MODIFIED:20260119T144057Z
UID:10019542-1799224200-1799227800@englewoodreview.com
SUMMARY:Englewood Beach Yoga
DESCRIPTION:Englewood Beach Yoga with Lata & Robert\, classes held Monday – Saturday 8:30a – 9:30a. Located at 2100 N Beach Road\, the south end of Manasota Key. Bring a blanket/sheet or a chair and enjoy a peaceful gentle yoga flow with the beauty of nature. We are a Vendor at the beach\, Classes are supported by donations\, suggested $5 and up please.\nJoin us for scheduled Sunset Yoga & Crystal Bowls\, too!\nwww.lovinglightyoga.com 941-979-1917
URL:https://englewoodreview.com/event/englewood-beach-yoga/2027-01-06/
LOCATION:Englewood Beach\, 2100 N. Beach Road\, Englewood\, FL\, 34223\, United States
ORGANIZER;CN="Loving Light Yoga":MAILTO:lata528@gmail.com
END:VEVENT
BEGIN:VEVENT
DTSTART;TZID=America/Halifax:20270107T083000
DTEND;TZID=America/Halifax:20270107T093000
DTSTAMP:20260421T223003
CREATED:20251029T160424Z
LAST-MODIFIED:20260119T144057Z
UID:10019543-1799310600-1799314200@englewoodreview.com
SUMMARY:Englewood Beach Yoga
DESCRIPTION:Englewood Beach Yoga with Lata & Robert\, classes held Monday – Saturday 8:30a – 9:30a. Located at 2100 N Beach Road\, the south end of Manasota Key. Bring a blanket/sheet or a chair and enjoy a peaceful gentle yoga flow with the beauty of nature. We are a Vendor at the beach\, Classes are supported by donations\, suggested $5 and up please.\nJoin us for scheduled Sunset Yoga & Crystal Bowls\, too!\nwww.lovinglightyoga.com 941-979-1917
URL:https://englewoodreview.com/event/englewood-beach-yoga/2027-01-07/
LOCATION:Englewood Beach\, 2100 N. Beach Road\, Englewood\, FL\, 34223\, United States
ORGANIZER;CN="Loving Light Yoga":MAILTO:lata528@gmail.com
END:VEVENT
BEGIN:VEVENT
DTSTART;TZID=America/Halifax:20270108T083000
DTEND;TZID=America/Halifax:20270108T093000
DTSTAMP:20260421T223003
CREATED:20251029T160424Z
LAST-MODIFIED:20260119T144057Z
UID:10019544-1799397000-1799400600@englewoodreview.com
SUMMARY:Englewood Beach Yoga
DESCRIPTION:Englewood Beach Yoga with Lata & Robert\, classes held Monday – Saturday 8:30a – 9:30a. Located at 2100 N Beach Road\, the south end of Manasota Key. Bring a blanket/sheet or a chair and enjoy a peaceful gentle yoga flow with the beauty of nature. We are a Vendor at the beach\, Classes are supported by donations\, suggested $5 and up please.\nJoin us for scheduled Sunset Yoga & Crystal Bowls\, too!\nwww.lovinglightyoga.com 941-979-1917
URL:https://englewoodreview.com/event/englewood-beach-yoga/2027-01-08/
LOCATION:Englewood Beach\, 2100 N. Beach Road\, Englewood\, FL\, 34223\, United States
ORGANIZER;CN="Loving Light Yoga":MAILTO:lata528@gmail.com
END:VEVENT
BEGIN:VEVENT
DTSTART;TZID=America/Halifax:20270109T083000
DTEND;TZID=America/Halifax:20270109T093000
DTSTAMP:20260421T223003
CREATED:20251029T160424Z
LAST-MODIFIED:20260119T144057Z
UID:10019545-1799483400-1799487000@englewoodreview.com
SUMMARY:Englewood Beach Yoga
DESCRIPTION:Englewood Beach Yoga with Lata & Robert\, classes held Monday – Saturday 8:30a – 9:30a. Located at 2100 N Beach Road\, the south end of Manasota Key. Bring a blanket/sheet or a chair and enjoy a peaceful gentle yoga flow with the beauty of nature. We are a Vendor at the beach\, Classes are supported by donations\, suggested $5 and up please.\nJoin us for scheduled Sunset Yoga & Crystal Bowls\, too!\nwww.lovinglightyoga.com 941-979-1917
URL:https://englewoodreview.com/event/englewood-beach-yoga/2027-01-09/
LOCATION:Englewood Beach\, 2100 N. Beach Road\, Englewood\, FL\, 34223\, United States
ORGANIZER;CN="Loving Light Yoga":MAILTO:lata528@gmail.com
END:VEVENT
BEGIN:VEVENT
DTSTART;TZID=America/Halifax:20270111T083000
DTEND;TZID=America/Halifax:20270111T093000
DTSTAMP:20260421T223003
CREATED:20251029T160424Z
LAST-MODIFIED:20260119T144057Z
UID:10019546-1799656200-1799659800@englewoodreview.com
SUMMARY:Englewood Beach Yoga
DESCRIPTION:Englewood Beach Yoga with Lata & Robert\, classes held Monday – Saturday 8:30a – 9:30a. Located at 2100 N Beach Road\, the south end of Manasota Key. Bring a blanket/sheet or a chair and enjoy a peaceful gentle yoga flow with the beauty of nature. We are a Vendor at the beach\, Classes are supported by donations\, suggested $5 and up please.\nJoin us for scheduled Sunset Yoga & Crystal Bowls\, too!\nwww.lovinglightyoga.com 941-979-1917
URL:https://englewoodreview.com/event/englewood-beach-yoga/2027-01-11/
LOCATION:Englewood Beach\, 2100 N. Beach Road\, Englewood\, FL\, 34223\, United States
ORGANIZER;CN="Loving Light Yoga":MAILTO:lata528@gmail.com
END:VEVENT
BEGIN:VEVENT
DTSTART;TZID=America/Halifax:20270112T083000
DTEND;TZID=America/Halifax:20270112T093000
DTSTAMP:20260421T223003
CREATED:20251029T160424Z
LAST-MODIFIED:20260119T144057Z
UID:10019547-1799742600-1799746200@englewoodreview.com
SUMMARY:Englewood Beach Yoga
DESCRIPTION:Englewood Beach Yoga with Lata & Robert\, classes held Monday – Saturday 8:30a – 9:30a. Located at 2100 N Beach Road\, the south end of Manasota Key. Bring a blanket/sheet or a chair and enjoy a peaceful gentle yoga flow with the beauty of nature. We are a Vendor at the beach\, Classes are supported by donations\, suggested $5 and up please.\nJoin us for scheduled Sunset Yoga & Crystal Bowls\, too!\nwww.lovinglightyoga.com 941-979-1917
URL:https://englewoodreview.com/event/englewood-beach-yoga/2027-01-12/
LOCATION:Englewood Beach\, 2100 N. Beach Road\, Englewood\, FL\, 34223\, United States
ORGANIZER;CN="Loving Light Yoga":MAILTO:lata528@gmail.com
END:VEVENT
BEGIN:VEVENT
DTSTART;TZID=America/Halifax:20270113T083000
DTEND;TZID=America/Halifax:20270113T093000
DTSTAMP:20260421T223003
CREATED:20251029T160424Z
LAST-MODIFIED:20260119T144057Z
UID:10019548-1799829000-1799832600@englewoodreview.com
SUMMARY:Englewood Beach Yoga
DESCRIPTION:Englewood Beach Yoga with Lata & Robert\, classes held Monday – Saturday 8:30a – 9:30a. Located at 2100 N Beach Road\, the south end of Manasota Key. Bring a blanket/sheet or a chair and enjoy a peaceful gentle yoga flow with the beauty of nature. We are a Vendor at the beach\, Classes are supported by donations\, suggested $5 and up please.\nJoin us for scheduled Sunset Yoga & Crystal Bowls\, too!\nwww.lovinglightyoga.com 941-979-1917
URL:https://englewoodreview.com/event/englewood-beach-yoga/2027-01-13/
LOCATION:Englewood Beach\, 2100 N. Beach Road\, Englewood\, FL\, 34223\, United States
ORGANIZER;CN="Loving Light Yoga":MAILTO:lata528@gmail.com
END:VEVENT
BEGIN:VEVENT
DTSTART;TZID=America/Halifax:20270114T083000
DTEND;TZID=America/Halifax:20270114T093000
DTSTAMP:20260421T223003
CREATED:20251029T160424Z
LAST-MODIFIED:20260119T144057Z
UID:10019549-1799915400-1799919000@englewoodreview.com
SUMMARY:Englewood Beach Yoga
DESCRIPTION:Englewood Beach Yoga with Lata & Robert\, classes held Monday – Saturday 8:30a – 9:30a. Located at 2100 N Beach Road\, the south end of Manasota Key. Bring a blanket/sheet or a chair and enjoy a peaceful gentle yoga flow with the beauty of nature. We are a Vendor at the beach\, Classes are supported by donations\, suggested $5 and up please.\nJoin us for scheduled Sunset Yoga & Crystal Bowls\, too!\nwww.lovinglightyoga.com 941-979-1917
URL:https://englewoodreview.com/event/englewood-beach-yoga/2027-01-14/
LOCATION:Englewood Beach\, 2100 N. Beach Road\, Englewood\, FL\, 34223\, United States
ORGANIZER;CN="Loving Light Yoga":MAILTO:lata528@gmail.com
END:VEVENT
BEGIN:VEVENT
DTSTART;TZID=America/Halifax:20270115T083000
DTEND;TZID=America/Halifax:20270115T093000
DTSTAMP:20260421T223003
CREATED:20251029T160424Z
LAST-MODIFIED:20260119T144057Z
UID:10019550-1800001800-1800005400@englewoodreview.com
SUMMARY:Englewood Beach Yoga
DESCRIPTION:Englewood Beach Yoga with Lata & Robert\, classes held Monday – Saturday 8:30a – 9:30a. Located at 2100 N Beach Road\, the south end of Manasota Key. Bring a blanket/sheet or a chair and enjoy a peaceful gentle yoga flow with the beauty of nature. We are a Vendor at the beach\, Classes are supported by donations\, suggested $5 and up please.\nJoin us for scheduled Sunset Yoga & Crystal Bowls\, too!\nwww.lovinglightyoga.com 941-979-1917
URL:https://englewoodreview.com/event/englewood-beach-yoga/2027-01-15/
LOCATION:Englewood Beach\, 2100 N. Beach Road\, Englewood\, FL\, 34223\, United States
ORGANIZER;CN="Loving Light Yoga":MAILTO:lata528@gmail.com
END:VEVENT
BEGIN:VEVENT
DTSTART;TZID=America/Halifax:20270116T083000
DTEND;TZID=America/Halifax:20270116T093000
DTSTAMP:20260421T223003
CREATED:20251029T160424Z
LAST-MODIFIED:20260119T144057Z
UID:10019551-1800088200-1800091800@englewoodreview.com
SUMMARY:Englewood Beach Yoga
DESCRIPTION:Englewood Beach Yoga with Lata & Robert\, classes held Monday – Saturday 8:30a – 9:30a. Located at 2100 N Beach Road\, the south end of Manasota Key. Bring a blanket/sheet or a chair and enjoy a peaceful gentle yoga flow with the beauty of nature. We are a Vendor at the beach\, Classes are supported by donations\, suggested $5 and up please.\nJoin us for scheduled Sunset Yoga & Crystal Bowls\, too!\nwww.lovinglightyoga.com 941-979-1917
URL:https://englewoodreview.com/event/englewood-beach-yoga/2027-01-16/
LOCATION:Englewood Beach\, 2100 N. Beach Road\, Englewood\, FL\, 34223\, United States
ORGANIZER;CN="Loving Light Yoga":MAILTO:lata528@gmail.com
END:VEVENT
BEGIN:VEVENT
DTSTART;TZID=America/Halifax:20270118T083000
DTEND;TZID=America/Halifax:20270118T093000
DTSTAMP:20260421T223003
CREATED:20251029T160424Z
LAST-MODIFIED:20260119T144057Z
UID:10019552-1800261000-1800264600@englewoodreview.com
SUMMARY:Englewood Beach Yoga
DESCRIPTION:Englewood Beach Yoga with Lata & Robert\, classes held Monday – Saturday 8:30a – 9:30a. Located at 2100 N Beach Road\, the south end of Manasota Key. Bring a blanket/sheet or a chair and enjoy a peaceful gentle yoga flow with the beauty of nature. We are a Vendor at the beach\, Classes are supported by donations\, suggested $5 and up please.\nJoin us for scheduled Sunset Yoga & Crystal Bowls\, too!\nwww.lovinglightyoga.com 941-979-1917
URL:https://englewoodreview.com/event/englewood-beach-yoga/2027-01-18/
LOCATION:Englewood Beach\, 2100 N. Beach Road\, Englewood\, FL\, 34223\, United States
ORGANIZER;CN="Loving Light Yoga":MAILTO:lata528@gmail.com
END:VEVENT
BEGIN:VEVENT
DTSTART;TZID=America/Halifax:20270119T083000
DTEND;TZID=America/Halifax:20270119T093000
DTSTAMP:20260421T223003
CREATED:20251029T160424Z
LAST-MODIFIED:20260119T144057Z
UID:10019553-1800347400-1800351000@englewoodreview.com
SUMMARY:Englewood Beach Yoga
DESCRIPTION:Englewood Beach Yoga with Lata & Robert\, classes held Monday – Saturday 8:30a – 9:30a. Located at 2100 N Beach Road\, the south end of Manasota Key. Bring a blanket/sheet or a chair and enjoy a peaceful gentle yoga flow with the beauty of nature. We are a Vendor at the beach\, Classes are supported by donations\, suggested $5 and up please.\nJoin us for scheduled Sunset Yoga & Crystal Bowls\, too!\nwww.lovinglightyoga.com 941-979-1917
URL:https://englewoodreview.com/event/englewood-beach-yoga/2027-01-19/
LOCATION:Englewood Beach\, 2100 N. Beach Road\, Englewood\, FL\, 34223\, United States
ORGANIZER;CN="Loving Light Yoga":MAILTO:lata528@gmail.com
END:VEVENT
END:VCALENDAR