BEGIN:VCALENDAR
VERSION:2.0
PRODID:-//Englewood Review - ECPv6.15.15//NONSGML v1.0//EN
CALSCALE:GREGORIAN
METHOD:PUBLISH
X-ORIGINAL-URL:https://englewoodreview.com
X-WR-CALDESC:Events for Englewood Review
REFRESH-INTERVAL;VALUE=DURATION:PT1H
X-Robots-Tag:noindex
X-PUBLISHED-TTL:PT1H
BEGIN:VTIMEZONE
TZID:America/Halifax
BEGIN:DAYLIGHT
TZOFFSETFROM:-0400
TZOFFSETTO:-0300
TZNAME:ADT
DTSTART:20240310T060000
END:DAYLIGHT
BEGIN:STANDARD
TZOFFSETFROM:-0300
TZOFFSETTO:-0400
TZNAME:AST
DTSTART:20241103T050000
END:STANDARD
BEGIN:DAYLIGHT
TZOFFSETFROM:-0400
TZOFFSETTO:-0300
TZNAME:ADT
DTSTART:20250309T060000
END:DAYLIGHT
BEGIN:STANDARD
TZOFFSETFROM:-0300
TZOFFSETTO:-0400
TZNAME:AST
DTSTART:20251102T050000
END:STANDARD
BEGIN:DAYLIGHT
TZOFFSETFROM:-0400
TZOFFSETTO:-0300
TZNAME:ADT
DTSTART:20260308T060000
END:DAYLIGHT
BEGIN:STANDARD
TZOFFSETFROM:-0300
TZOFFSETTO:-0400
TZNAME:AST
DTSTART:20261101T050000
END:STANDARD
BEGIN:DAYLIGHT
TZOFFSETFROM:-0400
TZOFFSETTO:-0300
TZNAME:ADT
DTSTART:20270314T060000
END:DAYLIGHT
BEGIN:STANDARD
TZOFFSETFROM:-0300
TZOFFSETTO:-0400
TZNAME:AST
DTSTART:20271107T050000
END:STANDARD
END:VTIMEZONE
BEGIN:VEVENT
DTSTART;TZID=America/Halifax:20260119T080000
DTEND;TZID=America/Halifax:20260119T110000
DTSTAMP:20260421T071618
CREATED:20251010T163902Z
LAST-MODIFIED:20251010T163902Z
UID:10016053-1768809600-1768820400@englewoodreview.com
SUMMARY:Englewood Mens Senior Softball
DESCRIPTION:Men’s Senior (60+) Softball\, Monday and Saturday 0800 – 1110. Adult Softball fields\, Englewood Sports Complex\, 1300 River Road.
URL:https://englewoodreview.com/event/englewood-mens-senior-softball/2026-01-19/
LOCATION:Englewood Sports Complex\, 1300 S. River Road\, Englewood\, FL\, 34223\, United States
END:VEVENT
BEGIN:VEVENT
DTSTART;TZID=America/Halifax:20260117T080000
DTEND;TZID=America/Halifax:20260117T110000
DTSTAMP:20260421T071618
CREATED:20251010T163902Z
LAST-MODIFIED:20251010T163902Z
UID:10016051-1768636800-1768647600@englewoodreview.com
SUMMARY:Englewood Mens Senior Softball
DESCRIPTION:Men’s Senior (60+) Softball\, Monday and Saturday 0800 – 1110. Adult Softball fields\, Englewood Sports Complex\, 1300 River Road.
URL:https://englewoodreview.com/event/englewood-mens-senior-softball/2026-01-17/
LOCATION:Englewood Sports Complex\, 1300 S. River Road\, Englewood\, FL\, 34223\, United States
END:VEVENT
BEGIN:VEVENT
DTSTART;TZID=America/Halifax:20260112T080000
DTEND;TZID=America/Halifax:20260112T110000
DTSTAMP:20260421T071618
CREATED:20251010T163902Z
LAST-MODIFIED:20251010T163902Z
UID:10016046-1768204800-1768215600@englewoodreview.com
SUMMARY:Englewood Mens Senior Softball
DESCRIPTION:Men’s Senior (60+) Softball\, Monday and Saturday 0800 – 1110. Adult Softball fields\, Englewood Sports Complex\, 1300 River Road.
URL:https://englewoodreview.com/event/englewood-mens-senior-softball/2026-01-12/
LOCATION:Englewood Sports Complex\, 1300 S. River Road\, Englewood\, FL\, 34223\, United States
END:VEVENT
BEGIN:VEVENT
DTSTART;TZID=America/Halifax:20260110T080000
DTEND;TZID=America/Halifax:20260110T110000
DTSTAMP:20260421T071618
CREATED:20251010T163902Z
LAST-MODIFIED:20251010T163902Z
UID:10016044-1768032000-1768042800@englewoodreview.com
SUMMARY:Englewood Mens Senior Softball
DESCRIPTION:Men’s Senior (60+) Softball\, Monday and Saturday 0800 – 1110. Adult Softball fields\, Englewood Sports Complex\, 1300 River Road.
URL:https://englewoodreview.com/event/englewood-mens-senior-softball/2026-01-10/
LOCATION:Englewood Sports Complex\, 1300 S. River Road\, Englewood\, FL\, 34223\, United States
END:VEVENT
BEGIN:VEVENT
DTSTART;TZID=America/Halifax:20260105T080000
DTEND;TZID=America/Halifax:20260105T110000
DTSTAMP:20260421T071618
CREATED:20251010T163902Z
LAST-MODIFIED:20251010T163902Z
UID:10016039-1767600000-1767610800@englewoodreview.com
SUMMARY:Englewood Mens Senior Softball
DESCRIPTION:Men’s Senior (60+) Softball\, Monday and Saturday 0800 – 1110. Adult Softball fields\, Englewood Sports Complex\, 1300 River Road.
URL:https://englewoodreview.com/event/englewood-mens-senior-softball/2026-01-05/
LOCATION:Englewood Sports Complex\, 1300 S. River Road\, Englewood\, FL\, 34223\, United States
END:VEVENT
BEGIN:VEVENT
DTSTART;TZID=America/Halifax:20260103T080000
DTEND;TZID=America/Halifax:20260103T110000
DTSTAMP:20260421T071618
CREATED:20251010T163902Z
LAST-MODIFIED:20251010T163902Z
UID:10016037-1767427200-1767438000@englewoodreview.com
SUMMARY:Englewood Mens Senior Softball
DESCRIPTION:Men’s Senior (60+) Softball\, Monday and Saturday 0800 – 1110. Adult Softball fields\, Englewood Sports Complex\, 1300 River Road.
URL:https://englewoodreview.com/event/englewood-mens-senior-softball/2026-01-03/
LOCATION:Englewood Sports Complex\, 1300 S. River Road\, Englewood\, FL\, 34223\, United States
END:VEVENT
BEGIN:VEVENT
DTSTART;TZID=America/Halifax:20251229T080000
DTEND;TZID=America/Halifax:20251229T110000
DTSTAMP:20260421T071618
CREATED:20251010T163902Z
LAST-MODIFIED:20251010T163902Z
UID:10016032-1766995200-1767006000@englewoodreview.com
SUMMARY:Englewood Mens Senior Softball
DESCRIPTION:Men’s Senior (60+) Softball\, Monday and Saturday 0800 – 1110. Adult Softball fields\, Englewood Sports Complex\, 1300 River Road.
URL:https://englewoodreview.com/event/englewood-mens-senior-softball/2025-12-29/
LOCATION:Englewood Sports Complex\, 1300 S. River Road\, Englewood\, FL\, 34223\, United States
END:VEVENT
BEGIN:VEVENT
DTSTART;TZID=America/Halifax:20251227T080000
DTEND;TZID=America/Halifax:20251227T110000
DTSTAMP:20260421T071618
CREATED:20251010T163902Z
LAST-MODIFIED:20251010T163902Z
UID:10016030-1766822400-1766833200@englewoodreview.com
SUMMARY:Englewood Mens Senior Softball
DESCRIPTION:Men’s Senior (60+) Softball\, Monday and Saturday 0800 – 1110. Adult Softball fields\, Englewood Sports Complex\, 1300 River Road.
URL:https://englewoodreview.com/event/englewood-mens-senior-softball/2025-12-27/
LOCATION:Englewood Sports Complex\, 1300 S. River Road\, Englewood\, FL\, 34223\, United States
END:VEVENT
BEGIN:VEVENT
DTSTART;TZID=America/Halifax:20251222T080000
DTEND;TZID=America/Halifax:20251222T110000
DTSTAMP:20260421T071618
CREATED:20251010T163902Z
LAST-MODIFIED:20251010T163902Z
UID:10016025-1766390400-1766401200@englewoodreview.com
SUMMARY:Englewood Mens Senior Softball
DESCRIPTION:Men’s Senior (60+) Softball\, Monday and Saturday 0800 – 1110. Adult Softball fields\, Englewood Sports Complex\, 1300 River Road.
URL:https://englewoodreview.com/event/englewood-mens-senior-softball/2025-12-22/
LOCATION:Englewood Sports Complex\, 1300 S. River Road\, Englewood\, FL\, 34223\, United States
END:VEVENT
BEGIN:VEVENT
DTSTART;TZID=America/Halifax:20251220T080000
DTEND;TZID=America/Halifax:20251220T110000
DTSTAMP:20260421T071618
CREATED:20251010T163902Z
LAST-MODIFIED:20251010T163902Z
UID:10016023-1766217600-1766228400@englewoodreview.com
SUMMARY:Englewood Mens Senior Softball
DESCRIPTION:Men’s Senior (60+) Softball\, Monday and Saturday 0800 – 1110. Adult Softball fields\, Englewood Sports Complex\, 1300 River Road.
URL:https://englewoodreview.com/event/englewood-mens-senior-softball/2025-12-20/
LOCATION:Englewood Sports Complex\, 1300 S. River Road\, Englewood\, FL\, 34223\, United States
END:VEVENT
BEGIN:VEVENT
DTSTART;TZID=America/Halifax:20251215T080000
DTEND;TZID=America/Halifax:20251215T110000
DTSTAMP:20260421T071618
CREATED:20251010T163902Z
LAST-MODIFIED:20251010T163902Z
UID:10016018-1765785600-1765796400@englewoodreview.com
SUMMARY:Englewood Mens Senior Softball
DESCRIPTION:Men’s Senior (60+) Softball\, Monday and Saturday 0800 – 1110. Adult Softball fields\, Englewood Sports Complex\, 1300 River Road.
URL:https://englewoodreview.com/event/englewood-mens-senior-softball/2025-12-15/
LOCATION:Englewood Sports Complex\, 1300 S. River Road\, Englewood\, FL\, 34223\, United States
END:VEVENT
BEGIN:VEVENT
DTSTART;TZID=America/Halifax:20251213T080000
DTEND;TZID=America/Halifax:20251213T110000
DTSTAMP:20260421T071618
CREATED:20251010T163902Z
LAST-MODIFIED:20251010T163902Z
UID:10016016-1765612800-1765623600@englewoodreview.com
SUMMARY:Englewood Mens Senior Softball
DESCRIPTION:Men’s Senior (60+) Softball\, Monday and Saturday 0800 – 1110. Adult Softball fields\, Englewood Sports Complex\, 1300 River Road.
URL:https://englewoodreview.com/event/englewood-mens-senior-softball/2025-12-13/
LOCATION:Englewood Sports Complex\, 1300 S. River Road\, Englewood\, FL\, 34223\, United States
END:VEVENT
BEGIN:VEVENT
DTSTART;TZID=America/Halifax:20251208T080000
DTEND;TZID=America/Halifax:20251208T110000
DTSTAMP:20260421T071618
CREATED:20251010T163902Z
LAST-MODIFIED:20251010T163902Z
UID:10016011-1765180800-1765191600@englewoodreview.com
SUMMARY:Englewood Mens Senior Softball
DESCRIPTION:Men’s Senior (60+) Softball\, Monday and Saturday 0800 – 1110. Adult Softball fields\, Englewood Sports Complex\, 1300 River Road.
URL:https://englewoodreview.com/event/englewood-mens-senior-softball/2025-12-08/
LOCATION:Englewood Sports Complex\, 1300 S. River Road\, Englewood\, FL\, 34223\, United States
END:VEVENT
BEGIN:VEVENT
DTSTART;TZID=America/Halifax:20251206T080000
DTEND;TZID=America/Halifax:20251206T110000
DTSTAMP:20260421T071618
CREATED:20251010T163902Z
LAST-MODIFIED:20251010T163902Z
UID:10016009-1765008000-1765018800@englewoodreview.com
SUMMARY:Englewood Mens Senior Softball
DESCRIPTION:Men’s Senior (60+) Softball\, Monday and Saturday 0800 – 1110. Adult Softball fields\, Englewood Sports Complex\, 1300 River Road.
URL:https://englewoodreview.com/event/englewood-mens-senior-softball/2025-12-06/
LOCATION:Englewood Sports Complex\, 1300 S. River Road\, Englewood\, FL\, 34223\, United States
END:VEVENT
BEGIN:VEVENT
DTSTART;TZID=America/Halifax:20251201T080000
DTEND;TZID=America/Halifax:20251201T110000
DTSTAMP:20260421T071618
CREATED:20251010T163902Z
LAST-MODIFIED:20251010T163902Z
UID:10016004-1764576000-1764586800@englewoodreview.com
SUMMARY:Englewood Mens Senior Softball
DESCRIPTION:Men’s Senior (60+) Softball\, Monday and Saturday 0800 – 1110. Adult Softball fields\, Englewood Sports Complex\, 1300 River Road.
URL:https://englewoodreview.com/event/englewood-mens-senior-softball/2025-12-01/
LOCATION:Englewood Sports Complex\, 1300 S. River Road\, Englewood\, FL\, 34223\, United States
END:VEVENT
BEGIN:VEVENT
DTSTART;TZID=America/Halifax:20251129T080000
DTEND;TZID=America/Halifax:20251129T110000
DTSTAMP:20260421T071618
CREATED:20251010T163902Z
LAST-MODIFIED:20251010T163902Z
UID:10016002-1764403200-1764414000@englewoodreview.com
SUMMARY:Englewood Mens Senior Softball
DESCRIPTION:Men’s Senior (60+) Softball\, Monday and Saturday 0800 – 1110. Adult Softball fields\, Englewood Sports Complex\, 1300 River Road.
URL:https://englewoodreview.com/event/englewood-mens-senior-softball/2025-11-29/
LOCATION:Englewood Sports Complex\, 1300 S. River Road\, Englewood\, FL\, 34223\, United States
END:VEVENT
BEGIN:VEVENT
DTSTART;TZID=America/Halifax:20251124T080000
DTEND;TZID=America/Halifax:20251124T110000
DTSTAMP:20260421T071618
CREATED:20251010T163902Z
LAST-MODIFIED:20251010T163902Z
UID:10015997-1763971200-1763982000@englewoodreview.com
SUMMARY:Englewood Mens Senior Softball
DESCRIPTION:Men’s Senior (60+) Softball\, Monday and Saturday 0800 – 1110. Adult Softball fields\, Englewood Sports Complex\, 1300 River Road.
URL:https://englewoodreview.com/event/englewood-mens-senior-softball/2025-11-24/
LOCATION:Englewood Sports Complex\, 1300 S. River Road\, Englewood\, FL\, 34223\, United States
END:VEVENT
BEGIN:VEVENT
DTSTART;TZID=America/Halifax:20251122T080000
DTEND;TZID=America/Halifax:20251122T110000
DTSTAMP:20260421T071618
CREATED:20251010T163902Z
LAST-MODIFIED:20251010T163902Z
UID:10015995-1763798400-1763809200@englewoodreview.com
SUMMARY:Englewood Mens Senior Softball
DESCRIPTION:Men’s Senior (60+) Softball\, Monday and Saturday 0800 – 1110. Adult Softball fields\, Englewood Sports Complex\, 1300 River Road.
URL:https://englewoodreview.com/event/englewood-mens-senior-softball/2025-11-22/
LOCATION:Englewood Sports Complex\, 1300 S. River Road\, Englewood\, FL\, 34223\, United States
END:VEVENT
BEGIN:VEVENT
DTSTART;TZID=America/Halifax:20251117T080000
DTEND;TZID=America/Halifax:20251117T110000
DTSTAMP:20260421T071618
CREATED:20251010T163902Z
LAST-MODIFIED:20251010T163902Z
UID:10015990-1763366400-1763377200@englewoodreview.com
SUMMARY:Englewood Mens Senior Softball
DESCRIPTION:Men’s Senior (60+) Softball\, Monday and Saturday 0800 – 1110. Adult Softball fields\, Englewood Sports Complex\, 1300 River Road.
URL:https://englewoodreview.com/event/englewood-mens-senior-softball/2025-11-17/
LOCATION:Englewood Sports Complex\, 1300 S. River Road\, Englewood\, FL\, 34223\, United States
END:VEVENT
BEGIN:VEVENT
DTSTART;TZID=America/Halifax:20251115T080000
DTEND;TZID=America/Halifax:20251115T110000
DTSTAMP:20260421T071618
CREATED:20251010T163902Z
LAST-MODIFIED:20251010T163902Z
UID:10015988-1763193600-1763204400@englewoodreview.com
SUMMARY:Englewood Mens Senior Softball
DESCRIPTION:Men’s Senior (60+) Softball\, Monday and Saturday 0800 – 1110. Adult Softball fields\, Englewood Sports Complex\, 1300 River Road.
URL:https://englewoodreview.com/event/englewood-mens-senior-softball/2025-11-15/
LOCATION:Englewood Sports Complex\, 1300 S. River Road\, Englewood\, FL\, 34223\, United States
END:VEVENT
BEGIN:VEVENT
DTSTART;TZID=America/Halifax:20251110T080000
DTEND;TZID=America/Halifax:20251110T110000
DTSTAMP:20260421T071618
CREATED:20251010T163902Z
LAST-MODIFIED:20251010T163902Z
UID:10015983-1762761600-1762772400@englewoodreview.com
SUMMARY:Englewood Mens Senior Softball
DESCRIPTION:Men’s Senior (60+) Softball\, Monday and Saturday 0800 – 1110. Adult Softball fields\, Englewood Sports Complex\, 1300 River Road.
URL:https://englewoodreview.com/event/englewood-mens-senior-softball/2025-11-10/
LOCATION:Englewood Sports Complex\, 1300 S. River Road\, Englewood\, FL\, 34223\, United States
END:VEVENT
BEGIN:VEVENT
DTSTART;TZID=America/Halifax:20251108T080000
DTEND;TZID=America/Halifax:20251108T110000
DTSTAMP:20260421T071618
CREATED:20251010T163902Z
LAST-MODIFIED:20251010T163902Z
UID:10015981-1762588800-1762599600@englewoodreview.com
SUMMARY:Englewood Mens Senior Softball
DESCRIPTION:Men’s Senior (60+) Softball\, Monday and Saturday 0800 – 1110. Adult Softball fields\, Englewood Sports Complex\, 1300 River Road.
URL:https://englewoodreview.com/event/englewood-mens-senior-softball/2025-11-08/
LOCATION:Englewood Sports Complex\, 1300 S. River Road\, Englewood\, FL\, 34223\, United States
END:VEVENT
BEGIN:VEVENT
DTSTART;TZID=America/Halifax:20251103T080000
DTEND;TZID=America/Halifax:20251103T110000
DTSTAMP:20260421T071618
CREATED:20251010T163902Z
LAST-MODIFIED:20251010T163902Z
UID:10015976-1762156800-1762167600@englewoodreview.com
SUMMARY:Englewood Mens Senior Softball
DESCRIPTION:Men’s Senior (60+) Softball\, Monday and Saturday 0800 – 1110. Adult Softball fields\, Englewood Sports Complex\, 1300 River Road.
URL:https://englewoodreview.com/event/englewood-mens-senior-softball/2025-11-03/
LOCATION:Englewood Sports Complex\, 1300 S. River Road\, Englewood\, FL\, 34223\, United States
END:VEVENT
BEGIN:VEVENT
DTSTART;TZID=America/Halifax:20251101T080000
DTEND;TZID=America/Halifax:20251101T110000
DTSTAMP:20260421T071618
CREATED:20251010T163902Z
LAST-MODIFIED:20251010T163902Z
UID:10015974-1761984000-1761994800@englewoodreview.com
SUMMARY:Englewood Mens Senior Softball
DESCRIPTION:Men’s Senior (60+) Softball\, Monday and Saturday 0800 – 1110. Adult Softball fields\, Englewood Sports Complex\, 1300 River Road.
URL:https://englewoodreview.com/event/englewood-mens-senior-softball/2025-11-01/
LOCATION:Englewood Sports Complex\, 1300 S. River Road\, Englewood\, FL\, 34223\, United States
END:VEVENT
BEGIN:VEVENT
DTSTART;TZID=America/Halifax:20251027T080000
DTEND;TZID=America/Halifax:20251027T110000
DTSTAMP:20260421T071618
CREATED:20251010T163902Z
LAST-MODIFIED:20251010T163902Z
UID:10015969-1761552000-1761562800@englewoodreview.com
SUMMARY:Englewood Mens Senior Softball
DESCRIPTION:Men’s Senior (60+) Softball\, Monday and Saturday 0800 – 1110. Adult Softball fields\, Englewood Sports Complex\, 1300 River Road.
URL:https://englewoodreview.com/event/englewood-mens-senior-softball/2025-10-27/
LOCATION:Englewood Sports Complex\, 1300 S. River Road\, Englewood\, FL\, 34223\, United States
END:VEVENT
BEGIN:VEVENT
DTSTART;TZID=America/Halifax:20251025T080000
DTEND;TZID=America/Halifax:20251025T110000
DTSTAMP:20260421T071618
CREATED:20251010T163902Z
LAST-MODIFIED:20251010T163902Z
UID:10015967-1761379200-1761390000@englewoodreview.com
SUMMARY:Englewood Mens Senior Softball
DESCRIPTION:Men’s Senior (60+) Softball\, Monday and Saturday 0800 – 1110. Adult Softball fields\, Englewood Sports Complex\, 1300 River Road.
URL:https://englewoodreview.com/event/englewood-mens-senior-softball/2025-10-25/
LOCATION:Englewood Sports Complex\, 1300 S. River Road\, Englewood\, FL\, 34223\, United States
END:VEVENT
BEGIN:VEVENT
DTSTART;TZID=America/Halifax:20251020T080000
DTEND;TZID=America/Halifax:20251020T110000
DTSTAMP:20260421T071618
CREATED:20251010T163902Z
LAST-MODIFIED:20251010T163902Z
UID:10015962-1760947200-1760958000@englewoodreview.com
SUMMARY:Englewood Mens Senior Softball
DESCRIPTION:Men’s Senior (60+) Softball\, Monday and Saturday 0800 – 1110. Adult Softball fields\, Englewood Sports Complex\, 1300 River Road.
URL:https://englewoodreview.com/event/englewood-mens-senior-softball/2025-10-20/
LOCATION:Englewood Sports Complex\, 1300 S. River Road\, Englewood\, FL\, 34223\, United States
END:VEVENT
BEGIN:VEVENT
DTSTART;TZID=America/Halifax:20251018T080000
DTEND;TZID=America/Halifax:20251018T110000
DTSTAMP:20260421T071618
CREATED:20251010T163902Z
LAST-MODIFIED:20251010T163902Z
UID:10015960-1760774400-1760785200@englewoodreview.com
SUMMARY:Englewood Mens Senior Softball
DESCRIPTION:Men’s Senior (60+) Softball\, Monday and Saturday 0800 – 1110. Adult Softball fields\, Englewood Sports Complex\, 1300 River Road.
URL:https://englewoodreview.com/event/englewood-mens-senior-softball/2025-10-18/
LOCATION:Englewood Sports Complex\, 1300 S. River Road\, Englewood\, FL\, 34223\, United States
END:VEVENT
BEGIN:VEVENT
DTSTART;TZID=America/Halifax:20251013T080000
DTEND;TZID=America/Halifax:20251013T110000
DTSTAMP:20260421T071618
CREATED:20251010T163902Z
LAST-MODIFIED:20251010T163902Z
UID:10015955-1760342400-1760353200@englewoodreview.com
SUMMARY:Englewood Mens Senior Softball
DESCRIPTION:Men’s Senior (60+) Softball\, Monday and Saturday 0800 – 1110. Adult Softball fields\, Englewood Sports Complex\, 1300 River Road.
URL:https://englewoodreview.com/event/englewood-mens-senior-softball/2025-10-13/
LOCATION:Englewood Sports Complex\, 1300 S. River Road\, Englewood\, FL\, 34223\, United States
END:VEVENT
BEGIN:VEVENT
DTSTART;TZID=America/Halifax:20251011T080000
DTEND;TZID=America/Halifax:20251011T110000
DTSTAMP:20260421T071618
CREATED:20251010T163902Z
LAST-MODIFIED:20251010T163902Z
UID:10015953-1760169600-1760180400@englewoodreview.com
SUMMARY:Englewood Mens Senior Softball
DESCRIPTION:Men’s Senior (60+) Softball\, Monday and Saturday 0800 – 1110. Adult Softball fields\, Englewood Sports Complex\, 1300 River Road.
URL:https://englewoodreview.com/event/englewood-mens-senior-softball/2025-10-11/
LOCATION:Englewood Sports Complex\, 1300 S. River Road\, Englewood\, FL\, 34223\, United States
END:VEVENT
END:VCALENDAR