BEGIN:VCALENDAR
VERSION:2.0
PRODID:-//Englewood Review - ECPv6.15.15//NONSGML v1.0//EN
CALSCALE:GREGORIAN
METHOD:PUBLISH
X-ORIGINAL-URL:https://englewoodreview.com
X-WR-CALDESC:Events for Englewood Review
REFRESH-INTERVAL;VALUE=DURATION:PT1H
X-Robots-Tag:noindex
X-PUBLISHED-TTL:PT1H
BEGIN:VTIMEZONE
TZID:America/Halifax
BEGIN:DAYLIGHT
TZOFFSETFROM:-0400
TZOFFSETTO:-0300
TZNAME:ADT
DTSTART:20260308T060000
END:DAYLIGHT
BEGIN:STANDARD
TZOFFSETFROM:-0300
TZOFFSETTO:-0400
TZNAME:AST
DTSTART:20261101T050000
END:STANDARD
BEGIN:DAYLIGHT
TZOFFSETFROM:-0400
TZOFFSETTO:-0300
TZNAME:ADT
DTSTART:20270314T060000
END:DAYLIGHT
BEGIN:STANDARD
TZOFFSETFROM:-0300
TZOFFSETTO:-0400
TZNAME:AST
DTSTART:20271107T050000
END:STANDARD
BEGIN:DAYLIGHT
TZOFFSETFROM:-0400
TZOFFSETTO:-0300
TZNAME:ADT
DTSTART:20280312T060000
END:DAYLIGHT
BEGIN:STANDARD
TZOFFSETFROM:-0300
TZOFFSETTO:-0400
TZNAME:AST
DTSTART:20281105T050000
END:STANDARD
END:VTIMEZONE
BEGIN:VEVENT
DTSTART;TZID=America/Halifax:20270401T180000
DTEND;TZID=America/Halifax:20270401T200000
DTSTAMP:20260421T203457
CREATED:20251105T195414Z
LAST-MODIFIED:20251105T195414Z
UID:10021313-1806602400-1806609600@englewoodreview.com
SUMMARY:Healing Strong
DESCRIPTION:Group of people coming together to discuss natural\, non-toxic strategies to heal from cancer\, or other chronic diseases. Free support group.
URL:https://englewoodreview.com/event/healing-strong/2027-04-01/
LOCATION:Epic Community Resource Center\, 697 Old Englewood Rd\, Englewood\, 34223
END:VEVENT
BEGIN:VEVENT
DTSTART;TZID=America/Halifax:20270406T100000
DTEND;TZID=America/Halifax:20270406T120000
DTSTAMP:20260421T203457
CREATED:20251223T161924Z
LAST-MODIFIED:20260130T162241Z
UID:10023602-1807005600-1807012800@englewoodreview.com
SUMMARY:EPIC Bike Clinic
DESCRIPTION:Everyone is Welcome! Come repair your bike for free! Tools and parts provided. Come repair your bike with assistance from maintenance advisors!\nFirst Tuesday of every month from 10am-noon at EPIC Community Resource Center 697 Old Englewood Rd. Englewood. \n*No eBikes
URL:https://englewoodreview.com/event/epic-bike-clinic/2027-04-06/
LOCATION:Epic Community Resource Center\, 697 Old Englewood Rd\, Englewood\, 34223
ATTACH;FMTTYPE=image/png:https://englewoodreview.com/wp-content/uploads/2025/12/Facebook-EPIC-Bike-Clinic-1000-x-980-px.png
END:VEVENT
BEGIN:VEVENT
DTSTART;TZID=America/Halifax:20270408T180000
DTEND;TZID=America/Halifax:20270408T200000
DTSTAMP:20260421T203457
CREATED:20251105T195414Z
LAST-MODIFIED:20251105T195414Z
UID:10021314-1807207200-1807214400@englewoodreview.com
SUMMARY:Healing Strong
DESCRIPTION:Group of people coming together to discuss natural\, non-toxic strategies to heal from cancer\, or other chronic diseases. Free support group.
URL:https://englewoodreview.com/event/healing-strong/2027-04-08/
LOCATION:Epic Community Resource Center\, 697 Old Englewood Rd\, Englewood\, 34223
END:VEVENT
BEGIN:VEVENT
DTSTART;TZID=America/Halifax:20270415T180000
DTEND;TZID=America/Halifax:20270415T200000
DTSTAMP:20260421T203457
CREATED:20251105T195414Z
LAST-MODIFIED:20251105T195414Z
UID:10021315-1807812000-1807819200@englewoodreview.com
SUMMARY:Healing Strong
DESCRIPTION:Group of people coming together to discuss natural\, non-toxic strategies to heal from cancer\, or other chronic diseases. Free support group.
URL:https://englewoodreview.com/event/healing-strong/2027-04-15/
LOCATION:Epic Community Resource Center\, 697 Old Englewood Rd\, Englewood\, 34223
END:VEVENT
BEGIN:VEVENT
DTSTART;TZID=America/Halifax:20270422T180000
DTEND;TZID=America/Halifax:20270422T200000
DTSTAMP:20260421T203457
CREATED:20251105T195414Z
LAST-MODIFIED:20251105T195414Z
UID:10021316-1808416800-1808424000@englewoodreview.com
SUMMARY:Healing Strong
DESCRIPTION:Group of people coming together to discuss natural\, non-toxic strategies to heal from cancer\, or other chronic diseases. Free support group.
URL:https://englewoodreview.com/event/healing-strong/2027-04-22/
LOCATION:Epic Community Resource Center\, 697 Old Englewood Rd\, Englewood\, 34223
END:VEVENT
BEGIN:VEVENT
DTSTART;TZID=America/Halifax:20270429T180000
DTEND;TZID=America/Halifax:20270429T200000
DTSTAMP:20260421T203457
CREATED:20251105T195414Z
LAST-MODIFIED:20251105T195414Z
UID:10021317-1809021600-1809028800@englewoodreview.com
SUMMARY:Healing Strong
DESCRIPTION:Group of people coming together to discuss natural\, non-toxic strategies to heal from cancer\, or other chronic diseases. Free support group.
URL:https://englewoodreview.com/event/healing-strong/2027-04-29/
LOCATION:Epic Community Resource Center\, 697 Old Englewood Rd\, Englewood\, 34223
END:VEVENT
BEGIN:VEVENT
DTSTART;TZID=America/Halifax:20270504T100000
DTEND;TZID=America/Halifax:20270504T120000
DTSTAMP:20260421T203457
CREATED:20251223T161924Z
LAST-MODIFIED:20260130T162241Z
UID:10023603-1809424800-1809432000@englewoodreview.com
SUMMARY:EPIC Bike Clinic
DESCRIPTION:Everyone is Welcome! Come repair your bike for free! Tools and parts provided. Come repair your bike with assistance from maintenance advisors!\nFirst Tuesday of every month from 10am-noon at EPIC Community Resource Center 697 Old Englewood Rd. Englewood. \n*No eBikes
URL:https://englewoodreview.com/event/epic-bike-clinic/2027-05-04/
LOCATION:Epic Community Resource Center\, 697 Old Englewood Rd\, Englewood\, 34223
ATTACH;FMTTYPE=image/png:https://englewoodreview.com/wp-content/uploads/2025/12/Facebook-EPIC-Bike-Clinic-1000-x-980-px.png
END:VEVENT
BEGIN:VEVENT
DTSTART;TZID=America/Halifax:20270506T180000
DTEND;TZID=America/Halifax:20270506T200000
DTSTAMP:20260421T203457
CREATED:20251105T195414Z
LAST-MODIFIED:20251105T195414Z
UID:10021318-1809626400-1809633600@englewoodreview.com
SUMMARY:Healing Strong
DESCRIPTION:Group of people coming together to discuss natural\, non-toxic strategies to heal from cancer\, or other chronic diseases. Free support group.
URL:https://englewoodreview.com/event/healing-strong/2027-05-06/
LOCATION:Epic Community Resource Center\, 697 Old Englewood Rd\, Englewood\, 34223
END:VEVENT
BEGIN:VEVENT
DTSTART;TZID=America/Halifax:20270513T180000
DTEND;TZID=America/Halifax:20270513T200000
DTSTAMP:20260421T203457
CREATED:20251105T195414Z
LAST-MODIFIED:20251105T195414Z
UID:10021319-1810231200-1810238400@englewoodreview.com
SUMMARY:Healing Strong
DESCRIPTION:Group of people coming together to discuss natural\, non-toxic strategies to heal from cancer\, or other chronic diseases. Free support group.
URL:https://englewoodreview.com/event/healing-strong/2027-05-13/
LOCATION:Epic Community Resource Center\, 697 Old Englewood Rd\, Englewood\, 34223
END:VEVENT
BEGIN:VEVENT
DTSTART;TZID=America/Halifax:20270520T180000
DTEND;TZID=America/Halifax:20270520T200000
DTSTAMP:20260421T203457
CREATED:20251105T195414Z
LAST-MODIFIED:20251105T195414Z
UID:10021320-1810836000-1810843200@englewoodreview.com
SUMMARY:Healing Strong
DESCRIPTION:Group of people coming together to discuss natural\, non-toxic strategies to heal from cancer\, or other chronic diseases. Free support group.
URL:https://englewoodreview.com/event/healing-strong/2027-05-20/
LOCATION:Epic Community Resource Center\, 697 Old Englewood Rd\, Englewood\, 34223
END:VEVENT
BEGIN:VEVENT
DTSTART;TZID=America/Halifax:20270527T180000
DTEND;TZID=America/Halifax:20270527T200000
DTSTAMP:20260421T203457
CREATED:20251105T195414Z
LAST-MODIFIED:20251105T195414Z
UID:10021321-1811440800-1811448000@englewoodreview.com
SUMMARY:Healing Strong
DESCRIPTION:Group of people coming together to discuss natural\, non-toxic strategies to heal from cancer\, or other chronic diseases. Free support group.
URL:https://englewoodreview.com/event/healing-strong/2027-05-27/
LOCATION:Epic Community Resource Center\, 697 Old Englewood Rd\, Englewood\, 34223
END:VEVENT
BEGIN:VEVENT
DTSTART;TZID=America/Halifax:20270601T100000
DTEND;TZID=America/Halifax:20270601T120000
DTSTAMP:20260421T203457
CREATED:20251223T161924Z
LAST-MODIFIED:20260130T162241Z
UID:10023604-1811844000-1811851200@englewoodreview.com
SUMMARY:EPIC Bike Clinic
DESCRIPTION:Everyone is Welcome! Come repair your bike for free! Tools and parts provided. Come repair your bike with assistance from maintenance advisors!\nFirst Tuesday of every month from 10am-noon at EPIC Community Resource Center 697 Old Englewood Rd. Englewood. \n*No eBikes
URL:https://englewoodreview.com/event/epic-bike-clinic/2027-06-01/
LOCATION:Epic Community Resource Center\, 697 Old Englewood Rd\, Englewood\, 34223
ATTACH;FMTTYPE=image/png:https://englewoodreview.com/wp-content/uploads/2025/12/Facebook-EPIC-Bike-Clinic-1000-x-980-px.png
END:VEVENT
BEGIN:VEVENT
DTSTART;TZID=America/Halifax:20270603T180000
DTEND;TZID=America/Halifax:20270603T200000
DTSTAMP:20260421T203457
CREATED:20251105T195414Z
LAST-MODIFIED:20251105T195414Z
UID:10021322-1812045600-1812052800@englewoodreview.com
SUMMARY:Healing Strong
DESCRIPTION:Group of people coming together to discuss natural\, non-toxic strategies to heal from cancer\, or other chronic diseases. Free support group.
URL:https://englewoodreview.com/event/healing-strong/2027-06-03/
LOCATION:Epic Community Resource Center\, 697 Old Englewood Rd\, Englewood\, 34223
END:VEVENT
BEGIN:VEVENT
DTSTART;TZID=America/Halifax:20270610T180000
DTEND;TZID=America/Halifax:20270610T200000
DTSTAMP:20260421T203457
CREATED:20251105T195414Z
LAST-MODIFIED:20251105T195414Z
UID:10021323-1812650400-1812657600@englewoodreview.com
SUMMARY:Healing Strong
DESCRIPTION:Group of people coming together to discuss natural\, non-toxic strategies to heal from cancer\, or other chronic diseases. Free support group.
URL:https://englewoodreview.com/event/healing-strong/2027-06-10/
LOCATION:Epic Community Resource Center\, 697 Old Englewood Rd\, Englewood\, 34223
END:VEVENT
BEGIN:VEVENT
DTSTART;TZID=America/Halifax:20270617T180000
DTEND;TZID=America/Halifax:20270617T200000
DTSTAMP:20260421T203457
CREATED:20251105T195414Z
LAST-MODIFIED:20251105T195414Z
UID:10021324-1813255200-1813262400@englewoodreview.com
SUMMARY:Healing Strong
DESCRIPTION:Group of people coming together to discuss natural\, non-toxic strategies to heal from cancer\, or other chronic diseases. Free support group.
URL:https://englewoodreview.com/event/healing-strong/2027-06-17/
LOCATION:Epic Community Resource Center\, 697 Old Englewood Rd\, Englewood\, 34223
END:VEVENT
BEGIN:VEVENT
DTSTART;TZID=America/Halifax:20270624T180000
DTEND;TZID=America/Halifax:20270624T200000
DTSTAMP:20260421T203457
CREATED:20251105T195414Z
LAST-MODIFIED:20251105T195414Z
UID:10021325-1813860000-1813867200@englewoodreview.com
SUMMARY:Healing Strong
DESCRIPTION:Group of people coming together to discuss natural\, non-toxic strategies to heal from cancer\, or other chronic diseases. Free support group.
URL:https://englewoodreview.com/event/healing-strong/2027-06-24/
LOCATION:Epic Community Resource Center\, 697 Old Englewood Rd\, Englewood\, 34223
END:VEVENT
BEGIN:VEVENT
DTSTART;TZID=America/Halifax:20270701T180000
DTEND;TZID=America/Halifax:20270701T200000
DTSTAMP:20260421T203457
CREATED:20251105T195414Z
LAST-MODIFIED:20251105T195414Z
UID:10021326-1814464800-1814472000@englewoodreview.com
SUMMARY:Healing Strong
DESCRIPTION:Group of people coming together to discuss natural\, non-toxic strategies to heal from cancer\, or other chronic diseases. Free support group.
URL:https://englewoodreview.com/event/healing-strong/2027-07-01/
LOCATION:Epic Community Resource Center\, 697 Old Englewood Rd\, Englewood\, 34223
END:VEVENT
BEGIN:VEVENT
DTSTART;TZID=America/Halifax:20270706T100000
DTEND;TZID=America/Halifax:20270706T120000
DTSTAMP:20260421T203457
CREATED:20251223T161924Z
LAST-MODIFIED:20260130T162241Z
UID:10023605-1814868000-1814875200@englewoodreview.com
SUMMARY:EPIC Bike Clinic
DESCRIPTION:Everyone is Welcome! Come repair your bike for free! Tools and parts provided. Come repair your bike with assistance from maintenance advisors!\nFirst Tuesday of every month from 10am-noon at EPIC Community Resource Center 697 Old Englewood Rd. Englewood. \n*No eBikes
URL:https://englewoodreview.com/event/epic-bike-clinic/2027-07-06/
LOCATION:Epic Community Resource Center\, 697 Old Englewood Rd\, Englewood\, 34223
ATTACH;FMTTYPE=image/png:https://englewoodreview.com/wp-content/uploads/2025/12/Facebook-EPIC-Bike-Clinic-1000-x-980-px.png
END:VEVENT
BEGIN:VEVENT
DTSTART;TZID=America/Halifax:20270708T180000
DTEND;TZID=America/Halifax:20270708T200000
DTSTAMP:20260421T203457
CREATED:20251105T195414Z
LAST-MODIFIED:20251105T195414Z
UID:10021327-1815069600-1815076800@englewoodreview.com
SUMMARY:Healing Strong
DESCRIPTION:Group of people coming together to discuss natural\, non-toxic strategies to heal from cancer\, or other chronic diseases. Free support group.
URL:https://englewoodreview.com/event/healing-strong/2027-07-08/
LOCATION:Epic Community Resource Center\, 697 Old Englewood Rd\, Englewood\, 34223
END:VEVENT
BEGIN:VEVENT
DTSTART;TZID=America/Halifax:20270715T180000
DTEND;TZID=America/Halifax:20270715T200000
DTSTAMP:20260421T203457
CREATED:20251105T195414Z
LAST-MODIFIED:20251105T195414Z
UID:10021328-1815674400-1815681600@englewoodreview.com
SUMMARY:Healing Strong
DESCRIPTION:Group of people coming together to discuss natural\, non-toxic strategies to heal from cancer\, or other chronic diseases. Free support group.
URL:https://englewoodreview.com/event/healing-strong/2027-07-15/
LOCATION:Epic Community Resource Center\, 697 Old Englewood Rd\, Englewood\, 34223
END:VEVENT
BEGIN:VEVENT
DTSTART;TZID=America/Halifax:20270722T180000
DTEND;TZID=America/Halifax:20270722T200000
DTSTAMP:20260421T203457
CREATED:20251105T195414Z
LAST-MODIFIED:20251105T195414Z
UID:10021329-1816279200-1816286400@englewoodreview.com
SUMMARY:Healing Strong
DESCRIPTION:Group of people coming together to discuss natural\, non-toxic strategies to heal from cancer\, or other chronic diseases. Free support group.
URL:https://englewoodreview.com/event/healing-strong/2027-07-22/
LOCATION:Epic Community Resource Center\, 697 Old Englewood Rd\, Englewood\, 34223
END:VEVENT
BEGIN:VEVENT
DTSTART;TZID=America/Halifax:20270729T180000
DTEND;TZID=America/Halifax:20270729T200000
DTSTAMP:20260421T203457
CREATED:20251105T195414Z
LAST-MODIFIED:20251105T195414Z
UID:10021330-1816884000-1816891200@englewoodreview.com
SUMMARY:Healing Strong
DESCRIPTION:Group of people coming together to discuss natural\, non-toxic strategies to heal from cancer\, or other chronic diseases. Free support group.
URL:https://englewoodreview.com/event/healing-strong/2027-07-29/
LOCATION:Epic Community Resource Center\, 697 Old Englewood Rd\, Englewood\, 34223
END:VEVENT
BEGIN:VEVENT
DTSTART;TZID=America/Halifax:20270803T100000
DTEND;TZID=America/Halifax:20270803T120000
DTSTAMP:20260421T203457
CREATED:20251223T161924Z
LAST-MODIFIED:20260130T162241Z
UID:10023606-1817287200-1817294400@englewoodreview.com
SUMMARY:EPIC Bike Clinic
DESCRIPTION:Everyone is Welcome! Come repair your bike for free! Tools and parts provided. Come repair your bike with assistance from maintenance advisors!\nFirst Tuesday of every month from 10am-noon at EPIC Community Resource Center 697 Old Englewood Rd. Englewood. \n*No eBikes
URL:https://englewoodreview.com/event/epic-bike-clinic/2027-08-03/
LOCATION:Epic Community Resource Center\, 697 Old Englewood Rd\, Englewood\, 34223
ATTACH;FMTTYPE=image/png:https://englewoodreview.com/wp-content/uploads/2025/12/Facebook-EPIC-Bike-Clinic-1000-x-980-px.png
END:VEVENT
BEGIN:VEVENT
DTSTART;TZID=America/Halifax:20270805T180000
DTEND;TZID=America/Halifax:20270805T200000
DTSTAMP:20260421T203457
CREATED:20251105T195414Z
LAST-MODIFIED:20251105T195414Z
UID:10021331-1817488800-1817496000@englewoodreview.com
SUMMARY:Healing Strong
DESCRIPTION:Group of people coming together to discuss natural\, non-toxic strategies to heal from cancer\, or other chronic diseases. Free support group.
URL:https://englewoodreview.com/event/healing-strong/2027-08-05/
LOCATION:Epic Community Resource Center\, 697 Old Englewood Rd\, Englewood\, 34223
END:VEVENT
BEGIN:VEVENT
DTSTART;TZID=America/Halifax:20270812T180000
DTEND;TZID=America/Halifax:20270812T200000
DTSTAMP:20260421T203457
CREATED:20251105T195414Z
LAST-MODIFIED:20251105T195414Z
UID:10021332-1818093600-1818100800@englewoodreview.com
SUMMARY:Healing Strong
DESCRIPTION:Group of people coming together to discuss natural\, non-toxic strategies to heal from cancer\, or other chronic diseases. Free support group.
URL:https://englewoodreview.com/event/healing-strong/2027-08-12/
LOCATION:Epic Community Resource Center\, 697 Old Englewood Rd\, Englewood\, 34223
END:VEVENT
BEGIN:VEVENT
DTSTART;TZID=America/Halifax:20270819T180000
DTEND;TZID=America/Halifax:20270819T200000
DTSTAMP:20260421T203457
CREATED:20251105T195414Z
LAST-MODIFIED:20251105T195414Z
UID:10021333-1818698400-1818705600@englewoodreview.com
SUMMARY:Healing Strong
DESCRIPTION:Group of people coming together to discuss natural\, non-toxic strategies to heal from cancer\, or other chronic diseases. Free support group.
URL:https://englewoodreview.com/event/healing-strong/2027-08-19/
LOCATION:Epic Community Resource Center\, 697 Old Englewood Rd\, Englewood\, 34223
END:VEVENT
BEGIN:VEVENT
DTSTART;TZID=America/Halifax:20270826T180000
DTEND;TZID=America/Halifax:20270826T200000
DTSTAMP:20260421T203457
CREATED:20251105T195414Z
LAST-MODIFIED:20251105T195414Z
UID:10021334-1819303200-1819310400@englewoodreview.com
SUMMARY:Healing Strong
DESCRIPTION:Group of people coming together to discuss natural\, non-toxic strategies to heal from cancer\, or other chronic diseases. Free support group.
URL:https://englewoodreview.com/event/healing-strong/2027-08-26/
LOCATION:Epic Community Resource Center\, 697 Old Englewood Rd\, Englewood\, 34223
END:VEVENT
BEGIN:VEVENT
DTSTART;TZID=America/Halifax:20270902T180000
DTEND;TZID=America/Halifax:20270902T200000
DTSTAMP:20260421T203457
CREATED:20251105T195414Z
LAST-MODIFIED:20251105T195414Z
UID:10021335-1819908000-1819915200@englewoodreview.com
SUMMARY:Healing Strong
DESCRIPTION:Group of people coming together to discuss natural\, non-toxic strategies to heal from cancer\, or other chronic diseases. Free support group.
URL:https://englewoodreview.com/event/healing-strong/2027-09-02/
LOCATION:Epic Community Resource Center\, 697 Old Englewood Rd\, Englewood\, 34223
END:VEVENT
BEGIN:VEVENT
DTSTART;TZID=America/Halifax:20270907T100000
DTEND;TZID=America/Halifax:20270907T120000
DTSTAMP:20260421T203457
CREATED:20251223T161924Z
LAST-MODIFIED:20260130T162241Z
UID:10023607-1820311200-1820318400@englewoodreview.com
SUMMARY:EPIC Bike Clinic
DESCRIPTION:Everyone is Welcome! Come repair your bike for free! Tools and parts provided. Come repair your bike with assistance from maintenance advisors!\nFirst Tuesday of every month from 10am-noon at EPIC Community Resource Center 697 Old Englewood Rd. Englewood. \n*No eBikes
URL:https://englewoodreview.com/event/epic-bike-clinic/2027-09-07/
LOCATION:Epic Community Resource Center\, 697 Old Englewood Rd\, Englewood\, 34223
ATTACH;FMTTYPE=image/png:https://englewoodreview.com/wp-content/uploads/2025/12/Facebook-EPIC-Bike-Clinic-1000-x-980-px.png
END:VEVENT
BEGIN:VEVENT
DTSTART;TZID=America/Halifax:20270909T180000
DTEND;TZID=America/Halifax:20270909T200000
DTSTAMP:20260421T203457
CREATED:20251105T195414Z
LAST-MODIFIED:20251105T195414Z
UID:10021336-1820512800-1820520000@englewoodreview.com
SUMMARY:Healing Strong
DESCRIPTION:Group of people coming together to discuss natural\, non-toxic strategies to heal from cancer\, or other chronic diseases. Free support group.
URL:https://englewoodreview.com/event/healing-strong/2027-09-09/
LOCATION:Epic Community Resource Center\, 697 Old Englewood Rd\, Englewood\, 34223
END:VEVENT
END:VCALENDAR