BEGIN:VCALENDAR
VERSION:2.0
PRODID:-//Englewood Review - ECPv6.15.15//NONSGML v1.0//EN
CALSCALE:GREGORIAN
METHOD:PUBLISH
X-ORIGINAL-URL:https://englewoodreview.com
X-WR-CALDESC:Events for Englewood Review
REFRESH-INTERVAL;VALUE=DURATION:PT1H
X-Robots-Tag:noindex
X-PUBLISHED-TTL:PT1H
BEGIN:VTIMEZONE
TZID:America/Halifax
BEGIN:DAYLIGHT
TZOFFSETFROM:-0400
TZOFFSETTO:-0300
TZNAME:ADT
DTSTART:20260308T060000
END:DAYLIGHT
BEGIN:STANDARD
TZOFFSETFROM:-0300
TZOFFSETTO:-0400
TZNAME:AST
DTSTART:20261101T050000
END:STANDARD
BEGIN:DAYLIGHT
TZOFFSETFROM:-0400
TZOFFSETTO:-0300
TZNAME:ADT
DTSTART:20270314T060000
END:DAYLIGHT
BEGIN:STANDARD
TZOFFSETFROM:-0300
TZOFFSETTO:-0400
TZNAME:AST
DTSTART:20271107T050000
END:STANDARD
BEGIN:DAYLIGHT
TZOFFSETFROM:-0400
TZOFFSETTO:-0300
TZNAME:ADT
DTSTART:20280312T060000
END:DAYLIGHT
BEGIN:STANDARD
TZOFFSETFROM:-0300
TZOFFSETTO:-0400
TZNAME:AST
DTSTART:20281105T050000
END:STANDARD
BEGIN:DAYLIGHT
TZOFFSETFROM:-0400
TZOFFSETTO:-0300
TZNAME:ADT
DTSTART:20290311T060000
END:DAYLIGHT
BEGIN:STANDARD
TZOFFSETFROM:-0300
TZOFFSETTO:-0400
TZNAME:AST
DTSTART:20291104T050000
END:STANDARD
END:VTIMEZONE
BEGIN:VEVENT
DTSTART;TZID=America/Halifax:20271021T180000
DTEND;TZID=America/Halifax:20271021T200000
DTSTAMP:20260422T020005
CREATED:20251105T195414Z
LAST-MODIFIED:20251105T195414Z
UID:10021342-1824141600-1824148800@englewoodreview.com
SUMMARY:Healing Strong
DESCRIPTION:Group of people coming together to discuss natural\, non-toxic strategies to heal from cancer\, or other chronic diseases. Free support group.
URL:https://englewoodreview.com/event/healing-strong/2027-10-21/
LOCATION:Epic Community Resource Center\, 697 Old Englewood Rd\, Englewood\, 34223
END:VEVENT
BEGIN:VEVENT
DTSTART;TZID=America/Halifax:20271028T180000
DTEND;TZID=America/Halifax:20271028T200000
DTSTAMP:20260422T020005
CREATED:20251105T195414Z
LAST-MODIFIED:20251105T195414Z
UID:10021343-1824746400-1824753600@englewoodreview.com
SUMMARY:Healing Strong
DESCRIPTION:Group of people coming together to discuss natural\, non-toxic strategies to heal from cancer\, or other chronic diseases. Free support group.
URL:https://englewoodreview.com/event/healing-strong/2027-10-28/
LOCATION:Epic Community Resource Center\, 697 Old Englewood Rd\, Englewood\, 34223
END:VEVENT
BEGIN:VEVENT
DTSTART;TZID=America/Halifax:20271102T100000
DTEND;TZID=America/Halifax:20271102T120000
DTSTAMP:20260422T020005
CREATED:20251223T161924Z
LAST-MODIFIED:20260130T162241Z
UID:10023609-1825149600-1825156800@englewoodreview.com
SUMMARY:EPIC Bike Clinic
DESCRIPTION:Everyone is Welcome! Come repair your bike for free! Tools and parts provided. Come repair your bike with assistance from maintenance advisors!\nFirst Tuesday of every month from 10am-noon at EPIC Community Resource Center 697 Old Englewood Rd. Englewood. \n*No eBikes
URL:https://englewoodreview.com/event/epic-bike-clinic/2027-11-02/
LOCATION:Epic Community Resource Center\, 697 Old Englewood Rd\, Englewood\, 34223
ATTACH;FMTTYPE=image/png:https://englewoodreview.com/wp-content/uploads/2025/12/Facebook-EPIC-Bike-Clinic-1000-x-980-px.png
END:VEVENT
BEGIN:VEVENT
DTSTART;TZID=America/Halifax:20271104T180000
DTEND;TZID=America/Halifax:20271104T200000
DTSTAMP:20260422T020005
CREATED:20251105T195414Z
LAST-MODIFIED:20251105T195414Z
UID:10021344-1825351200-1825358400@englewoodreview.com
SUMMARY:Healing Strong
DESCRIPTION:Group of people coming together to discuss natural\, non-toxic strategies to heal from cancer\, or other chronic diseases. Free support group.
URL:https://englewoodreview.com/event/healing-strong/2027-11-04/
LOCATION:Epic Community Resource Center\, 697 Old Englewood Rd\, Englewood\, 34223
END:VEVENT
BEGIN:VEVENT
DTSTART;TZID=America/Halifax:20271111T180000
DTEND;TZID=America/Halifax:20271111T200000
DTSTAMP:20260422T020005
CREATED:20251105T195414Z
LAST-MODIFIED:20251105T195414Z
UID:10021345-1825956000-1825963200@englewoodreview.com
SUMMARY:Healing Strong
DESCRIPTION:Group of people coming together to discuss natural\, non-toxic strategies to heal from cancer\, or other chronic diseases. Free support group.
URL:https://englewoodreview.com/event/healing-strong/2027-11-11/
LOCATION:Epic Community Resource Center\, 697 Old Englewood Rd\, Englewood\, 34223
END:VEVENT
BEGIN:VEVENT
DTSTART;TZID=America/Halifax:20271118T180000
DTEND;TZID=America/Halifax:20271118T200000
DTSTAMP:20260422T020005
CREATED:20251105T195414Z
LAST-MODIFIED:20251105T195414Z
UID:10021346-1826560800-1826568000@englewoodreview.com
SUMMARY:Healing Strong
DESCRIPTION:Group of people coming together to discuss natural\, non-toxic strategies to heal from cancer\, or other chronic diseases. Free support group.
URL:https://englewoodreview.com/event/healing-strong/2027-11-18/
LOCATION:Epic Community Resource Center\, 697 Old Englewood Rd\, Englewood\, 34223
END:VEVENT
BEGIN:VEVENT
DTSTART;TZID=America/Halifax:20271125T180000
DTEND;TZID=America/Halifax:20271125T200000
DTSTAMP:20260422T020005
CREATED:20251105T195414Z
LAST-MODIFIED:20251105T195414Z
UID:10021347-1827165600-1827172800@englewoodreview.com
SUMMARY:Healing Strong
DESCRIPTION:Group of people coming together to discuss natural\, non-toxic strategies to heal from cancer\, or other chronic diseases. Free support group.
URL:https://englewoodreview.com/event/healing-strong/2027-11-25/
LOCATION:Epic Community Resource Center\, 697 Old Englewood Rd\, Englewood\, 34223
END:VEVENT
BEGIN:VEVENT
DTSTART;TZID=America/Halifax:20271202T180000
DTEND;TZID=America/Halifax:20271202T200000
DTSTAMP:20260422T020005
CREATED:20251105T195414Z
LAST-MODIFIED:20251105T195414Z
UID:10021348-1827770400-1827777600@englewoodreview.com
SUMMARY:Healing Strong
DESCRIPTION:Group of people coming together to discuss natural\, non-toxic strategies to heal from cancer\, or other chronic diseases. Free support group.
URL:https://englewoodreview.com/event/healing-strong/2027-12-02/
LOCATION:Epic Community Resource Center\, 697 Old Englewood Rd\, Englewood\, 34223
END:VEVENT
BEGIN:VEVENT
DTSTART;TZID=America/Halifax:20271207T100000
DTEND;TZID=America/Halifax:20271207T120000
DTSTAMP:20260422T020005
CREATED:20251223T161924Z
LAST-MODIFIED:20260130T162241Z
UID:10023610-1828173600-1828180800@englewoodreview.com
SUMMARY:EPIC Bike Clinic
DESCRIPTION:Everyone is Welcome! Come repair your bike for free! Tools and parts provided. Come repair your bike with assistance from maintenance advisors!\nFirst Tuesday of every month from 10am-noon at EPIC Community Resource Center 697 Old Englewood Rd. Englewood. \n*No eBikes
URL:https://englewoodreview.com/event/epic-bike-clinic/2027-12-07/
LOCATION:Epic Community Resource Center\, 697 Old Englewood Rd\, Englewood\, 34223
ATTACH;FMTTYPE=image/png:https://englewoodreview.com/wp-content/uploads/2025/12/Facebook-EPIC-Bike-Clinic-1000-x-980-px.png
END:VEVENT
BEGIN:VEVENT
DTSTART;TZID=America/Halifax:20271209T180000
DTEND;TZID=America/Halifax:20271209T200000
DTSTAMP:20260422T020005
CREATED:20251105T195414Z
LAST-MODIFIED:20251105T195414Z
UID:10021349-1828375200-1828382400@englewoodreview.com
SUMMARY:Healing Strong
DESCRIPTION:Group of people coming together to discuss natural\, non-toxic strategies to heal from cancer\, or other chronic diseases. Free support group.
URL:https://englewoodreview.com/event/healing-strong/2027-12-09/
LOCATION:Epic Community Resource Center\, 697 Old Englewood Rd\, Englewood\, 34223
END:VEVENT
BEGIN:VEVENT
DTSTART;TZID=America/Halifax:20271216T180000
DTEND;TZID=America/Halifax:20271216T200000
DTSTAMP:20260422T020005
CREATED:20251105T195414Z
LAST-MODIFIED:20251105T195414Z
UID:10021350-1828980000-1828987200@englewoodreview.com
SUMMARY:Healing Strong
DESCRIPTION:Group of people coming together to discuss natural\, non-toxic strategies to heal from cancer\, or other chronic diseases. Free support group.
URL:https://englewoodreview.com/event/healing-strong/2027-12-16/
LOCATION:Epic Community Resource Center\, 697 Old Englewood Rd\, Englewood\, 34223
END:VEVENT
BEGIN:VEVENT
DTSTART;TZID=America/Halifax:20271223T180000
DTEND;TZID=America/Halifax:20271223T200000
DTSTAMP:20260422T020005
CREATED:20251105T195414Z
LAST-MODIFIED:20251105T195414Z
UID:10021351-1829584800-1829592000@englewoodreview.com
SUMMARY:Healing Strong
DESCRIPTION:Group of people coming together to discuss natural\, non-toxic strategies to heal from cancer\, or other chronic diseases. Free support group.
URL:https://englewoodreview.com/event/healing-strong/2027-12-23/
LOCATION:Epic Community Resource Center\, 697 Old Englewood Rd\, Englewood\, 34223
END:VEVENT
BEGIN:VEVENT
DTSTART;TZID=America/Halifax:20271230T180000
DTEND;TZID=America/Halifax:20271230T200000
DTSTAMP:20260422T020005
CREATED:20251105T195414Z
LAST-MODIFIED:20251105T195414Z
UID:10021352-1830189600-1830196800@englewoodreview.com
SUMMARY:Healing Strong
DESCRIPTION:Group of people coming together to discuss natural\, non-toxic strategies to heal from cancer\, or other chronic diseases. Free support group.
URL:https://englewoodreview.com/event/healing-strong/2027-12-30/
LOCATION:Epic Community Resource Center\, 697 Old Englewood Rd\, Englewood\, 34223
END:VEVENT
BEGIN:VEVENT
DTSTART;TZID=America/Halifax:20280104T100000
DTEND;TZID=America/Halifax:20280104T120000
DTSTAMP:20260422T020005
CREATED:20251223T161924Z
LAST-MODIFIED:20260130T162241Z
UID:10023611-1830592800-1830600000@englewoodreview.com
SUMMARY:EPIC Bike Clinic
DESCRIPTION:Everyone is Welcome! Come repair your bike for free! Tools and parts provided. Come repair your bike with assistance from maintenance advisors!\nFirst Tuesday of every month from 10am-noon at EPIC Community Resource Center 697 Old Englewood Rd. Englewood. \n*No eBikes
URL:https://englewoodreview.com/event/epic-bike-clinic/2028-01-04/
LOCATION:Epic Community Resource Center\, 697 Old Englewood Rd\, Englewood\, 34223
ATTACH;FMTTYPE=image/png:https://englewoodreview.com/wp-content/uploads/2025/12/Facebook-EPIC-Bike-Clinic-1000-x-980-px.png
END:VEVENT
BEGIN:VEVENT
DTSTART;TZID=America/Halifax:20280106T180000
DTEND;TZID=America/Halifax:20280106T200000
DTSTAMP:20260422T020005
CREATED:20251105T195414Z
LAST-MODIFIED:20251105T195414Z
UID:10021353-1830794400-1830801600@englewoodreview.com
SUMMARY:Healing Strong
DESCRIPTION:Group of people coming together to discuss natural\, non-toxic strategies to heal from cancer\, or other chronic diseases. Free support group.
URL:https://englewoodreview.com/event/healing-strong/2028-01-06/
LOCATION:Epic Community Resource Center\, 697 Old Englewood Rd\, Englewood\, 34223
END:VEVENT
BEGIN:VEVENT
DTSTART;TZID=America/Halifax:20280113T180000
DTEND;TZID=America/Halifax:20280113T200000
DTSTAMP:20260422T020005
CREATED:20251105T195414Z
LAST-MODIFIED:20251105T195414Z
UID:10021354-1831399200-1831406400@englewoodreview.com
SUMMARY:Healing Strong
DESCRIPTION:Group of people coming together to discuss natural\, non-toxic strategies to heal from cancer\, or other chronic diseases. Free support group.
URL:https://englewoodreview.com/event/healing-strong/2028-01-13/
LOCATION:Epic Community Resource Center\, 697 Old Englewood Rd\, Englewood\, 34223
END:VEVENT
BEGIN:VEVENT
DTSTART;TZID=America/Halifax:20280120T180000
DTEND;TZID=America/Halifax:20280120T200000
DTSTAMP:20260422T020005
CREATED:20251105T195414Z
LAST-MODIFIED:20251105T195414Z
UID:10021355-1832004000-1832011200@englewoodreview.com
SUMMARY:Healing Strong
DESCRIPTION:Group of people coming together to discuss natural\, non-toxic strategies to heal from cancer\, or other chronic diseases. Free support group.
URL:https://englewoodreview.com/event/healing-strong/2028-01-20/
LOCATION:Epic Community Resource Center\, 697 Old Englewood Rd\, Englewood\, 34223
END:VEVENT
BEGIN:VEVENT
DTSTART;TZID=America/Halifax:20280127T180000
DTEND;TZID=America/Halifax:20280127T200000
DTSTAMP:20260422T020005
CREATED:20251105T195414Z
LAST-MODIFIED:20251105T195414Z
UID:10021356-1832608800-1832616000@englewoodreview.com
SUMMARY:Healing Strong
DESCRIPTION:Group of people coming together to discuss natural\, non-toxic strategies to heal from cancer\, or other chronic diseases. Free support group.
URL:https://englewoodreview.com/event/healing-strong/2028-01-27/
LOCATION:Epic Community Resource Center\, 697 Old Englewood Rd\, Englewood\, 34223
END:VEVENT
BEGIN:VEVENT
DTSTART;TZID=America/Halifax:20280201T100000
DTEND;TZID=America/Halifax:20280201T120000
DTSTAMP:20260422T020005
CREATED:20251223T161924Z
LAST-MODIFIED:20260130T162241Z
UID:10023612-1833012000-1833019200@englewoodreview.com
SUMMARY:EPIC Bike Clinic
DESCRIPTION:Everyone is Welcome! Come repair your bike for free! Tools and parts provided. Come repair your bike with assistance from maintenance advisors!\nFirst Tuesday of every month from 10am-noon at EPIC Community Resource Center 697 Old Englewood Rd. Englewood. \n*No eBikes
URL:https://englewoodreview.com/event/epic-bike-clinic/2028-02-01/
LOCATION:Epic Community Resource Center\, 697 Old Englewood Rd\, Englewood\, 34223
ATTACH;FMTTYPE=image/png:https://englewoodreview.com/wp-content/uploads/2025/12/Facebook-EPIC-Bike-Clinic-1000-x-980-px.png
END:VEVENT
BEGIN:VEVENT
DTSTART;TZID=America/Halifax:20280203T180000
DTEND;TZID=America/Halifax:20280203T200000
DTSTAMP:20260422T020005
CREATED:20251105T195414Z
LAST-MODIFIED:20251105T195414Z
UID:10021357-1833213600-1833220800@englewoodreview.com
SUMMARY:Healing Strong
DESCRIPTION:Group of people coming together to discuss natural\, non-toxic strategies to heal from cancer\, or other chronic diseases. Free support group.
URL:https://englewoodreview.com/event/healing-strong/2028-02-03/
LOCATION:Epic Community Resource Center\, 697 Old Englewood Rd\, Englewood\, 34223
END:VEVENT
BEGIN:VEVENT
DTSTART;TZID=America/Halifax:20280210T180000
DTEND;TZID=America/Halifax:20280210T200000
DTSTAMP:20260422T020005
CREATED:20251105T195414Z
LAST-MODIFIED:20251105T195414Z
UID:10021358-1833818400-1833825600@englewoodreview.com
SUMMARY:Healing Strong
DESCRIPTION:Group of people coming together to discuss natural\, non-toxic strategies to heal from cancer\, or other chronic diseases. Free support group.
URL:https://englewoodreview.com/event/healing-strong/2028-02-10/
LOCATION:Epic Community Resource Center\, 697 Old Englewood Rd\, Englewood\, 34223
END:VEVENT
BEGIN:VEVENT
DTSTART;TZID=America/Halifax:20280217T180000
DTEND;TZID=America/Halifax:20280217T200000
DTSTAMP:20260422T020005
CREATED:20251105T195414Z
LAST-MODIFIED:20251105T195414Z
UID:10021359-1834423200-1834430400@englewoodreview.com
SUMMARY:Healing Strong
DESCRIPTION:Group of people coming together to discuss natural\, non-toxic strategies to heal from cancer\, or other chronic diseases. Free support group.
URL:https://englewoodreview.com/event/healing-strong/2028-02-17/
LOCATION:Epic Community Resource Center\, 697 Old Englewood Rd\, Englewood\, 34223
END:VEVENT
BEGIN:VEVENT
DTSTART;TZID=America/Halifax:20280224T180000
DTEND;TZID=America/Halifax:20280224T200000
DTSTAMP:20260422T020005
CREATED:20251105T195414Z
LAST-MODIFIED:20251105T195414Z
UID:10021360-1835028000-1835035200@englewoodreview.com
SUMMARY:Healing Strong
DESCRIPTION:Group of people coming together to discuss natural\, non-toxic strategies to heal from cancer\, or other chronic diseases. Free support group.
URL:https://englewoodreview.com/event/healing-strong/2028-02-24/
LOCATION:Epic Community Resource Center\, 697 Old Englewood Rd\, Englewood\, 34223
END:VEVENT
BEGIN:VEVENT
DTSTART;TZID=America/Halifax:20280302T180000
DTEND;TZID=America/Halifax:20280302T200000
DTSTAMP:20260422T020005
CREATED:20251105T195414Z
LAST-MODIFIED:20251105T195414Z
UID:10021361-1835632800-1835640000@englewoodreview.com
SUMMARY:Healing Strong
DESCRIPTION:Group of people coming together to discuss natural\, non-toxic strategies to heal from cancer\, or other chronic diseases. Free support group.
URL:https://englewoodreview.com/event/healing-strong/2028-03-02/
LOCATION:Epic Community Resource Center\, 697 Old Englewood Rd\, Englewood\, 34223
END:VEVENT
BEGIN:VEVENT
DTSTART;TZID=America/Halifax:20280307T100000
DTEND;TZID=America/Halifax:20280307T120000
DTSTAMP:20260422T020005
CREATED:20251223T161924Z
LAST-MODIFIED:20260130T162241Z
UID:10023613-1836036000-1836043200@englewoodreview.com
SUMMARY:EPIC Bike Clinic
DESCRIPTION:Everyone is Welcome! Come repair your bike for free! Tools and parts provided. Come repair your bike with assistance from maintenance advisors!\nFirst Tuesday of every month from 10am-noon at EPIC Community Resource Center 697 Old Englewood Rd. Englewood. \n*No eBikes
URL:https://englewoodreview.com/event/epic-bike-clinic/2028-03-07/
LOCATION:Epic Community Resource Center\, 697 Old Englewood Rd\, Englewood\, 34223
ATTACH;FMTTYPE=image/png:https://englewoodreview.com/wp-content/uploads/2025/12/Facebook-EPIC-Bike-Clinic-1000-x-980-px.png
END:VEVENT
BEGIN:VEVENT
DTSTART;TZID=America/Halifax:20280309T180000
DTEND;TZID=America/Halifax:20280309T200000
DTSTAMP:20260422T020005
CREATED:20251105T195414Z
LAST-MODIFIED:20251105T195414Z
UID:10021362-1836237600-1836244800@englewoodreview.com
SUMMARY:Healing Strong
DESCRIPTION:Group of people coming together to discuss natural\, non-toxic strategies to heal from cancer\, or other chronic diseases. Free support group.
URL:https://englewoodreview.com/event/healing-strong/2028-03-09/
LOCATION:Epic Community Resource Center\, 697 Old Englewood Rd\, Englewood\, 34223
END:VEVENT
BEGIN:VEVENT
DTSTART;TZID=America/Halifax:20280316T180000
DTEND;TZID=America/Halifax:20280316T200000
DTSTAMP:20260422T020005
CREATED:20251105T195414Z
LAST-MODIFIED:20251105T195414Z
UID:10021363-1836842400-1836849600@englewoodreview.com
SUMMARY:Healing Strong
DESCRIPTION:Group of people coming together to discuss natural\, non-toxic strategies to heal from cancer\, or other chronic diseases. Free support group.
URL:https://englewoodreview.com/event/healing-strong/2028-03-16/
LOCATION:Epic Community Resource Center\, 697 Old Englewood Rd\, Englewood\, 34223
END:VEVENT
BEGIN:VEVENT
DTSTART;TZID=America/Halifax:20280323T180000
DTEND;TZID=America/Halifax:20280323T200000
DTSTAMP:20260422T020005
CREATED:20251105T195414Z
LAST-MODIFIED:20251105T195414Z
UID:10021364-1837447200-1837454400@englewoodreview.com
SUMMARY:Healing Strong
DESCRIPTION:Group of people coming together to discuss natural\, non-toxic strategies to heal from cancer\, or other chronic diseases. Free support group.
URL:https://englewoodreview.com/event/healing-strong/2028-03-23/
LOCATION:Epic Community Resource Center\, 697 Old Englewood Rd\, Englewood\, 34223
END:VEVENT
BEGIN:VEVENT
DTSTART;TZID=America/Halifax:20280330T180000
DTEND;TZID=America/Halifax:20280330T200000
DTSTAMP:20260422T020005
CREATED:20251105T195414Z
LAST-MODIFIED:20251105T195414Z
UID:10021365-1838052000-1838059200@englewoodreview.com
SUMMARY:Healing Strong
DESCRIPTION:Group of people coming together to discuss natural\, non-toxic strategies to heal from cancer\, or other chronic diseases. Free support group.
URL:https://englewoodreview.com/event/healing-strong/2028-03-30/
LOCATION:Epic Community Resource Center\, 697 Old Englewood Rd\, Englewood\, 34223
END:VEVENT
BEGIN:VEVENT
DTSTART;TZID=America/Halifax:20280404T100000
DTEND;TZID=America/Halifax:20280404T120000
DTSTAMP:20260422T020005
CREATED:20251223T161924Z
LAST-MODIFIED:20260130T162241Z
UID:10023614-1838455200-1838462400@englewoodreview.com
SUMMARY:EPIC Bike Clinic
DESCRIPTION:Everyone is Welcome! Come repair your bike for free! Tools and parts provided. Come repair your bike with assistance from maintenance advisors!\nFirst Tuesday of every month from 10am-noon at EPIC Community Resource Center 697 Old Englewood Rd. Englewood. \n*No eBikes
URL:https://englewoodreview.com/event/epic-bike-clinic/2028-04-04/
LOCATION:Epic Community Resource Center\, 697 Old Englewood Rd\, Englewood\, 34223
ATTACH;FMTTYPE=image/png:https://englewoodreview.com/wp-content/uploads/2025/12/Facebook-EPIC-Bike-Clinic-1000-x-980-px.png
END:VEVENT
END:VCALENDAR